BEGIN:VCALENDAR
VERSION:2.0
PRODID:-//Wellness Events Calendar - ECPv6.11.2//NONSGML v1.0//EN
CALSCALE:GREGORIAN
METHOD:PUBLISH
X-WR-CALNAME:Wellness Events Calendar
X-ORIGINAL-URL:https://wellnesscalendar.rutgers.edu
X-WR-CALDESC:Events for Wellness Events Calendar
REFRESH-INTERVAL;VALUE=DURATION:PT1H
X-Robots-Tag:noindex
X-PUBLISHED-TTL:PT1H
BEGIN:VTIMEZONE
TZID:America/New_York
BEGIN:DAYLIGHT
TZOFFSETFROM:-0500
TZOFFSETTO:-0400
TZNAME:EDT
DTSTART:20240310T070000
END:DAYLIGHT
BEGIN:STANDARD
TZOFFSETFROM:-0400
TZOFFSETTO:-0500
TZNAME:EST
DTSTART:20241103T060000
END:STANDARD
END:VTIMEZONE
BEGIN:VEVENT
DTSTART;TZID=America/New_York:20241104T150000
DTEND;TZID=America/New_York:20241104T163000
DTSTAMP:20260423T204133
CREATED:20241031T182033Z
LAST-MODIFIED:20241031T182406Z
UID:10000627-1730732400-1730737800@wellnesscalendar.rutgers.edu
SUMMARY:The Art of Presence: A Free Photography Workshop
DESCRIPTION:Learn how to use photography to slow your mind and body\, create community\, and explore beauty in the everyday. All levels are welcome – just bring a smartphone. Register via email: rhg55@scarletmail.rutgers.edu. Event is at Alexander Library\, College Ave.\,  Room 128D
URL:https://wellnesscalendar.rutgers.edu/event/the-art-of-presence-a-free-photography-workshop/
LOCATION:Alexander Library\, College Ave Campus\, 169 College Ave\, New Brunswick\, 08901\, United States
CATEGORIES:Art/Music,Emotional/Mental Health
ATTACH;FMTTYPE=image/jpeg:https://wellnesscalendar.rutgers.edu/wp-content/uploads/2024/10/the-art-of-presence-image.jpg
END:VEVENT
BEGIN:VEVENT
DTSTART;TZID=America/New_York:20241104T230000
DTEND;TZID=America/New_York:20241105T000000
DTSTAMP:20260423T204133
CREATED:20241101T003312Z
LAST-MODIFIED:20241101T003617Z
UID:10000695-1730761200-1730764800@wellnesscalendar.rutgers.edu
SUMMARY:Collage vs. Overwhelm - Art Making Workshop
DESCRIPTION:Come join us and unwind with a collage-making session led by Scarlet Arts Rx’s Teaching Artist Sacha Vega and hosted by Rutgers GRADient. Scarlet Arts Rx is excited to be collaborating with Rutgers GRADient to bring this de-stressing art making event to Rutgers – NB graduate students. Food and all materials will be provided. No experience necessary.
URL:https://wellnesscalendar.rutgers.edu/event/collage-vs-overwhelm-artmaking-workshop/
LOCATION:Graduate Student Lounge\, 126 College Avenue\, New Brunswick\, NJ\, 08901\, United States
CATEGORIES:Art/Music
ATTACH;FMTTYPE=image/jpeg:https://wellnesscalendar.rutgers.edu/wp-content/uploads/2024/10/10_16_flyer_wlogos-2.jpg
END:VEVENT
END:VCALENDAR