BEGIN:VCALENDAR
VERSION:2.0
PRODID:-//Wellness Events Calendar - ECPv6.11.2//NONSGML v1.0//EN
CALSCALE:GREGORIAN
METHOD:PUBLISH
X-WR-CALNAME:Wellness Events Calendar
X-ORIGINAL-URL:https://wellnesscalendar.rutgers.edu
X-WR-CALDESC:Events for Wellness Events Calendar
REFRESH-INTERVAL;VALUE=DURATION:PT1H
X-Robots-Tag:noindex
X-PUBLISHED-TTL:PT1H
BEGIN:VTIMEZONE
TZID:America/New_York
BEGIN:DAYLIGHT
TZOFFSETFROM:-0500
TZOFFSETTO:-0400
TZNAME:EDT
DTSTART:20240310T070000
END:DAYLIGHT
BEGIN:STANDARD
TZOFFSETFROM:-0400
TZOFFSETTO:-0500
TZNAME:EST
DTSTART:20241103T060000
END:STANDARD
END:VTIMEZONE
BEGIN:VEVENT
DTSTART;TZID=America/New_York:20241106T160000
DTEND;TZID=America/New_York:20241106T180000
DTSTAMP:20260423T232606
CREATED:20241031T175636Z
LAST-MODIFIED:20241031T175636Z
UID:10000622-1730908800-1730916000@wellnesscalendar.rutgers.edu
SUMMARY:The Inside Out Workshop
DESCRIPTION:Join us for a two-hour playful workshop learning simple exercises and information to develop a healthy relationship with emotions like anger\, sadness\, fear\, and happiness. Offered at the MGSA Performing Arts Center (Douglass Campus) in Studio 101\, on select Wednesdays (in November 2024 and February 2025). Registration required.
URL:https://wellnesscalendar.rutgers.edu/event/the-inside-out-workshop/
LOCATION:Mason Gross Performing Arts Center – Douglass Campus\, 85 George Street\, Studio 101\, New Brunswick\, 08901\, United States
CATEGORIES:Art/Music,Emotional/Mental Health,Physical/Movement
ATTACH;FMTTYPE=image/jpeg:https://wellnesscalendar.rutgers.edu/wp-content/uploads/2024/10/AdobeStock_386185117.jpeg
END:VEVENT
BEGIN:VEVENT
DTSTART;TZID=America/New_York:20241106T170000
DTEND;TZID=America/New_York:20241106T180000
DTSTAMP:20260423T232606
CREATED:20241031T234939Z
LAST-MODIFIED:20241031T235531Z
UID:10000637-1730912400-1730916000@wellnesscalendar.rutgers.edu
SUMMARY:Graduate Student Yoga
DESCRIPTION:Graduate Student Yoga is back! Join us on Wednesdays to take a pause from your busy week by practicing Yoga and relaxing your mind and body with your fellow graduate students. Hosted by Rutgers Recreation and Office of Graduate Student Life. No Registration Needed. Yoga mats and blocks are provided\, and all skill levels are welcome!
URL:https://wellnesscalendar.rutgers.edu/event/graduate-student-yoga/2024-11-06/
LOCATION:Graduate Student Lounge\, 126 College Avenue\, New Brunswick\, NJ\, 08901\, United States
CATEGORIES:Physical/Movement
ATTACH;FMTTYPE=image/jpeg:https://wellnesscalendar.rutgers.edu/wp-content/uploads/2024/10/Rec_P1314_Yoga_For_Grad_Students_F24_Facebook.jpg
ORGANIZER;CN="Graduate Student Life":MAILTO:gradstudentlife@echo.rutgers.edu
END:VEVENT
END:VCALENDAR