BEGIN:VCALENDAR
VERSION:2.0
PRODID:-//Wellness Events Calendar - ECPv6.11.2//NONSGML v1.0//EN
CALSCALE:GREGORIAN
METHOD:PUBLISH
X-WR-CALNAME:Wellness Events Calendar
X-ORIGINAL-URL:https://wellnesscalendar.rutgers.edu
X-WR-CALDESC:Events for Wellness Events Calendar
REFRESH-INTERVAL;VALUE=DURATION:PT1H
X-Robots-Tag:noindex
X-PUBLISHED-TTL:PT1H
BEGIN:VTIMEZONE
TZID:America/New_York
BEGIN:DAYLIGHT
TZOFFSETFROM:-0500
TZOFFSETTO:-0400
TZNAME:EDT
DTSTART:20240310T070000
END:DAYLIGHT
BEGIN:STANDARD
TZOFFSETFROM:-0400
TZOFFSETTO:-0500
TZNAME:EST
DTSTART:20241103T060000
END:STANDARD
END:VTIMEZONE
BEGIN:VEVENT
DTSTART;TZID=America/New_York:20241119T143000
DTEND;TZID=America/New_York:20241119T153000
DTSTAMP:20260424T045524
CREATED:20241106T190414Z
LAST-MODIFIED:20241106T190602Z
UID:10000719-1732026600-1732030200@wellnesscalendar.rutgers.edu
SUMMARY:Kicking it with CAPS- Who am I? Knowing why you belong
DESCRIPTION:In this series\, you will learn to acknowledge yourself and tear down the walls of imposter syndrome. You will begin to understand that you are enough\, while exploring how you show up for yourself and have no need to compete with others. Different themes and senses explored each week.  See flyer for details:  https://rutgers.yul1.qualtrics.com/ControlPanel/File.php?F=F_2agcR20itAk8UWN
URL:https://wellnesscalendar.rutgers.edu/event/kicking-it-with-caps-who-am-i-knowing-why-you-belong-2/2024-11-19/
LOCATION:College Ave Campus\, Honors College\, 5 Seminary Place\, New Brunswick\, NJ\, 08901\, United States
CATEGORIES:Emotional/Mental Health
ATTACH;FMTTYPE=image/jpeg:https://wellnesscalendar.rutgers.edu/wp-content/uploads/2024/11/AdobeStock_505530948.jpeg
END:VEVENT
BEGIN:VEVENT
DTSTART;TZID=America/New_York:20241119T170000
DTEND;TZID=America/New_York:20241119T180000
DTSTAMP:20260424T045524
CREATED:20240923T153600Z
LAST-MODIFIED:20241021T160741Z
UID:10000168-1732035600-1732039200@wellnesscalendar.rutgers.edu
SUMMARY:Weekly Yoga Classes
DESCRIPTION:Rutgers Health students are invited to join us for yoga from 5–6 p.m. on Tuesdays through December 17. Yoga has been shown to improve flexibility\, balance\, strength\, and reduce stress. \nEquipment is provided\, but feel free to bring your own mat or towel. Taught by certified instructors. No sign-up required. \nClasses take place in the Medical Sciences Building\, Rosemary Gellene Room. \nFunded by the Mental Health Community Provider Partnerships and Professional Development Grant.
URL:https://wellnesscalendar.rutgers.edu/event/209/2024-11-19/
LOCATION:Medical Sciences Building\, 185 South Orange Avenue\, Newark\, NJ\, 07103\, United States
CATEGORIES:Physical/Movement
ATTACH;FMTTYPE=image/jpeg:https://wellnesscalendar.rutgers.edu/wp-content/uploads/2024/09/AdobeStock_142849657-1.jpeg
END:VEVENT
END:VCALENDAR