BEGIN:VCALENDAR
VERSION:2.0
PRODID:-//Wellness Events Calendar - ECPv6.11.2//NONSGML v1.0//EN
CALSCALE:GREGORIAN
METHOD:PUBLISH
X-ORIGINAL-URL:https://wellnesscalendar.rutgers.edu
X-WR-CALDESC:Events for Wellness Events Calendar
REFRESH-INTERVAL;VALUE=DURATION:PT1H
X-Robots-Tag:noindex
X-PUBLISHED-TTL:PT1H
BEGIN:VTIMEZONE
TZID:America/New_York
BEGIN:DAYLIGHT
TZOFFSETFROM:-0500
TZOFFSETTO:-0400
TZNAME:EDT
DTSTART:20240310T070000
END:DAYLIGHT
BEGIN:STANDARD
TZOFFSETFROM:-0400
TZOFFSETTO:-0500
TZNAME:EST
DTSTART:20241103T060000
END:STANDARD
END:VTIMEZONE
BEGIN:VEVENT
DTSTART;TZID=America/New_York:20241120T120000
DTEND;TZID=America/New_York:20241120T131500
DTSTAMP:20260424T031909
CREATED:20241118T155135Z
LAST-MODIFIED:20241118T155846Z
UID:10001219-1732104000-1732108500@wellnesscalendar.rutgers.edu
SUMMARY:Floriculture Greenhouse Photography Session!
DESCRIPTION:Do you love plants? Do you love nature? Do you love photography? Do you love art? Do you want to hang out and learn how to rock a DSLR camera and learn about the beauty around us in the cozy warmth of a floriculture greenhouse? Join us for a free instructional photography session at the Floriculture Greenhouse on Cook/Douglass!  No prior photography experience required. DSLR cameras and instruction will be provided – or feel free to bring your own camera! Led by Eliza Lu Doyle for Scarlet Arts Rx.  Open to all RU students. Snacks provided!
URL:https://wellnesscalendar.rutgers.edu/event/floriculture-greenhouse-photography-session/
LOCATION:Douglass Campus\, Floriculture Greenhouse\, 64 Nichol Ave\, New Brunswick\, 08901\, United States
CATEGORIES:Art/Music,Emotional/Mental Health,Environment/Nature
ATTACH;FMTTYPE=image/jpeg:https://wellnesscalendar.rutgers.edu/wp-content/uploads/2024/11/AdobeStock_681311783_Editorial_Use_Only-1.jpeg
END:VEVENT
BEGIN:VEVENT
DTSTART;TZID=America/New_York:20241120T123000
DTEND;TZID=America/New_York:20241120T131500
DTSTAMP:20260424T031909
CREATED:20241112T145504Z
LAST-MODIFIED:20241112T161711Z
UID:10001165-1732105800-1732108500@wellnesscalendar.rutgers.edu
SUMMARY:Kirkpatrick Chapel Lunchtime Music Performance Series
DESCRIPTION:Drop in and de-stress with a lunchtime music performance series in the beautiful Kirkpatrick Cathedral. Sponsored by Scarlet Arts Rx. Bring and eat your lunch inside the chapel. Learn about the connection between music and well-being!
URL:https://wellnesscalendar.rutgers.edu/event/kirkpatrick-chapel-lunchtime-music-performance-series/2024-11-20/
LOCATION:College Ave Campus\, Kirkpatrick Chapel\, 81 Somerset St\, New Brunswick\, 08901\, United States
CATEGORIES:Art/Music
ATTACH;FMTTYPE=image/png:https://wellnesscalendar.rutgers.edu/wp-content/uploads/2024/11/Kirkpatrick.png
END:VEVENT
BEGIN:VEVENT
DTSTART;TZID=America/New_York:20241120T123000
DTEND;TZID=America/New_York:20241120T133000
DTSTAMP:20260424T031909
CREATED:20241120T182550Z
LAST-MODIFIED:20241120T182550Z
UID:10001224-1732105800-1732109400@wellnesscalendar.rutgers.edu
SUMMARY:Graduate Wellness Workshop: Working through Anger\, Resentment\, and Conflict
DESCRIPTION:Join CAPS Community-based counselor Dana for a workshop on techniques and strategies for addressing conflict and letting go of resentment. Explore conversations about anger as a healthy emotion\, and talk about the various ways it can be expressed and discharged in a productive way.
URL:https://wellnesscalendar.rutgers.edu/event/graduate-wellness-workshop-working-through-anger-resentment-and-conflict/
CATEGORIES:Other
ATTACH;FMTTYPE=image/jpeg:https://wellnesscalendar.rutgers.edu/wp-content/uploads/2024/11/AdobeStock_313274778.jpeg
END:VEVENT
BEGIN:VEVENT
DTSTART;TZID=America/New_York:20241120T160000
DTEND;TZID=America/New_York:20241120T180000
DTSTAMP:20260424T031909
CREATED:20241031T175812Z
LAST-MODIFIED:20241031T175812Z
UID:10000623-1732118400-1732125600@wellnesscalendar.rutgers.edu
SUMMARY:The Inside Out Workshop
DESCRIPTION:Join us for a two-hour playful workshop learning simple exercises and information to develop a healthy relationship with emotions like anger\, sadness\, fear\, and happiness. Offered at the MGSA Performing Arts Center (Douglass Campus) in Studio 101\, on select Wednesdays (in November 2024 and February 2025). Registration required.
URL:https://wellnesscalendar.rutgers.edu/event/the-inside-out-workshop-2/
LOCATION:Mason Gross Performing Arts Center – Douglass Campus\, 85 George Street\, Studio 101\, New Brunswick\, 08901\, United States
CATEGORIES:Art/Music,Emotional/Mental Health,Physical/Movement
ATTACH;FMTTYPE=image/jpeg:https://wellnesscalendar.rutgers.edu/wp-content/uploads/2024/10/AdobeStock_386185117.jpeg
END:VEVENT
BEGIN:VEVENT
DTSTART;TZID=America/New_York:20241120T170000
DTEND;TZID=America/New_York:20241120T180000
DTSTAMP:20260424T031909
CREATED:20241031T234939Z
LAST-MODIFIED:20241031T235531Z
UID:10000639-1732122000-1732125600@wellnesscalendar.rutgers.edu
SUMMARY:Graduate Student Yoga
DESCRIPTION:Graduate Student Yoga is back! Join us on Wednesdays to take a pause from your busy week by practicing Yoga and relaxing your mind and body with your fellow graduate students. Hosted by Rutgers Recreation and Office of Graduate Student Life. No Registration Needed. Yoga mats and blocks are provided\, and all skill levels are welcome!
URL:https://wellnesscalendar.rutgers.edu/event/graduate-student-yoga/2024-11-20/
LOCATION:Graduate Student Lounge\, 126 College Avenue\, New Brunswick\, NJ\, 08901\, United States
CATEGORIES:Physical/Movement
ATTACH;FMTTYPE=image/jpeg:https://wellnesscalendar.rutgers.edu/wp-content/uploads/2024/10/Rec_P1314_Yoga_For_Grad_Students_F24_Facebook.jpg
ORGANIZER;CN="Graduate Student Life":MAILTO:gradstudentlife@echo.rutgers.edu
END:VEVENT
END:VCALENDAR