BEGIN:VCALENDAR
VERSION:2.0
PRODID:-//Wellness Events Calendar - ECPv6.11.2//NONSGML v1.0//EN
CALSCALE:GREGORIAN
METHOD:PUBLISH
X-ORIGINAL-URL:https://wellnesscalendar.rutgers.edu
X-WR-CALDESC:Events for Wellness Events Calendar
REFRESH-INTERVAL;VALUE=DURATION:PT1H
X-Robots-Tag:noindex
X-PUBLISHED-TTL:PT1H
BEGIN:VTIMEZONE
TZID:America/New_York
BEGIN:DAYLIGHT
TZOFFSETFROM:-0500
TZOFFSETTO:-0400
TZNAME:EDT
DTSTART:20240310T070000
END:DAYLIGHT
BEGIN:STANDARD
TZOFFSETFROM:-0400
TZOFFSETTO:-0500
TZNAME:EST
DTSTART:20241103T060000
END:STANDARD
END:VTIMEZONE
BEGIN:VEVENT
DTSTART;TZID=America/New_York:20241121T150000
DTEND;TZID=America/New_York:20241121T160000
DTSTAMP:20260424T172703
CREATED:20241106T185139Z
LAST-MODIFIED:20241106T185139Z
UID:10000702-1732201200-1732204800@wellnesscalendar.rutgers.edu
SUMMARY:Kicking it with CAPS- Who am I? Knowing why you belong
DESCRIPTION:In this series\, you will learn to acknowledge yourself and tear down the walls of imposter syndrome. You will begin to understand that you are enough\, while exploring how you show up for yourself and have no need to compete with others. Different themes and senses explored each week.  See flyer for details:  https://rutgers.yul1.qualtrics.com/ControlPanel/File.php?F=F_1inAbcHnkdgzNRM
URL:https://wellnesscalendar.rutgers.edu/event/kicking-it-with-caps-who-am-i-knowing-why-you-belong/2024-11-21/
LOCATION:Busch Campus\, Chemistry Building\, 123 Bevier Road\, Room 2105\, Piscataway\, 08901\, United States
CATEGORIES:Emotional/Mental Health
ATTACH;FMTTYPE=image/jpeg:https://wellnesscalendar.rutgers.edu/wp-content/uploads/2024/11/AdobeStock_505530948.jpeg
END:VEVENT
BEGIN:VEVENT
DTSTART;TZID=America/New_York:20241121T190000
DTEND;TZID=America/New_York:20241121T203000
DTSTAMP:20260424T172703
CREATED:20241112T174614Z
LAST-MODIFIED:20241114T154407Z
UID:10001217-1732215600-1732221000@wellnesscalendar.rutgers.edu
SUMMARY:Intercultural Identity Paint and Sip (Multiple Sponsors)
DESCRIPTION:Join us for an evening of creativity and connection at our Intercultural Paint and Sip! Enjoy mocktails\, free prizes\, and guided painting as we explore personal identity and celebrate cultural diversity—all while earning 2 Changemaking Points! Connect with friends\, de-stress\, and discover how art can support your wellness journey. \nDruskin Lounge in Honors College (College Ave. campus).  More details on location below. \nSponsored by:  Rutgers Honors College; Fusion: The Rutgers Union of Mixed People; Rutgers Global (Department at Rutgers University); Scarlet Arts Rx 
URL:https://wellnesscalendar.rutgers.edu/event/intercultural-identity-paint-and-sip/
LOCATION:College Ave Campus\, Honors College\, 5 Seminary Place\, New Brunswick\, NJ\, 08901\, United States
CATEGORIES:Art/Music
ATTACH;FMTTYPE=image/jpeg:https://wellnesscalendar.rutgers.edu/wp-content/uploads/2024/11/AdobeStock_1014230018.jpeg
END:VEVENT
END:VCALENDAR