BEGIN:VCALENDAR
VERSION:2.0
PRODID:-//Wellness Events Calendar - ECPv6.11.2//NONSGML v1.0//EN
CALSCALE:GREGORIAN
METHOD:PUBLISH
X-WR-CALNAME:Wellness Events Calendar
X-ORIGINAL-URL:https://wellnesscalendar.rutgers.edu
X-WR-CALDESC:Events for Wellness Events Calendar
REFRESH-INTERVAL;VALUE=DURATION:PT1H
X-Robots-Tag:noindex
X-PUBLISHED-TTL:PT1H
BEGIN:VTIMEZONE
TZID:America/New_York
BEGIN:DAYLIGHT
TZOFFSETFROM:-0500
TZOFFSETTO:-0400
TZNAME:EDT
DTSTART:20240310T070000
END:DAYLIGHT
BEGIN:STANDARD
TZOFFSETFROM:-0400
TZOFFSETTO:-0500
TZNAME:EST
DTSTART:20241103T060000
END:STANDARD
END:VTIMEZONE
BEGIN:VEVENT
DTSTART;TZID=America/New_York:20241202T090000
DTEND;TZID=America/New_York:20241203T170000
DTSTAMP:20260420T125638
CREATED:20241114T153519Z
LAST-MODIFIED:20241114T153730Z
UID:10001218-1733130000-1733245200@wellnesscalendar.rutgers.edu
SUMMARY:Search Inside Yourself (SIY) - Two-Day Workshop
DESCRIPTION:Search Inside Yourself teaches practical mindfulness\, emotional intelligence and leadership tools to unlock your full potential\, at work and in life.  Join us for this effective two-day workshop. Registration required. Must commit to attending both days.  Register here:  https://rutgers.ca1.qualtrics.com/jfe/form/SV_6JSLmEZbAI6w1tc
URL:https://wellnesscalendar.rutgers.edu/event/search-inside-yourself-siy-two-day-workshop/
LOCATION:Camden Campus Center\, 326 Penn St.\, Camden\, 08102\, United States
CATEGORIES:Emotional/Mental Health,Other
ATTACH;FMTTYPE=image/png:https://wellnesscalendar.rutgers.edu/wp-content/uploads/2024/10/Untitled.png
END:VEVENT
BEGIN:VEVENT
DTSTART;TZID=America/New_York:20241202T193000
DTEND;TZID=America/New_York:20241202T203000
DTSTAMP:20260420T125638
CREATED:20241112T155628Z
LAST-MODIFIED:20241112T160225Z
UID:10001116-1733167800-1733171400@wellnesscalendar.rutgers.edu
SUMMARY:Weekly Meditation
DESCRIPTION:Come join us for our weekly meditation and chat. Register here:  https://rutgers.campuslabs.com/engage/event/10527361
URL:https://wellnesscalendar.rutgers.edu/event/weekly-meditation-2/2024-12-02/
LOCATION:Frelinghuysen Hall\, 611 George St\, Room A6\, New Brunswick\, 08901\, United States
CATEGORIES:Emotional/Mental Health
ATTACH;FMTTYPE=image/jpeg:https://wellnesscalendar.rutgers.edu/wp-content/uploads/2024/11/Meditation-3.jpg
END:VEVENT
END:VCALENDAR