BEGIN:VCALENDAR
VERSION:2.0
PRODID:-//Wellness Events Calendar - ECPv6.11.2//NONSGML v1.0//EN
CALSCALE:GREGORIAN
METHOD:PUBLISH
X-WR-CALNAME:Wellness Events Calendar
X-ORIGINAL-URL:https://wellnesscalendar.rutgers.edu
X-WR-CALDESC:Events for Wellness Events Calendar
REFRESH-INTERVAL;VALUE=DURATION:PT1H
X-Robots-Tag:noindex
X-PUBLISHED-TTL:PT1H
BEGIN:VTIMEZONE
TZID:America/New_York
BEGIN:DAYLIGHT
TZOFFSETFROM:-0500
TZOFFSETTO:-0400
TZNAME:EDT
DTSTART:20240310T070000
END:DAYLIGHT
BEGIN:STANDARD
TZOFFSETFROM:-0400
TZOFFSETTO:-0500
TZNAME:EST
DTSTART:20241103T060000
END:STANDARD
END:VTIMEZONE
BEGIN:VEVENT
DTSTART;TZID=America/New_York:20241220T120000
DTEND;TZID=America/New_York:20241220T120000
DTSTAMP:20260424T022100
CREATED:20241107T192910Z
LAST-MODIFIED:20241107T192910Z
UID:10000796-1734696000-1734696000@wellnesscalendar.rutgers.edu
SUMMARY:International Students Wellness Group
DESCRIPTION:International students struggling with the unique challenges of cross-cultural adjustment may benefit from joining the International Students Wellness Group. This group provides a safe and confidential space for students to discuss various concerns\, and help connect them with other students who may be facing similar issues. This group may cover topics including: homesickness\, loneliness\, language barriers\, discrimination\, social and academic stress. Students who are interested in joining this wellness group\, should call CAPS at 848-932-7884 or talk to their CAPS Clinician about a referral to this wellness group. \nClick HERE to see options for other CAPS wellness groups and for more information about the International Student Wellness Group.
URL:https://wellnesscalendar.rutgers.edu/event/international-students-wellness-group/2024-12-20/
CATEGORIES:Emotional/Mental Health
ATTACH;FMTTYPE=image/jpeg:https://wellnesscalendar.rutgers.edu/wp-content/uploads/2024/11/wellbeing-scaled.jpeg
LOCATION:
END:VEVENT
BEGIN:VEVENT
DTSTART;TZID=America/New_York:20241220T180000
DTEND;TZID=America/New_York:20241220T190000
DTSTAMP:20260424T022100
CREATED:20241217T041547Z
LAST-MODIFIED:20241217T041547Z
UID:10001253-1734717600-1734721200@wellnesscalendar.rutgers.edu
SUMMARY:New Brunswick Libraries Finals Week Series: Coffee\, Candy\, Cookies\, & Fruit
DESCRIPTION:This event is part of the New Brunswick Libraries Finals Week event series\, click HERE to view the full schedule of events. In preparation for finals\, refreshments\, including coffee\, candy\, and fruit\, will be available for students within the Alexander library.
URL:https://wellnesscalendar.rutgers.edu/event/new-brunswick-libraries-finals-week-series-coffee-candy-cookies-fruit/
LOCATION:Alexander Library\, College Ave Campus\, 169 College Ave\, New Brunswick\, 08901\, United States
CATEGORIES:Emotional/Mental Health,Other
ATTACH;FMTTYPE=image/jpeg:https://wellnesscalendar.rutgers.edu/wp-content/uploads/2024/12/coffee_20apple.jpeg
END:VEVENT
END:VCALENDAR