BEGIN:VCALENDAR
VERSION:2.0
PRODID:-//Wellness Events Calendar - ECPv6.11.2//NONSGML v1.0//EN
CALSCALE:GREGORIAN
METHOD:PUBLISH
X-WR-CALNAME:Wellness Events Calendar
X-ORIGINAL-URL:https://wellnesscalendar.rutgers.edu
X-WR-CALDESC:Events for Wellness Events Calendar
REFRESH-INTERVAL;VALUE=DURATION:PT1H
X-Robots-Tag:noindex
X-PUBLISHED-TTL:PT1H
BEGIN:VTIMEZONE
TZID:America/New_York
BEGIN:DAYLIGHT
TZOFFSETFROM:-0500
TZOFFSETTO:-0400
TZNAME:EDT
DTSTART:20250309T070000
END:DAYLIGHT
BEGIN:STANDARD
TZOFFSETFROM:-0400
TZOFFSETTO:-0500
TZNAME:EST
DTSTART:20251102T060000
END:STANDARD
END:VTIMEZONE
BEGIN:VEVENT
DTSTART;TZID=America/New_York:20250211T160000
DTEND;TZID=America/New_York:20250211T180000
DTSTAMP:20260419T125813
CREATED:20250121T164750Z
LAST-MODIFIED:20250122T001711Z
UID:10001366-1739289600-1739296800@wellnesscalendar.rutgers.edu
SUMMARY:Valentine's Day Card Making + Air Dry Clay - Graduate Students Who Are Parents and Caregivers
DESCRIPTION:Bring your children and join the SPCR (Supporting Parents and Caregivers at Rutgers)\, Scarlet Arts Rx\, and the Office for Graduate Student Life for this fun\, family-friendly arts and well-being activity! \nMake Valentine’s Day cards and spread love in the community\, to uplift community well-being\, and to spread positive emotions! \nCraft fun Valentine’s Day-themed air dry clay “roses\,” “chocolates\,” and “animals” that you love! Destress as you do it! \nOne of our wonderful teaching artists will be present\, so parents and guardians can participate or stay nearby in the room and relax!
URL:https://wellnesscalendar.rutgers.edu/event/valentines-day-card-making-air-dry-clay-graduate-students-who-are-parents-and-caregivers/
LOCATION:Graduate Student Lounge\, 126 College Avenue\, New Brunswick\, NJ\, 08901\, United States
CATEGORIES:Art/Music,Emotional/Mental Health
ATTACH;FMTTYPE=image/jpeg:https://wellnesscalendar.rutgers.edu/wp-content/uploads/2025/01/VDay-Card-making.jpg
END:VEVENT
BEGIN:VEVENT
DTSTART;TZID=America/New_York:20250211T183000
DTEND;TZID=America/New_York:20250211T203000
DTSTAMP:20260419T125813
CREATED:20250124T145704Z
LAST-MODIFIED:20250127T143028Z
UID:10001385-1739298600-1739305800@wellnesscalendar.rutgers.edu
SUMMARY:Wellness Through Clay Workshops - Workshop #1\, Part 2 (Paint)
DESCRIPTION:We hope you will join us for this two-part clay workshop with a focus on wellness! \nFour workshops will be offered during the spring semester. Each workshop will have two parts: \nPart 1: Create your clay piece during the first session.\nPart 2: After allowing your piece to dry for two weeks\, return to apply paint\, varnish\, and gloss. \nWe respectfully ask that you commit to attending both parts (1 and 2)\, given the sequential nature of the project. You must create (part 1) in order to paint (part 2)! \nWorkshop 1 – Create: January 28\, Paint: February 11  \nWorkshop 2 – Create: February 25\, Paint: March 11  \nWorkshop 3 – Create: March 25\, Paint: April 8 \n Workshop 4 – Create: April 23*\, Paint: May 6 \n*For workshop #4\, the Create session (Part 1) will be on a Wednesday. All other Create sessions\, and all Paint sessions\, are on Tuesdays. \nhttps://rutgers.yul1.qualtrics.com/ControlPanel/File.php?F=F_vf9QUSnPE76wldn
URL:https://wellnesscalendar.rutgers.edu/event/wellness-through-clay-workshops-workshop-1-part-2-paint/
LOCATION:College Avenue Campus\, The Yard\, 40 College Ave\, New Brunswick\, 08901\, United States
CATEGORIES:Art/Music
ATTACH;FMTTYPE=image/jpeg:https://wellnesscalendar.rutgers.edu/wp-content/uploads/2025/01/AdobeStock_258607606.jpeg
END:VEVENT
END:VCALENDAR