BEGIN:VCALENDAR
VERSION:2.0
PRODID:-//Wellness Events Calendar - ECPv6.11.2//NONSGML v1.0//EN
CALSCALE:GREGORIAN
METHOD:PUBLISH
X-WR-CALNAME:Wellness Events Calendar
X-ORIGINAL-URL:https://wellnesscalendar.rutgers.edu
X-WR-CALDESC:Events for Wellness Events Calendar
REFRESH-INTERVAL;VALUE=DURATION:PT1H
X-Robots-Tag:noindex
X-PUBLISHED-TTL:PT1H
BEGIN:VTIMEZONE
TZID:America/New_York
BEGIN:DAYLIGHT
TZOFFSETFROM:-0500
TZOFFSETTO:-0400
TZNAME:EDT
DTSTART:20250309T070000
END:DAYLIGHT
BEGIN:STANDARD
TZOFFSETFROM:-0400
TZOFFSETTO:-0500
TZNAME:EST
DTSTART:20251102T060000
END:STANDARD
END:VTIMEZONE
BEGIN:VEVENT
DTSTART;TZID=America/New_York:20250213T180000
DTEND;TZID=America/New_York:20250213T190000
DTSTAMP:20260419T083931
CREATED:20250205T202600Z
LAST-MODIFIED:20250205T204916Z
UID:10001859-1739469600-1739473200@wellnesscalendar.rutgers.edu
SUMMARY:Planting A Healthy Mindset - Build a Terrarium!
DESCRIPTION:Feeling stressed?  Come and join us on Cook Campus in the Floriculture Greenhouse to build your own terrarium\, decompress and socialize!
URL:https://wellnesscalendar.rutgers.edu/event/planting-a-healthy-mindset/
LOCATION:Cook Campus – Floriculture Greenhouse\, 64 Nichol Ave\, New Brunswick\, NJ\, 08901\, United States
CATEGORIES:Environment/Nature
ATTACH;FMTTYPE=image/jpeg:https://wellnesscalendar.rutgers.edu/wp-content/uploads/2025/02/AdobeStock_158934270.jpeg
END:VEVENT
BEGIN:VEVENT
DTSTART;TZID=America/New_York:20250213T180000
DTEND;TZID=America/New_York:20250213T200000
DTSTAMP:20260419T083931
CREATED:20250107T212522Z
LAST-MODIFIED:20250107T212522Z
UID:10001257-1739469600-1739476800@wellnesscalendar.rutgers.edu
SUMMARY:For Us\, By Us: Community Line Dancing (A Black History Month Special) 
DESCRIPTION:Welcome to the second class in “Dance Therapy: Growth in 8 Dimensions”– a ScarletWell Initiative and Rutgers Recreations-sponsored event. \nLine dancing is one of many forms of expression in Black culture. You’ll see this style of dance at family functions\, reunions\, and weddings.  This workshop will dive into the world of line dancing where we’ll learn classics like the electric slide to modern trends like Tamia’s and the Cupid’s Shuffle. We invite you to come and learn with us! \nThis class is for all students\, from all backgrounds who want to embrace Black culture with us. \nLocation:  College Ave. Gym (upper gym)
URL:https://wellnesscalendar.rutgers.edu/event/for-us-by-us-community-line-dancing-a-black-history-month-special/
LOCATION:College Ave Gym\, 130 College Ave\, New Brunswick\, 08901\, United States
CATEGORIES:Art/Music,Emotional/Mental Health,Other,Physical/Movement
ATTACH;FMTTYPE=image/jpeg:https://wellnesscalendar.rutgers.edu/wp-content/uploads/2025/01/blackhistorymonthdancing2.jpeg
END:VEVENT
BEGIN:VEVENT
DTSTART;TZID=America/New_York:20250213T190000
DTEND;TZID=America/New_York:20250213T200000
DTSTAMP:20260419T083932
CREATED:20241107T193053Z
LAST-MODIFIED:20241107T193053Z
UID:10001054-1739473200-1739476800@wellnesscalendar.rutgers.edu
SUMMARY:Black Like Me Wellness Series
DESCRIPTION:This monthly workshop series led by CAPS Community Based Counselors Shan Reeves and Kia Alexander\, discusses a variety of topics centered around Blackness at Rutgers\, throughout the US\, and around the world. Engage in meaningful conversations that explore topics such as Black music\, hair\, the monolith myth\, colorism\, and more. \nWorkshops in the Black Like Me Wellness Series take place every second Thursday of the month. For more information\, please reach out to CAPS at 848-932-7884.
URL:https://wellnesscalendar.rutgers.edu/event/black-like-me-wellness-series/2025-02-13/
LOCATION:Paul Robeson Cultural Center\, 600 Bartholomew Road\, Piscataway\, NJ\, 08854\, United States
CATEGORIES:Art/Music,Emotional/Mental Health,Other
ATTACH;FMTTYPE=image/png:https://wellnesscalendar.rutgers.edu/wp-content/uploads/2024/11/Black-like-me.png
END:VEVENT
END:VCALENDAR