BEGIN:VCALENDAR
VERSION:2.0
PRODID:-//Wellness Events Calendar - ECPv6.11.2//NONSGML v1.0//EN
CALSCALE:GREGORIAN
METHOD:PUBLISH
X-WR-CALNAME:Wellness Events Calendar
X-ORIGINAL-URL:https://wellnesscalendar.rutgers.edu
X-WR-CALDESC:Events for Wellness Events Calendar
REFRESH-INTERVAL;VALUE=DURATION:PT1H
X-Robots-Tag:noindex
X-PUBLISHED-TTL:PT1H
BEGIN:VTIMEZONE
TZID:America/New_York
BEGIN:DAYLIGHT
TZOFFSETFROM:-0500
TZOFFSETTO:-0400
TZNAME:EDT
DTSTART:20250309T070000
END:DAYLIGHT
BEGIN:STANDARD
TZOFFSETFROM:-0400
TZOFFSETTO:-0500
TZNAME:EST
DTSTART:20251102T060000
END:STANDARD
END:VTIMEZONE
BEGIN:VEVENT
DTSTART;TZID=America/New_York:20250216T113000
DTEND;TZID=America/New_York:20250216T124500
DTSTAMP:20260424T031228
CREATED:20250211T183213Z
LAST-MODIFIED:20250211T183407Z
UID:10001864-1739705400-1739709900@wellnesscalendar.rutgers.edu
SUMMARY:Rhythm and Recovery: Galentines Contemporary Dance!
DESCRIPTION:Please join us for this “Galentines Contemporary Dance” event\, a Valentine’s Day Special. This class will be an exploration of modern dance that centers love for self and community.  We will workshop improvisation and basic choreography for a holistic dance experience. Class is open to all levels and is beginner-friendly!
URL:https://wellnesscalendar.rutgers.edu/event/rhythm-and-recovery-galentines-contemporary-dance/
LOCATION:Douglass Campus\, Corwin Lodge\, 160 Nichol Ave\, New Brunswick\, 08901\, United States
CATEGORIES:Art/Music,Physical/Movement
ATTACH;FMTTYPE=image/png:https://wellnesscalendar.rutgers.edu/wp-content/uploads/2025/02/Galentines-Rhythm-and-Recovery-1.png
END:VEVENT
END:VCALENDAR