BEGIN:VCALENDAR
VERSION:2.0
PRODID:-//Wellness Events Calendar - ECPv6.11.2//NONSGML v1.0//EN
CALSCALE:GREGORIAN
METHOD:PUBLISH
X-WR-CALNAME:Wellness Events Calendar
X-ORIGINAL-URL:https://wellnesscalendar.rutgers.edu
X-WR-CALDESC:Events for Wellness Events Calendar
REFRESH-INTERVAL;VALUE=DURATION:PT1H
X-Robots-Tag:noindex
X-PUBLISHED-TTL:PT1H
BEGIN:VTIMEZONE
TZID:America/New_York
BEGIN:DAYLIGHT
TZOFFSETFROM:-0500
TZOFFSETTO:-0400
TZNAME:EDT
DTSTART:20250309T070000
END:DAYLIGHT
BEGIN:STANDARD
TZOFFSETFROM:-0400
TZOFFSETTO:-0500
TZNAME:EST
DTSTART:20251102T060000
END:STANDARD
END:VTIMEZONE
BEGIN:VEVENT
DTSTART;VALUE=DATE:20250217
DTEND;VALUE=DATE:20250416
DTSTAMP:20260419T103049
CREATED:20250214T155124Z
LAST-MODIFIED:20250214T155124Z
UID:10001887-1739750400-1744761599@wellnesscalendar.rutgers.edu
SUMMARY:Adult Swim! Sponsored by Rutgers Recreation
DESCRIPTION:Join Rutgers Recreation for Adult Swimming Lessons and take the plunge into learning or improving your swimming skills! Whether you’re a beginner or just looking to refine your technique\, these lessons are designed to help you build confidence and comfort in the water. \nWhy Join?\n– Professional swim instructors\n– Supportive and fun learning environment\n– Personalized attention for all skill levels \nLessons will be offered from February 17 through April 15\, at different times depending on the day. Please visit http://go.rutgers.edu/adultswim for more details \nLocations: \nBeginner-Advanced: Werblin Rec Center pool (Busch campus) \nWomen-s only: College Ave Rec Center pool (College Ave. campus) \nRegistration cost: $120 \nRegister now at: rec.rutgers.edu
URL:https://wellnesscalendar.rutgers.edu/event/adult-swim-sponsored-by-rutgers-recreation/
LOCATION:Multiple Rec Centers\, various\, New Brunswick\, 08901\, United States
CATEGORIES:Physical/Movement
ATTACH;FMTTYPE=image/png:https://wellnesscalendar.rutgers.edu/wp-content/uploads/2025/02/Adult-Swim.png
END:VEVENT
BEGIN:VEVENT
DTSTART;TZID=America/New_York:20250227T133000
DTEND;TZID=America/New_York:20250227T140000
DTSTAMP:20260419T103049
CREATED:20250225T215938Z
LAST-MODIFIED:20250225T215938Z
UID:10001923-1740663000-1740664800@wellnesscalendar.rutgers.edu
SUMMARY:The Mindful Shift: Weekly Sessions (Piscataway)
DESCRIPTION:Please join us every Thursday from 1:30pm – 2:00 pm for a 30-minute experience – includes meditation\, journaling\, movement\, connection\, better sleep\, and more! \nNo prior exposure to meditation needed. Please join us to enhance your focus\, reduce stress\, and care for yourself. \nOpen to all students\, faculty and staff in Rutgers Health. \nLocation: \nSchool of Public Health\, Room 1 A/B \n683 Hoes Lane W.\, Piscataway\, NJ \n 
URL:https://wellnesscalendar.rutgers.edu/event/the-mindful-shift-weekly-sessions-piscataway/2025-02-27/
LOCATION:Busch Campus\, School of Public Health\, 683 Hoes Lane\, Piscataway\, NJ\, 08854\, United States
CATEGORIES:Emotional/Mental Health,Physical/Movement
ATTACH;FMTTYPE=image/jpeg:https://wellnesscalendar.rutgers.edu/wp-content/uploads/2025/02/AdobeStock_252407565.jpeg
ORGANIZER;CN="Rutgers Health":MAILTO:chancellor@rbhs.rutgers.edu
END:VEVENT
BEGIN:VEVENT
DTSTART;TZID=America/New_York:20250227T153000
DTEND;TZID=America/New_York:20250227T170000
DTSTAMP:20260419T103049
CREATED:20250214T152429Z
LAST-MODIFIED:20250214T152731Z
UID:10001886-1740670200-1740675600@wellnesscalendar.rutgers.edu
SUMMARY:Sew Positive Felt Cuties
DESCRIPTION:Please join us for this FREE event on Thursday\, February 27\, from 3:30 – 5:00pm. Supplies provided! \nLocation: Office of Disability Services\, Livingston Campus. Lucy Stone Hall\, Suite A145 \nOpen to Students with Disabilities & Disability Allies \n口安E口 \nMore info? Event accommodations? \n848-202-3111 or soffice@echo.rutgers.edu \nFollow us on Instagram at ScarletArtsRx
URL:https://wellnesscalendar.rutgers.edu/event/sew-positive-felt-cuties/
LOCATION:Livingston Campus\, Office of Disabilities\, 54 Joyce Kilmer Ave\, Piscataway\, New Jersey\, 08854
CATEGORIES:Art/Music,Emotional/Mental Health
ATTACH;FMTTYPE=image/jpeg:https://wellnesscalendar.rutgers.edu/wp-content/uploads/2025/02/Sew-Positive-Felt-Cuties-2.jpg
ORGANIZER;CN="Office of Disability Services":MAILTO:dsoffice@echo.rutgers.edu
END:VEVENT
BEGIN:VEVENT
DTSTART;TZID=America/New_York:20250227T163000
DTEND;TZID=America/New_York:20250227T173000
DTSTAMP:20260419T103049
CREATED:20250212T192502Z
LAST-MODIFIED:20250212T192502Z
UID:10001869-1740673800-1740677400@wellnesscalendar.rutgers.edu
SUMMARY:Embodied Wellness and Connection Through Polestar Pilates Mat (Series)
DESCRIPTION:Embodied Wellness and Connection Through Polestar Pilates Mat is to provide faculty and staff with a free\, communal\, embodied wellness process to combat stress and the negative impacts of highly sedentary work environments. \nClasses are held from 4:30pm – 5:30 pm on Thursdays\, beginning 2/20/25 and running until 5/8/25. \nLocation:   Mason Gross School of the Arts – Rehearsal Hall 101 (located opposite Main Box Office)
URL:https://wellnesscalendar.rutgers.edu/event/embodied-wellness-and-connection-through-polestar-pilates-mat-series/2025-02-27/
LOCATION:Mason Gross Performing Arts Center – Douglass Campus\, 85 George Street\, Studio 101\, New Brunswick\, 08901\, United States
CATEGORIES:Physical/Movement
ATTACH;FMTTYPE=image/jpeg:https://wellnesscalendar.rutgers.edu/wp-content/uploads/2025/02/Polestar-Mat-Pilates.jpeg
END:VEVENT
END:VCALENDAR