BEGIN:VCALENDAR
VERSION:2.0
PRODID:-//Wellness Events Calendar - ECPv6.11.2//NONSGML v1.0//EN
CALSCALE:GREGORIAN
METHOD:PUBLISH
X-WR-CALNAME:Wellness Events Calendar
X-ORIGINAL-URL:https://wellnesscalendar.rutgers.edu
X-WR-CALDESC:Events for Wellness Events Calendar
REFRESH-INTERVAL;VALUE=DURATION:PT1H
X-Robots-Tag:noindex
X-PUBLISHED-TTL:PT1H
BEGIN:VTIMEZONE
TZID:America/New_York
BEGIN:DAYLIGHT
TZOFFSETFROM:-0500
TZOFFSETTO:-0400
TZNAME:EDT
DTSTART:20250309T070000
END:DAYLIGHT
BEGIN:STANDARD
TZOFFSETFROM:-0400
TZOFFSETTO:-0500
TZNAME:EST
DTSTART:20251102T060000
END:STANDARD
END:VTIMEZONE
BEGIN:VEVENT
DTSTART;VALUE=DATE:20250217
DTEND;VALUE=DATE:20250416
DTSTAMP:20260419T201436
CREATED:20250214T155124Z
LAST-MODIFIED:20250214T155124Z
UID:10001887-1739750400-1744761599@wellnesscalendar.rutgers.edu
SUMMARY:Adult Swim! Sponsored by Rutgers Recreation
DESCRIPTION:Join Rutgers Recreation for Adult Swimming Lessons and take the plunge into learning or improving your swimming skills! Whether you’re a beginner or just looking to refine your technique\, these lessons are designed to help you build confidence and comfort in the water. \nWhy Join?\n– Professional swim instructors\n– Supportive and fun learning environment\n– Personalized attention for all skill levels \nLessons will be offered from February 17 through April 15\, at different times depending on the day. Please visit http://go.rutgers.edu/adultswim for more details \nLocations: \nBeginner-Advanced: Werblin Rec Center pool (Busch campus) \nWomen-s only: College Ave Rec Center pool (College Ave. campus) \nRegistration cost: $120 \nRegister now at: rec.rutgers.edu
URL:https://wellnesscalendar.rutgers.edu/event/adult-swim-sponsored-by-rutgers-recreation/
LOCATION:Multiple Rec Centers\, various\, New Brunswick\, 08901\, United States
CATEGORIES:Physical/Movement
ATTACH;FMTTYPE=image/png:https://wellnesscalendar.rutgers.edu/wp-content/uploads/2025/02/Adult-Swim.png
END:VEVENT
BEGIN:VEVENT
DTSTART;TZID=America/New_York:20250301T063000
DTEND;TZID=America/New_York:20250331T233000
DTSTAMP:20260419T201436
CREATED:20250228T191957Z
LAST-MODIFIED:20250228T191957Z
UID:10001932-1740810600-1743463800@wellnesscalendar.rutgers.edu
SUMMARY:Rutgers Rec - March Program Calendar
DESCRIPTION:Check out our website to learn about all of the upcoming events and programs happening at Rutgers Rec during March and Women’s History Month! \nhttps://recreation.rutgers.edu/ \n 
URL:https://wellnesscalendar.rutgers.edu/event/rutgers-rec-march-program-calendar/
LOCATION:Multiple Rec Centers\, various\, New Brunswick\, 08901\, United States
CATEGORIES:Emotional/Mental Health,Physical/Movement
ATTACH;FMTTYPE=image/jpeg:https://wellnesscalendar.rutgers.edu/wp-content/uploads/2025/02/Rec_P1641_March_Program_Calendar_Digital_Display_S25.jpg
END:VEVENT
BEGIN:VEVENT
DTSTART;TZID=America/New_York:20250326T130000
DTEND;TZID=America/New_York:20250326T150000
DTSTAMP:20260419T201436
CREATED:20250318T142851Z
LAST-MODIFIED:20250318T142851Z
UID:10002050-1742994000-1743001200@wellnesscalendar.rutgers.edu
SUMMARY:Wellness Wednesday
DESCRIPTION:Stop by and participate in fun\, relaxing activities such as crafts\, free massages\, and board games! Learn more about fitness\, stress-relieving techniques\, and tips on healthy living. \nLocation:  Busch Student Center\, International Lounge \nPlease register using this link:  https://rutgers.campuslabs.com/engage/event/10802172
URL:https://wellnesscalendar.rutgers.edu/event/wellness-wednesday/
LOCATION:Busch Student Center\, 604 Bartholomew Rd.\, Piscataway\, 08854\, United States
CATEGORIES:Art/Music,Emotional/Mental Health,Physical/Movement
ATTACH;FMTTYPE=image/png:https://wellnesscalendar.rutgers.edu/wp-content/uploads/2025/03/Wellness-Wednesday.png
END:VEVENT
BEGIN:VEVENT
DTSTART;TZID=America/New_York:20250326T180000
DTEND;TZID=America/New_York:20250326T200000
DTSTAMP:20260419T201436
CREATED:20250205T210451Z
LAST-MODIFIED:20250205T210451Z
UID:10001860-1743012000-1743019200@wellnesscalendar.rutgers.edu
SUMMARY:Sing and Sway - Multicultural Karaoke Night
DESCRIPTION:Come out for a fun\, social\, relaxing evening of multicultural karaoke – choose songs to sing in English or a language of your choice! All skill levels/beginners welcome! Meet other graduate students\, eat delicious food\, listen to great music from around the world. Bring your family and friends. Free event and food. Co-hosted by ScarletWell\, Scarlet Arts Rx\, and Graduate Student Life.\n\nLocation:  Livingston Student Center\, Coffee House\, Lynton Tower\n\nRegister at https://go.rutgers.edu/singandsway\n\nFor more information\, visit https://rutgers.ca1.qualtrics.com/WRQualtricsControlPanel/File.php?F=F_2D2IBeQpllAMNzK
URL:https://wellnesscalendar.rutgers.edu/event/sing-and-sway-multicultural-karaoke-night-2/
LOCATION:Livingston Student Center\, 84 Kilmer Ave\, New Brunswick\, 08854\, United States
CATEGORIES:Art/Music,Emotional/Mental Health
ATTACH;FMTTYPE=image/jpeg:https://wellnesscalendar.rutgers.edu/wp-content/uploads/2025/01/AdobeStock_201770379.jpeg
END:VEVENT
END:VCALENDAR