BEGIN:VCALENDAR
VERSION:2.0
PRODID:-//Wellness Events Calendar - ECPv6.11.2//NONSGML v1.0//EN
CALSCALE:GREGORIAN
METHOD:PUBLISH
X-WR-CALNAME:Wellness Events Calendar
X-ORIGINAL-URL:https://wellnesscalendar.rutgers.edu
X-WR-CALDESC:Events for Wellness Events Calendar
REFRESH-INTERVAL;VALUE=DURATION:PT1H
X-Robots-Tag:noindex
X-PUBLISHED-TTL:PT1H
BEGIN:VTIMEZONE
TZID:America/New_York
BEGIN:DAYLIGHT
TZOFFSETFROM:-0500
TZOFFSETTO:-0400
TZNAME:EDT
DTSTART:20250309T070000
END:DAYLIGHT
BEGIN:STANDARD
TZOFFSETFROM:-0400
TZOFFSETTO:-0500
TZNAME:EST
DTSTART:20251102T060000
END:STANDARD
END:VTIMEZONE
BEGIN:VEVENT
DTSTART;VALUE=DATE:20250217
DTEND;VALUE=DATE:20250416
DTSTAMP:20260424T002251
CREATED:20250214T155124Z
LAST-MODIFIED:20250214T155124Z
UID:10001887-1739750400-1744761599@wellnesscalendar.rutgers.edu
SUMMARY:Adult Swim! Sponsored by Rutgers Recreation
DESCRIPTION:Join Rutgers Recreation for Adult Swimming Lessons and take the plunge into learning or improving your swimming skills! Whether you’re a beginner or just looking to refine your technique\, these lessons are designed to help you build confidence and comfort in the water. \nWhy Join?\n– Professional swim instructors\n– Supportive and fun learning environment\n– Personalized attention for all skill levels \nLessons will be offered from February 17 through April 15\, at different times depending on the day. Please visit http://go.rutgers.edu/adultswim for more details \nLocations: \nBeginner-Advanced: Werblin Rec Center pool (Busch campus) \nWomen-s only: College Ave Rec Center pool (College Ave. campus) \nRegistration cost: $120 \nRegister now at: rec.rutgers.edu
URL:https://wellnesscalendar.rutgers.edu/event/adult-swim-sponsored-by-rutgers-recreation/
LOCATION:Multiple Rec Centers\, various\, New Brunswick\, 08901\, United States
CATEGORIES:Physical/Movement
ATTACH;FMTTYPE=image/png:https://wellnesscalendar.rutgers.edu/wp-content/uploads/2025/02/Adult-Swim.png
END:VEVENT
BEGIN:VEVENT
DTSTART;TZID=America/New_York:20250402T063000
DTEND;TZID=America/New_York:20250430T233000
DTSTAMP:20260424T002251
CREATED:20250402T140139Z
LAST-MODIFIED:20250402T140814Z
UID:10002110-1743575400-1746055800@wellnesscalendar.rutgers.edu
SUMMARY:April Recreation Program Calendar
DESCRIPTION:Check out the upcoming events happening at Rutgers Recreation during the month of April! \nAll info can be found on the Rec website: https://recreation.rutgers.edu/
URL:https://wellnesscalendar.rutgers.edu/event/april-recreation-program-calendar/
LOCATION:Multiple Rec Centers\, various\, New Brunswick\, 08901\, United States
CATEGORIES:Physical/Movement
ATTACH;FMTTYPE=image/jpeg:https://wellnesscalendar.rutgers.edu/wp-content/uploads/2025/04/Rec_P1685_April_Program_Calendar_Digital_Display_S25__1_.jpg
END:VEVENT
BEGIN:VEVENT
DTSTART;TZID=America/New_York:20250411T170000
DTEND;TZID=America/New_York:20250418T183000
DTSTAMP:20260424T002251
CREATED:20250328T183907Z
LAST-MODIFIED:20250328T183907Z
UID:10002097-1744390800-1745001000@wellnesscalendar.rutgers.edu
SUMMARY:Awakening Through Zen Yoga: Special Sessions with Venerable Ingoong
DESCRIPTION:This Zen Meditation and Mindfulness Workshop is a unique opportunity for participants to delve into Zen practices rooted in Buddhism\, with a strong emphasis on inclusivity for all\, regardless of religious background. The sessions will not only focus on the benefits of meditation and mindfulness for mental health and well-being\, but also provide a non-religious space for reflection and relaxation. This is particularly beneficial for graduate students at Rutgers\, as it equips them with tools to manage stress\, foster self-awareness\, and build interpersonal connections through a shared mindful experience. Moreover\, it offers a deeper understanding of the cultural heritage of East Asian practices. \nYoga mats will be provided! \nA second opportunity to participate in this workshop will be offered on 4/18\, at the same time and location. \nLocation:  School of Communication and Information (SCI) building\, Room 222
URL:https://wellnesscalendar.rutgers.edu/event/awakening-through-zen-yoga-special-sessions-with-venerable-ingoong/
LOCATION:School of Communication and Information\, 4 Huntington St\, New Brunswick\, NJ\, 08901\, United States
CATEGORIES:Emotional/Mental Health,Physical/Movement
ATTACH;FMTTYPE=image/jpeg:https://wellnesscalendar.rutgers.edu/wp-content/uploads/2025/03/Awakening-Through-Zen-Yoga.jpeg
END:VEVENT
BEGIN:VEVENT
DTSTART;TZID=America/New_York:20250414T120000
DTEND;TZID=America/New_York:20250414T120000
DTSTAMP:20260424T002251
CREATED:20250129T220044Z
LAST-MODIFIED:20250129T220044Z
UID:10001462-1744632000-1744632000@wellnesscalendar.rutgers.edu
SUMMARY:International Students Wellness Group
DESCRIPTION:International students struggling with the unique challenges of cross-cultural adjustment may benefit from joining the International Students Wellness Group. This group provides a safe and confidential space for students to discuss various concerns\, and help connect them with other students who may be facing similar issues. This group may cover topics including: homesickness\, loneliness\, language barriers\, discrimination\, social and academic stress. Students who are interested in joining this wellness group\, should call CAPS at 848-932-7884 or talk to their CAPS Clinician about a referral to this wellness group. \nClick HERE to see options for other CAPS wellness groups and for more information about the International Student Wellness Group.
URL:https://wellnesscalendar.rutgers.edu/event/international-students-wellness-group-2/2025-04-14/
CATEGORIES:Emotional/Mental Health
ATTACH;FMTTYPE=image/jpeg:https://wellnesscalendar.rutgers.edu/wp-content/uploads/2024/11/wellbeing-scaled.jpeg
LOCATION:
END:VEVENT
BEGIN:VEVENT
DTSTART;TZID=America/New_York:20250414T120000
DTEND;TZID=America/New_York:20250414T121000
DTSTAMP:20260424T002251
CREATED:20241022T162212Z
LAST-MODIFIED:20250129T202138Z
UID:10001405-1744632000-1744632600@wellnesscalendar.rutgers.edu
SUMMARY:Monday Mindful Moment
DESCRIPTION:Rutgers Health community members are invited to join us for a 10-minute lunchtime mindfulness “reset” every Monday at noon. \nVisit the Rutgers Health Mindfulness and Emotional Intelligence Community (NetID required) — a forum for activities\, resource sharing\, and trainings that promote mindfulness\, emotional intelligence\, and well-being across Rutgers Health.
URL:https://wellnesscalendar.rutgers.edu/event/monday-mindful-moment/2025-04-14/
LOCATION:Virtual Event
CATEGORIES:Emotional/Mental Health
ATTACH;FMTTYPE=image/png:https://wellnesscalendar.rutgers.edu/wp-content/uploads/2024/10/mindful-moment.png
END:VEVENT
BEGIN:VEVENT
DTSTART;TZID=America/New_York:20250414T160000
DTEND;TZID=America/New_York:20250414T170000
DTSTAMP:20260424T002251
CREATED:20250402T134912Z
LAST-MODIFIED:20250402T134912Z
UID:10002109-1744646400-1744650000@wellnesscalendar.rutgers.edu
SUMMARY:Addressing Wellness through Kokedama Planting
DESCRIPTION:Kokedama is a Japanese art form of growing various types of plants in moss ball plantings. In the Japanese culture\, it is believed that kokedamas absorb bad energy and bring peace of mind. The act of planting and cultivating a kokedama can also be a source of meditative tranquility. This one-hour session will introduce attendees to the artform of kokedama\, and guide attendees on how to address wellness and wellbeing through the care of their kokedama planting.
URL:https://wellnesscalendar.rutgers.edu/event/addressing-wellness-through-kokedama-planting/
LOCATION:Cook Campus – Floriculture Greenhouse\, 64 Nichol Ave\, New Brunswick\, NJ\, 08901\, United States
CATEGORIES:Emotional/Mental Health,Environment/Nature
ATTACH;FMTTYPE=image/jpeg:https://wellnesscalendar.rutgers.edu/wp-content/uploads/2025/04/kokedama.jpeg
END:VEVENT
BEGIN:VEVENT
DTSTART;TZID=America/New_York:20250414T190000
DTEND;TZID=America/New_York:20250414T210000
DTSTAMP:20260424T002251
CREATED:20250331T151050Z
LAST-MODIFIED:20250331T151812Z
UID:10002103-1744657200-1744664400@wellnesscalendar.rutgers.edu
SUMMARY:FREE! Galactic Glow-In-The-Dark Paint Party
DESCRIPTION:GLOW-IN-THE-DARK PAINTS! \nOUT-OF-THIS-WORLD DOOR PRIZES!! \nFREE FOR ALL RUTGERS STUDENTS!!! \nALL SUPPLIES PROVIDED. \nLocation:  The Yard\, College Ave. Campus.  Event will take place on the lawn outside. In case of rain\, event will take place in 1st Floor Classroom in Sojourner Truth Building\, 40 College Ave\, New Brunswick. \nRutgers – NB students: Sign up for Scarlet Arts Rx\, a free and flexible program with a ton of benefits including free arts events across campus\, free show tix\, and free Makerspace activities: https://go.rutgers.edu/ScarletArtsSignUp \nIf you are a Rutgers- NB university department\, student org\, faculty\, staff\, etc.\, who is interested in collaborating on a free arts and well-being event\, reach out to ScaRx leader Peichi at pw337@mgsa.rutgers.edu. \nFollow us on Instagram at scarletartsrx
URL:https://wellnesscalendar.rutgers.edu/event/free-galactic-glow-in-the-dark-paint-part/
LOCATION:College Avenue Campus\, The Yard\, 40 College Ave\, New Brunswick\, 08901\, United States
CATEGORIES:Art/Music,Emotional/Mental Health
ATTACH;FMTTYPE=image/jpeg:https://wellnesscalendar.rutgers.edu/wp-content/uploads/2025/03/GALACTIC_GLOW_1520x600.jpg
END:VEVENT
BEGIN:VEVENT
DTSTART;TZID=America/New_York:20250414T193000
DTEND;TZID=America/New_York:20250414T203000
DTSTAMP:20260424T002251
CREATED:20241112T155628Z
LAST-MODIFIED:20241112T160225Z
UID:10001154-1744659000-1744662600@wellnesscalendar.rutgers.edu
SUMMARY:Weekly Meditation
DESCRIPTION:Come join us for our weekly meditation and chat. Register here:  https://rutgers.campuslabs.com/engage/event/10527361
URL:https://wellnesscalendar.rutgers.edu/event/weekly-meditation-2/2025-04-14/
LOCATION:Frelinghuysen Hall\, 611 George St\, Room A6\, New Brunswick\, 08901\, United States
CATEGORIES:Emotional/Mental Health
ATTACH;FMTTYPE=image/jpeg:https://wellnesscalendar.rutgers.edu/wp-content/uploads/2024/11/Meditation-3.jpg
END:VEVENT
BEGIN:VEVENT
DTSTART;TZID=America/New_York:20250414T200000
DTEND;TZID=America/New_York:20250414T210000
DTSTAMP:20260424T002251
CREATED:20250414T144321Z
LAST-MODIFIED:20250414T163258Z
UID:10002159-1744660800-1744664400@wellnesscalendar.rutgers.edu
SUMMARY:Create and Donate Felt Succulents
DESCRIPTION:Create and donate a felt succulent – no sewing skills needed! \nCo-sponsored by Craft to Cure and Scarlet Rx \nLOCATION:  Busch Student Center\, Room 174 \nRutgers – NB students: Sign up for Scarlet Arts Rx\, a free and flexible program with a ton of benefits including free arts events across campus\, free show tix\, and free Makerspace activities: https://go.rutgers.edu/ScarletArtsSignUp \nIf you are a Rutgers- NB university department\, student org\, faculty\, staff\, etc.\, who is interested in collaborating on a free arts and well-being event\, reach out to ScaRx leader Peichi at pw337@mgsa.rutgers.edu. \nFollow us on Instagram at scarletartsrx
URL:https://wellnesscalendar.rutgers.edu/event/create-and-donate-felt-succulents/
LOCATION:Busch Student Center\, 604 Bartholomew Rd.\, Piscataway\, 08854\, United States
CATEGORIES:Art/Music,Emotional/Mental Health,Other
ATTACH;FMTTYPE=image/png:https://wellnesscalendar.rutgers.edu/wp-content/uploads/2025/04/felt-succulents.png
END:VEVENT
END:VCALENDAR