BEGIN:VCALENDAR
VERSION:2.0
PRODID:-//Wellness Events Calendar - ECPv6.11.2//NONSGML v1.0//EN
CALSCALE:GREGORIAN
METHOD:PUBLISH
X-WR-CALNAME:Wellness Events Calendar
X-ORIGINAL-URL:https://wellnesscalendar.rutgers.edu
X-WR-CALDESC:Events for Wellness Events Calendar
REFRESH-INTERVAL;VALUE=DURATION:PT1H
X-Robots-Tag:noindex
X-PUBLISHED-TTL:PT1H
BEGIN:VTIMEZONE
TZID:America/New_York
BEGIN:DAYLIGHT
TZOFFSETFROM:-0500
TZOFFSETTO:-0400
TZNAME:EDT
DTSTART:20250309T070000
END:DAYLIGHT
BEGIN:STANDARD
TZOFFSETFROM:-0400
TZOFFSETTO:-0500
TZNAME:EST
DTSTART:20251102T060000
END:STANDARD
END:VTIMEZONE
BEGIN:VEVENT
DTSTART;VALUE=DATE:20250923
DTEND;VALUE=DATE:20250924
DTSTAMP:20260419T201350
CREATED:20250908T153553Z
LAST-MODIFIED:20250908T154921Z
UID:10002725-1758585600-1758671999@wellnesscalendar.rutgers.edu
SUMMARY:Strength Development - Session 1 (9/9 - 10/17)
DESCRIPTION:Strength Development is designed to help build strength progressively over time. This program supports participants at any level as they master key lifts\, improve technique\, and gain confidence as they get stronger. Enjoy a small group training environment led by a certified coach. \nTwo six-week sessions to choose from: \n\nSession 1:  Week of September 9 – Week of October 17\nSession 2:  Week of October 21 – Week of December 5\n\nMultiple class options choose from each week during your selected session: \n\nMondays 5:30 pm (Keri)\nTuesdays 5:30 pm (Sam)\nWednesdays 5:30 pm (Sam)\nThursdays 12:30 pm (Braily)\nThursdays 5:30 pm (Keri)\n\nClass size limited to 10 – 12 participants (first come first served basis). You can attend unlimited classes within the six-week session you sign up for. Cost for the full six-week session is $40 for students and members; $50 for complimentary members \nLocation:  Sonny Werblin Training Studio
URL:https://wellnesscalendar.rutgers.edu/event/strength-development-session-1-9-5-10-17-2-2/2025-09-23/
LOCATION:Werblin Recreation Center (Busch Campus)\, 656 Bartholomew Rd\, Piscataway\, 08854\, United States
CATEGORIES:Physical/Movement
ATTACH;FMTTYPE=image/jpeg:https://wellnesscalendar.rutgers.edu/wp-content/uploads/2025/08/strength-development-image-1.jpg
END:VEVENT
BEGIN:VEVENT
DTSTART;VALUE=DATE:20250923
DTEND;VALUE=DATE:20250924
DTSTAMP:20260419T201350
CREATED:20250916T132417Z
LAST-MODIFIED:20250916T132417Z
UID:10002845-1758585600-1758671999@wellnesscalendar.rutgers.edu
SUMMARY:Thank a Parenting Grad
DESCRIPTION:For the month of September\, acknowledge a graduate student parent superhero by submitting an empowering message of support and recognition of their hard work and commitment juggling the demands of graduate school and family life. Notes will be sent to students from the Office of Graduate Student Life. Submit by September 30.
URL:https://wellnesscalendar.rutgers.edu/event/thank-a-parenting-grad/2025-09-23/
LOCATION:Virtual Event
CATEGORIES:Emotional/Mental Health
ATTACH;FMTTYPE=image/png:https://wellnesscalendar.rutgers.edu/wp-content/uploads/2025/09/2025_Thank_a_Parent_Flyer.png
ORGANIZER;CN="Graduate Student Life":MAILTO:gradstudentlife@echo.rutgers.edu
END:VEVENT
BEGIN:VEVENT
DTSTART;TZID=America/New_York:20250923T170000
DTEND;TZID=America/New_York:20250923T180000
DTSTAMP:20260419T201350
CREATED:20250918T154040Z
LAST-MODIFIED:20250918T154122Z
UID:10001907-1758646800-1758650400@wellnesscalendar.rutgers.edu
SUMMARY:Weekly Yoga for Every Body - Rutgers Health
DESCRIPTION:Please join us on Tuesdays from 5pm – 6pm for a relaxing and rejuvenating yoga class! All levels are welcome. Open to students\, faculty and staff of Rutgers Health. \nLocation:  Medical Sciences Building\, Rosemary Gellene Room (1st floor) \n 
URL:https://wellnesscalendar.rutgers.edu/event/weekly-yoga-for-every-body-2/2025-09-23/
LOCATION:Medical Sciences Building\, Newark\, 185 South Orange Avenue\, Newark\, 07101\, United States
CATEGORIES:Emotional/Mental Health,Physical/Movement
ATTACH;FMTTYPE=image/jpeg:https://wellnesscalendar.rutgers.edu/wp-content/uploads/2025/02/Yoga-for-Every-Body-Fall-2025-calendar-entry.jpg
ORGANIZER;CN="Rutgers Health":MAILTO:chancellor@rbhs.rutgers.edu
END:VEVENT
END:VCALENDAR