BEGIN:VCALENDAR
VERSION:2.0
PRODID:-//Wellness Events Calendar - ECPv6.11.2//NONSGML v1.0//EN
CALSCALE:GREGORIAN
METHOD:PUBLISH
X-WR-CALNAME:Wellness Events Calendar
X-ORIGINAL-URL:https://wellnesscalendar.rutgers.edu
X-WR-CALDESC:Events for Wellness Events Calendar
REFRESH-INTERVAL;VALUE=DURATION:PT1H
X-Robots-Tag:noindex
X-PUBLISHED-TTL:PT1H
BEGIN:VTIMEZONE
TZID:America/New_York
BEGIN:DAYLIGHT
TZOFFSETFROM:-0500
TZOFFSETTO:-0400
TZNAME:EDT
DTSTART:20250309T070000
END:DAYLIGHT
BEGIN:STANDARD
TZOFFSETFROM:-0400
TZOFFSETTO:-0500
TZNAME:EST
DTSTART:20251102T060000
END:STANDARD
END:VTIMEZONE
BEGIN:VEVENT
DTSTART;VALUE=DATE:20251014
DTEND;VALUE=DATE:20251015
DTSTAMP:20260419T090000
CREATED:20251003T174309Z
LAST-MODIFIED:20251003T181953Z
UID:10003000-1760400000-1760486399@wellnesscalendar.rutgers.edu
SUMMARY:**RSVP Deadline for "Meet your Stretch Goals" 3-part series starting on 10/15**
DESCRIPTION:Attention Rutgers Faculty and Staff:  Are you ready to feel more flexible\, both physically and mentally? Join us for Meet Your Stretch Goals: Creating Physical and Mental Flexibility\, a wellness workshop series designed to help you reduce stress\, boost focus\, and stretch beyond your comfort zone. Through guided movement\, mindfulness\, and ambitious goal-setting\, this three-part series will leave you feeling energized\, inspired\, and more connected to your personal and professional growth. Open to all Rutgers faculty and staff\, no experience needed. \nWe ask that you sign up to attend all 3 sessions in the series:  \nMorning Stretch: October 15\, 8-8:40 AM @ Sonny Werblin Recreation Center MPR\nStretch at Your Desk: November 12\, 12:30-12:50PM\, Virtual\nStretch Goals Workshop: December 4\, 11AM-12PM\, LSC Collaborative Center \nSpace is limited! Please sign up BY 10/14 using this link: \nhttps://go.rutgers.edu/stretch \n 
URL:https://wellnesscalendar.rutgers.edu/event/rsvp-deadline-for-meet-your-stretch-goals-3-part-series-starting-on-10-15/
LOCATION:NJ
CATEGORIES:Emotional/Mental Health,Physical/Movement
ATTACH;FMTTYPE=image/png:https://wellnesscalendar.rutgers.edu/wp-content/uploads/2025/10/Meet_your_Stretch_Goals.png
END:VEVENT
BEGIN:VEVENT
DTSTART;VALUE=DATE:20251014
DTEND;VALUE=DATE:20251015
DTSTAMP:20260419T090000
CREATED:20250908T153553Z
LAST-MODIFIED:20250908T154921Z
UID:10002728-1760400000-1760486399@wellnesscalendar.rutgers.edu
SUMMARY:Strength Development - Session 1 (9/9 - 10/17)
DESCRIPTION:Strength Development is designed to help build strength progressively over time. This program supports participants at any level as they master key lifts\, improve technique\, and gain confidence as they get stronger. Enjoy a small group training environment led by a certified coach. \nTwo six-week sessions to choose from: \n\nSession 1:  Week of September 9 – Week of October 17\nSession 2:  Week of October 21 – Week of December 5\n\nMultiple class options choose from each week during your selected session: \n\nMondays 5:30 pm (Keri)\nTuesdays 5:30 pm (Sam)\nWednesdays 5:30 pm (Sam)\nThursdays 12:30 pm (Braily)\nThursdays 5:30 pm (Keri)\n\nClass size limited to 10 – 12 participants (first come first served basis). You can attend unlimited classes within the six-week session you sign up for. Cost for the full six-week session is $40 for students and members; $50 for complimentary members \nLocation:  Sonny Werblin Training Studio
URL:https://wellnesscalendar.rutgers.edu/event/strength-development-session-1-9-5-10-17-2-2/2025-10-14/
LOCATION:Werblin Recreation Center (Busch Campus)\, 656 Bartholomew Rd\, Piscataway\, 08854\, United States
CATEGORIES:Physical/Movement
ATTACH;FMTTYPE=image/jpeg:https://wellnesscalendar.rutgers.edu/wp-content/uploads/2025/08/strength-development-image-1.jpg
END:VEVENT
BEGIN:VEVENT
DTSTART;TZID=America/New_York:20251014T090000
DTEND;TZID=America/New_York:20251014T130000
DTSTAMP:20260419T090000
CREATED:20251010T223225Z
LAST-MODIFIED:20251013T133740Z
UID:10003019-1760432400-1760446800@wellnesscalendar.rutgers.edu
SUMMARY:Rutgers Community Farmers Market - Jones Ave. (Tuesdays)
DESCRIPTION:The Rutgers Community Farmers Market team is excited to invite YOU to our on-campus farmers market! Managed by Rutgers students and staff\, we partner with local growers and vendors who sell fresh fruits & vegetables\, and artisanal products. ALL of our market locations accept food benefits such as SNAP/EBT\, WIC & WIC FMNP\, Senior FMNP\, and Good Food Bucks! Plus – your produce is half off if you use those benefits! \nWe’re open every Tuesday. Any changes to the market’s opening status due to weather or other reasons will be updated on our Instagram account as soon as possible.  \nStay up to date with Market Vendors & Programs: Follow our Instagram ( @rutgersfarmersmarket: https://www.instagram.com/rutgersfarmersmarket/ ) AND sign up for our newsletter: Whole week schedule: https://go.rutgers.edu/newslettercooks Cook’s Market: https://go.rutgers.edu/newslettercooks
URL:https://wellnesscalendar.rutgers.edu/event/rutgers-community-farmers-market-jones-ave/2025-10-14/
LOCATION:New Brunswick Community Farmers Market (NBCFM)\, 178 Jones Ave\, New Brunswick\, NJ\, 08901\, United States
CATEGORIES:Other
ATTACH;FMTTYPE=image/png:https://wellnesscalendar.rutgers.edu/wp-content/uploads/2025/10/Jones_Ave.png
END:VEVENT
BEGIN:VEVENT
DTSTART;TZID=America/New_York:20251014T170000
DTEND;TZID=America/New_York:20251014T180000
DTSTAMP:20260419T090000
CREATED:20250918T154040Z
LAST-MODIFIED:20250918T154122Z
UID:10002854-1760461200-1760464800@wellnesscalendar.rutgers.edu
SUMMARY:Weekly Yoga for Every Body - Rutgers Health
DESCRIPTION:Please join us on Tuesdays from 5pm – 6pm for a relaxing and rejuvenating yoga class! All levels are welcome. Open to students\, faculty and staff of Rutgers Health. \nLocation:  Medical Sciences Building\, Rosemary Gellene Room (1st floor) \n 
URL:https://wellnesscalendar.rutgers.edu/event/weekly-yoga-for-every-body-2/2025-10-14/
LOCATION:Medical Sciences Building\, Newark\, 185 South Orange Avenue\, Newark\, 07101\, United States
CATEGORIES:Emotional/Mental Health,Physical/Movement
ATTACH;FMTTYPE=image/jpeg:https://wellnesscalendar.rutgers.edu/wp-content/uploads/2025/02/Yoga-for-Every-Body-Fall-2025-calendar-entry.jpg
ORGANIZER;CN="Rutgers Health":MAILTO:chancellor@rbhs.rutgers.edu
END:VEVENT
END:VCALENDAR