BEGIN:VCALENDAR
VERSION:2.0
PRODID:-//Wellness Events Calendar - ECPv6.11.2//NONSGML v1.0//EN
CALSCALE:GREGORIAN
METHOD:PUBLISH
X-WR-CALNAME:Wellness Events Calendar
X-ORIGINAL-URL:https://wellnesscalendar.rutgers.edu
X-WR-CALDESC:Events for Wellness Events Calendar
REFRESH-INTERVAL;VALUE=DURATION:PT1H
X-Robots-Tag:noindex
X-PUBLISHED-TTL:PT1H
BEGIN:VTIMEZONE
TZID:America/New_York
BEGIN:DAYLIGHT
TZOFFSETFROM:-0500
TZOFFSETTO:-0400
TZNAME:EDT
DTSTART:20250309T070000
END:DAYLIGHT
BEGIN:STANDARD
TZOFFSETFROM:-0400
TZOFFSETTO:-0500
TZNAME:EST
DTSTART:20251102T060000
END:STANDARD
END:VTIMEZONE
BEGIN:VEVENT
DTSTART;VALUE=DATE:20251016
DTEND;VALUE=DATE:20251017
DTSTAMP:20260424T040234
CREATED:20250415T174838Z
LAST-MODIFIED:20250415T174838Z
UID:10002200-1760572800-1760659199@wellnesscalendar.rutgers.edu
SUMMARY:NASM Certified Personal Trainer Course (6/3-7/3): Registration Ends 5/29/25
DESCRIPTION:This 5-week in-person learning course will teach all required components of the NASM-CPT exam in a learning-friendly environment. This class will meet twice weekly in person and will be taught by a Rutgers fitness professional. You will receive lecture PowerPoint slides\, assigned chapter readings\, quizzes\, and discussion questions to best support and guide the student for the NASM-CPT Exam. \nCLASS SCHEDULE: June 3rd – July 3rd (Tuesdays & Thursdays 5:00-7:00pm) 10 in-person classes (6/3\, 6/5\, 6/10\, 6/12\, 6/17\, 6/19\, 6/24\, 6/26\, 7/1\, 7/3) \nLOCATION: Werblin Recreation Center Conference Room \nREGISTRATION ENDS ON 5/29/25!  To register\, or get more information\, visit:  https://go.rutgers.edu/nasmf24 \nCOST: $750.00 – $900.00
URL:https://wellnesscalendar.rutgers.edu/event/nasm-certified-personal-trainer-course-6-3-7-3-registration-ends-5-29-25/2025-10-16/
LOCATION:Werblin Recreation Center (Busch Campus)\, 656 Bartholomew Rd\, Piscataway\, 08854\, United States
CATEGORIES:Physical/Movement
ATTACH;FMTTYPE=image/jpeg:https://wellnesscalendar.rutgers.edu/wp-content/uploads/2025/04/NASM-CPT.jpg
END:VEVENT
BEGIN:VEVENT
DTSTART;VALUE=DATE:20251016
DTEND;VALUE=DATE:20251017
DTSTAMP:20260424T040234
CREATED:20251002T144026Z
LAST-MODIFIED:20251002T144056Z
UID:10002990-1760572800-1760659199@wellnesscalendar.rutgers.edu
SUMMARY:Rutgers Recreation - October Programs
DESCRIPTION:Join Rutgers Recreation this October for a month filled with movement\, wellness\, and community! From energizing fitness classes and self-defense workshops to outdoor adventures like hiking\, kayaking\, and rock climbing\, there’s something for everyone. Explore new programs\, challenge yourself with fun fitness events\, and connect with others through recreation and wellness opportunities. With ongoing options like intramural sports\, personal training\, and wellness services\, it’s the perfect time to get active and prioritize your health. Celebrate Exercise is Medicine® On Campus Month with us and discover how staying active can boost both body and mind! \nLearn more and register at go.rutgers.edu/l8vp917y
URL:https://wellnesscalendar.rutgers.edu/event/october-programs/2025-10-16/
LOCATION:Multiple Rec Centers\, various\, New Brunswick\, 08901\, United States
CATEGORIES:Environment/Nature,Physical/Movement
ATTACH;FMTTYPE=image/jpeg:https://wellnesscalendar.rutgers.edu/wp-content/uploads/2025/10/Rec_P1897_October_Program_Calendar_Web_Banner_F25.jpg
END:VEVENT
BEGIN:VEVENT
DTSTART;TZID=America/New_York:20251016T110000
DTEND;TZID=America/New_York:20251016T160000
DTSTAMP:20260424T040234
CREATED:20251015T122744Z
LAST-MODIFIED:20251015T122744Z
UID:10003054-1760612400-1760630400@wellnesscalendar.rutgers.edu
SUMMARY:**POP UP** Rutgers Community Farmers Market 10/16 Busch Student Center!
DESCRIPTION:Please stop by this ONE TIME POP UP Farmers Market on Busch Campus!  Thursday\, October 16th from 11am – 4pm. \n  \nThe Rutgers Community Farmers Market team is excited to invite YOU to our on-campus farmers market! Managed by Rutgers students and staff\, we partner with local growers and vendors who sell fresh fruits & vegetables\, and artisanal products. ALL of our market locations accept food benefits such as SNAP/EBT\, WIC & WIC FMNP\, Senior FMNP\, and Good Food Bucks! Plus – your produce is half off if you use those benefits! \nStay up to date with Market Vendors & Programs: Follow our Instagram ( @rutgersfarmersmarket: https://www.instagram.com/rutgersfarmersmarket/ ) AND sign up for our newsletter: Whole week schedule: https://go.rutgers.edu/newslettercooks Cook’s Market: https://go.rutgers.edu/newslettercooks
URL:https://wellnesscalendar.rutgers.edu/event/pop-up-rutgers-community-farmers-market-10-16-busch-student-center/
LOCATION:Busch Student Center\, 604 Bartholomew Rd.\, Piscataway\, 08854\, United States
CATEGORIES:Other
ATTACH;FMTTYPE=image/jpeg:https://wellnesscalendar.rutgers.edu/wp-content/uploads/2025/03/AdobeStock_88203959.jpeg
END:VEVENT
BEGIN:VEVENT
DTSTART;TZID=America/New_York:20251016T120000
DTEND;TZID=America/New_York:20251016T121500
DTSTAMP:20260424T040234
CREATED:20250812T162845Z
LAST-MODIFIED:20250812T162846Z
UID:10002381-1760616000-1760616900@wellnesscalendar.rutgers.edu
SUMMARY:Mini Meditation Thursdays
DESCRIPTION:Feeling stressed? Need a short break during your day? Join us Thursdays in August (via zoom) at noon (8/7\, 8/14\, 8/28) for an ongoing mini meditation break.\nShort\, guided meditations (most will be 10 minutes or less).  s \n**NOTE:  Class will not be held on 8/21** \nhttps://rutgers.zoom.us/my/millotse?pwd=dEx1TmRURFprNGdGRWpTcm93ak04Zz09 \nSponsored by: \nUBHC – Rutgers University Behavior Health Care \nEAP – Employee Assistance Program (RBHS faculty and staff) \nSWP – Student Wellness Program (RBHS programs) \nSHS – Student Health Services (Student Counseling Services for New Jersey Medical School and School of Graduate Studies in Newark) \nQuestions? Contact Sarah Ben Younes-Millot: millotse@rutgers.edu
URL:https://wellnesscalendar.rutgers.edu/event/mini-meditation-thursdays-2-2-3/2025-10-16/
LOCATION:Virtual Event
CATEGORIES:Emotional/Mental Health
ATTACH;FMTTYPE=image/png:https://wellnesscalendar.rutgers.edu/wp-content/uploads/2025/04/Meditation_Flyer_All_4_25_snip-1-e1762798638488.png
END:VEVENT
BEGIN:VEVENT
DTSTART;TZID=America/New_York:20251016T130000
DTEND;TZID=America/New_York:20251016T140000
DTSTAMP:20260424T040234
CREATED:20250930T193036Z
LAST-MODIFIED:20250930T193036Z
UID:10002965-1760619600-1760623200@wellnesscalendar.rutgers.edu
SUMMARY:RU Connected Community Building Circles
DESCRIPTION:Join Our Community Building Circles – Empower Yourself and Connect! \nLooking to gain deeper self-awareness\, build meaningful connections\, and develop essential life skills? Our Community Building Circles offer a supportive space for students to share stories\, process experiences\, and enhance personal growth. Whether you’re navigating personal challenges\, academic stress\, or social dynamics\, this group is designed to help you thrive!\nExplore topics like anxiety\, relationships\, friendships\, self-care\, imposter syndrome\, identity\, grief/loss\, and more – all in a safe\, inclusive environment. Strengthen your confidence\, independence\, and sense of belonging while gaining valuable tools for life’s ups and downs. This is your chance to be part of a community that nurtures growth\, resilience\, and connection.\nReady to join? Refer yourself or a friend today and start your journey toward a more empowered and connected life! \nThursdays throughout the semester\, 1:00pm – 2:00pm @ CAPS.
URL:https://wellnesscalendar.rutgers.edu/event/ru-connected-community-building-circles/2025-10-16/
LOCATION:CAPS (Counseling\, Alcohol and Other Drug Assistance Program & Psychiatric Services)\, 17 Senior Street\, New Brunswick\, 08901\, United States
CATEGORIES:Emotional/Mental Health
ATTACH;FMTTYPE=image/png:https://wellnesscalendar.rutgers.edu/wp-content/uploads/2025/09/Community_building_Circles___CAPS_Flyer.png
END:VEVENT
BEGIN:VEVENT
DTSTART;TZID=America/New_York:20251016T170000
DTEND;TZID=America/New_York:20251016T180000
DTSTAMP:20260424T040234
CREATED:20250905T140038Z
LAST-MODIFIED:20250915T141238Z
UID:10002761-1760634000-1760637600@wellnesscalendar.rutgers.edu
SUMMARY:Thursdays in Motion: Grad Student Yoga and Pilates **YOGA TODAY**
DESCRIPTION:Join us on Thursdays in the Fall 2025 semester to take a pause from your busy week by relaxing your mind and body with your fellow graduate students. Starting 9/18 – 11/20\, we will be providing movement activities\, alternating between Yoga and Pilates. No registration needed. Mats and blocks are provided\, and all skill levels are welcome! \nYoga: 9/18\, 10/2\, 10/16\, 10/30\, 11/13 \nPilates: 9/25\, 10/9\, 10/23\, 11/6\, 11/20 \nEmail gradstudentlife@echo.rutgers.edu with any questions. \nGraduate Student Yoga is hosted by Rutgers Recreation and Office of Graduate Student Life.
URL:https://wellnesscalendar.rutgers.edu/event/thursdays-in-motion-graduate-student-yoga-and-pilates/2025-10-16/
LOCATION:Graduate Student Lounge\, 126 College Avenue\, New Brunswick\, NJ\, 08901\, United States
CATEGORIES:Physical/Movement
ATTACH;FMTTYPE=image/jpeg:https://wellnesscalendar.rutgers.edu/wp-content/uploads/2025/09/Thursdays_in_Motion_Grad_YogaPilates_Fall_25_Flyer.jpg
ORGANIZER;CN="Graduate Student Life":MAILTO:gradstudentlife@echo.rutgers.edu
END:VEVENT
BEGIN:VEVENT
DTSTART;TZID=America/New_York:20251016T170000
DTEND;TZID=America/New_York:20251016T180000
DTSTAMP:20260424T040234
CREATED:20250915T171422Z
LAST-MODIFIED:20250922T131412Z
UID:10002778-1760634000-1760637600@wellnesscalendar.rutgers.edu
SUMMARY:Art Studio @ Rutgers Health
DESCRIPTION:Please join us on Thursdays in September and October to take a much-needed break from your studies and create some art! Introducing Art Studio @ Rutgers Health\, a FREE 7-week workshop led by a teaching artist. No art experience needed! \nAll sessions will be held in the Medical Sciences Building\, 185 South Orange Ave in Newark.  Times and locations vary by week. \n\n9/11:  Collage making. Grand Foyer\n9/18: Air-dry clay sculpture. Room B518-B544\n9/25: Graffiti/Bubble Text. Grand Foyer\n10/2: Zine workshop. Grand Foyer\n10/9: Mini pinata making. Room B518-B544\n10/16: Collaborative Body Drawing. Room B518-B544\n10/23: Narrative Comic Strips. Grand Foyer.\n\nWe hope to see you there!
URL:https://wellnesscalendar.rutgers.edu/event/art-studio-rutgers-health-6/
LOCATION:New Jersey Medical School\, 185 South Orange Avenue\, Newark\, NJ\, 07103\, United States
CATEGORIES:Art/Music
ATTACH;FMTTYPE=image/png:https://wellnesscalendar.rutgers.edu/wp-content/uploads/2025/09/Art-Studio-Rutgers-Health-Flyer.png
ORGANIZER;CN="Rutgers Health":MAILTO:chancellor@rbhs.rutgers.edu
END:VEVENT
BEGIN:VEVENT
DTSTART;TZID=America/New_York:20251016T210000
DTEND;TZID=America/New_York:20251016T230000
DTSTAMP:20260424T040234
CREATED:20250711T185608Z
LAST-MODIFIED:20250711T185933Z
UID:10002567-1760648400-1760655600@wellnesscalendar.rutgers.edu
SUMMARY:Observe the night sky!
DESCRIPTION:Observe the night sky through a 20-inch optical telescope at the Robert A. Schommer Astronomical Observatory on Rutgers’ Busch Campus. \nPublic open viewing nights are scheduled for the second\, third and fourth Thursdays of each month\, weather permitting. Free admission! \nObserving will be canceled for that night if the skies are cloudy at the beginning of the observing session. Please check this web-site for the most up-to-date information. https://observatory.rutgers.edu/ \nNaked-eye visibility of satellites from the Robert A. Schommer Astronomical Observatory may be found at the Heavens-Above Main Page . \nMore details on location: The Robert A. Schommer Astronomical Observatory is located in the dome on the roof of the Serin Physics Laboratories on the corner of Frelinghuysen Road and Allison Road on the Busch Campus of Rutgers\, the State University of New Jersey. Our address is 136 Frelinghuysen Road\, Piscataway\, NJ and directions to our building are available. The public can park in lot 53 (between the building and the street) or lot 53A (about one block east on the other side of Frelinghuysen Road)\, but should obtain an electronic permit beforehand. To obtain the permit\, follow this link. Rutgers faculty\, staff\, and students do not need to obtain an additional permit\, but should only park in lots allowed by their existing parking permits (in most cases\, this does NOT include lot 53). Enter the doors on the west end of the building (facing Allison Road) and take the stairs (left or right sides of the lobby) or the elevator (left side of the lobby) to the fourth floor.
URL:https://wellnesscalendar.rutgers.edu/event/observe-the-night-sky-2/2025-10-16/
LOCATION:Robert A. Schommer Astronomical Observatory\, 136 Frelinghuysen Road\, Piscataway\, 08854\, United States
CATEGORIES:Emotional/Mental Health,Environment/Nature
ATTACH;FMTTYPE=image/jpeg:https://wellnesscalendar.rutgers.edu/wp-content/uploads/2025/03/AdobeStock_316942402.jpeg
END:VEVENT
END:VCALENDAR