BEGIN:VCALENDAR
VERSION:2.0
PRODID:-//Wellness Events Calendar - ECPv6.11.2//NONSGML v1.0//EN
CALSCALE:GREGORIAN
METHOD:PUBLISH
X-WR-CALNAME:Wellness Events Calendar
X-ORIGINAL-URL:https://wellnesscalendar.rutgers.edu
X-WR-CALDESC:Events for Wellness Events Calendar
REFRESH-INTERVAL;VALUE=DURATION:PT1H
X-Robots-Tag:noindex
X-PUBLISHED-TTL:PT1H
BEGIN:VTIMEZONE
TZID:America/New_York
BEGIN:DAYLIGHT
TZOFFSETFROM:-0500
TZOFFSETTO:-0400
TZNAME:EDT
DTSTART:20250309T070000
END:DAYLIGHT
BEGIN:STANDARD
TZOFFSETFROM:-0400
TZOFFSETTO:-0500
TZNAME:EST
DTSTART:20251102T060000
END:STANDARD
END:VTIMEZONE
BEGIN:VEVENT
DTSTART;TZID=America/New_York:20251119T163000
DTEND;TZID=America/New_York:20251119T173000
DTSTAMP:20260419T093149
CREATED:20250908T135300Z
LAST-MODIFIED:20250908T135756Z
UID:10002706-1763569800-1763573400@wellnesscalendar.rutgers.edu
SUMMARY:Embodied Wellness and Connection Through Polestar Pilates Mat
DESCRIPTION:Step away from your desk! This wellness series helps Rutgers-New Brunswick faculty and staff reduce stress\, recharge\, and reconnect through movement.  Mats will be provided. \nLocation:  IFNH building\, Cook Campus. To be held on select Wednesdays from 4:30pm – 5:30pm. See dates and registration links below. \nSessions are FREE but please register for each session separately.  Space is limited (20 participants). \n\n 9/10/2025 https://rutgers.ca1.qualtrics.com/jfe/form/SV_2mCjFa0sb05wJfw \n\n\n10/8/2025 https://rutgers.ca1.qualtrics.com/jfe/form/SV_5atbxlkYrAao1GS \n\n\n11/5/2025 https://rutgers.ca1.qualtrics.com/jfe/form/SV_cOcmk4Nu6CBBhm6 \n\n\n11/19/2025 https://rutgers.ca1.qualtrics.com/jfe/form/SV_bpvJLJcCG2EoVj8 \n\n\n12/10/2025 https://rutgers.ca1.qualtrics.com/jfe/form/SV_9uV6IKfF60kTkI6 \n\nEvent flyer:  https://rutgers.yul1.qualtrics.com/ControlPanel/File.php?F=F_3Mnua38sGGrDtpL
URL:https://wellnesscalendar.rutgers.edu/event/embodied-wellness-and-connection-through-polestar-pilates-mat-2/2025-11-19/
LOCATION:Institute for Food\, Nutrition and Health (IFNH) (Cook Campus)\, 61 Dudley Rd.\, New Brunswick\, NJ\, 08901\, United States
CATEGORIES:Physical/Movement
ATTACH;FMTTYPE=image/jpeg:https://wellnesscalendar.rutgers.edu/wp-content/uploads/2025/03/AdobeStock_440988022-1.jpeg
END:VEVENT
BEGIN:VEVENT
DTSTART;TZID=America/New_York:20251119T173000
DTEND;TZID=America/New_York:20251119T190000
DTSTAMP:20260419T093149
CREATED:20251107T200744Z
LAST-MODIFIED:20251107T200906Z
UID:10003167-1763573400-1763578800@wellnesscalendar.rutgers.edu
SUMMARY:Planting A Healthy Mindset: Build Your Own Terrarium
DESCRIPTION:Come to the Floriculture Greenhouse on November 19th at 5:30pm to engage in wellness through horticulture! In this session\, we will be building mini-terrariums! Unwind\, relax\, and leave with a reminder of your wellness experience! \nFollow our Instagram for more information: @plantingahealthymindset \nevent flyer: https://www.instagram.com/p/DQfLv5Cj-az/ \nsignup link: https://forms.office.com/r/xrrFswnpBE?origin=lprLink
URL:https://wellnesscalendar.rutgers.edu/event/planting-a-healthy-mindset-build-your-own-terrarium/
LOCATION:Cook Campus – Floriculture Greenhouse\, 64 Nichol Ave\, New Brunswick\, NJ\, 08901\, United States
CATEGORIES:Emotional/Mental Health,Environment/Nature
ATTACH;FMTTYPE=image/jpeg:https://wellnesscalendar.rutgers.edu/wp-content/uploads/2025/11/terrarium.jpeg
END:VEVENT
BEGIN:VEVENT
DTSTART;TZID=America/New_York:20251119T180000
DTEND;TZID=America/New_York:20251119T200000
DTSTAMP:20260419T093149
CREATED:20251013T150755Z
LAST-MODIFIED:20251013T150755Z
UID:10003047-1763575200-1763582400@wellnesscalendar.rutgers.edu
SUMMARY:Resinate (Resin Jewelry Workshop)
DESCRIPTION:Resinate is a wellness-centered jewelry-making experience designed to spark creativity\, mindfulness\, and connection in our Scarlet community. At each workshop\, Resinators create unique pieces using UV resin\, natural elements like dried flowers or leaves\, and playful add-ins like glitter\, foil flakes\, or personal touches. A tiny concert photo? A seashell from a beach? Perfect. It’s not just jewelry — it’s a piece of you. \nOpen to students\, staff\, and faculty\, we explore social\, emotional\, and spiritual wellness in a calming\, beginner-friendly space with relaxing music and low-pressure vibes. \nThere will be two Resinate workshops in the Fall\, and two or three more in the Spring. \nFall dates are October 15 and November 19th. Please select ONLY ONE to attend! Both sessions are on Wednesdays\, 6-8 PM at The Yard Commons. \nSpring dates:  TBD \nRegister here:  https://docs.google.com/forms/d/e/1FAIpQLSfr1gk08BB7E-ytUNQjKL-POn1F188y4_bmT35oaz2LIUUTLw/viewform
URL:https://wellnesscalendar.rutgers.edu/event/resinate-resin-jewelry-workshop/2025-11-19/
LOCATION:College Avenue Campus\, The Yard\, 40 College Ave\, New Brunswick\, 08901\, United States
CATEGORIES:Emotional/Mental Health
ATTACH;FMTTYPE=image/jpeg:https://wellnesscalendar.rutgers.edu/wp-content/uploads/2025/10/AdobeStock_328005889.jpeg
END:VEVENT
END:VCALENDAR