BEGIN:VCALENDAR
VERSION:2.0
PRODID:-//Wellness Events Calendar - ECPv6.11.2//NONSGML v1.0//EN
CALSCALE:GREGORIAN
METHOD:PUBLISH
X-WR-CALNAME:Wellness Events Calendar
X-ORIGINAL-URL:https://wellnesscalendar.rutgers.edu
X-WR-CALDESC:Events for Wellness Events Calendar
REFRESH-INTERVAL;VALUE=DURATION:PT1H
X-Robots-Tag:noindex
X-PUBLISHED-TTL:PT1H
BEGIN:VTIMEZONE
TZID:America/New_York
BEGIN:DAYLIGHT
TZOFFSETFROM:-0500
TZOFFSETTO:-0400
TZNAME:EDT
DTSTART:20250309T070000
END:DAYLIGHT
BEGIN:STANDARD
TZOFFSETFROM:-0400
TZOFFSETTO:-0500
TZNAME:EST
DTSTART:20251102T060000
END:STANDARD
END:VTIMEZONE
BEGIN:VEVENT
DTSTART;TZID=America/New_York:20251120T110000
DTEND;TZID=America/New_York:20251120T160000
DTSTAMP:20260424T075413
CREATED:20251010T224403Z
LAST-MODIFIED:20251015T122912Z
UID:10003030-1763636400-1763654400@wellnesscalendar.rutgers.edu
SUMMARY:Rutgers Community Farmers Market - College Ave. (Thursdays)
DESCRIPTION:The Rutgers Community Farmers Market team is excited to invite YOU to our on-campus farmers market! Managed by Rutgers students and staff\, we partner with local growers and vendors who sell fresh fruits & vegetables\, and artisanal products. ALL of our market locations accept food benefits such as SNAP/EBT\, WIC & WIC FMNP\, Senior FMNP\, and Good Food Bucks! Plus – your produce is half off if you use those benefits! \nThe College Ave. Farmers Market is open every Thursday\, except Oct 16th. Any changes to the market’s opening status due to weather or other reasons will be updated on our Instagram account as soon as possible.  \nStay up to date with Market Vendors & Programs: Follow our Instagram ( @rutgersfarmersmarket: https://www.instagram.com/rutgersfarmersmarket/ ) AND sign up for our newsletter: Whole week schedule: https://go.rutgers.edu/newslettercooks Cook’s Market: https://go.rutgers.edu/newslettercooks
URL:https://wellnesscalendar.rutgers.edu/event/rutgers-community-farmers-market-college-ave/2025-11-20/
LOCATION:College Ave Student Center (CASC)\, 126 College Avenue\, New Brunswick\, NJ\, 08901\, United States
CATEGORIES:Other
ATTACH;FMTTYPE=image/png:https://wellnesscalendar.rutgers.edu/wp-content/uploads/2025/10/College_Ave.png
END:VEVENT
BEGIN:VEVENT
DTSTART;TZID=America/New_York:20251120T120000
DTEND;TZID=America/New_York:20251120T121500
DTSTAMP:20260424T075413
CREATED:20251110T181820Z
LAST-MODIFIED:20251110T192049Z
UID:10002386-1763640000-1763640900@wellnesscalendar.rutgers.edu
SUMMARY:Mini Meditation Thursdays
DESCRIPTION:Feeling stressed? Need a short break during your day? Join us at noon on Thursdays in November and December for an ongoing mini meditation break. Short\, guided meditations (most will be 10 minutes or less). \nSessions will be held on:  11/13\, 11/20\, 12/4\, 12/11\, 12/18 \nNOTE:  Class will not be held on 11/27 (Thanksgiving Day) \nAll sessions will be on zoom – please use this link to join: \nhttps://rutgers.zoom.us/my/millotse?pwd=dEx1TmRURFprNGdGRWpTcm93ak04Zz09 \nSponsored by: \nUBHC – Rutgers University Behavior Health Care \nSWP – Student Wellness Program (RBHS programs) \nSHS – Student Health Services (Student Counseling Services for New Jersey Medical School and School of Graduate Studies in Newark) \nQuestions? Contact Sarah Ben Younes-Millot: millotse@rutgers.edu
URL:https://wellnesscalendar.rutgers.edu/event/mini-meditation-thursdays-2-2-3-2/2025-11-20/
LOCATION:Virtual Event
CATEGORIES:Emotional/Mental Health
ATTACH;FMTTYPE=image/png:https://wellnesscalendar.rutgers.edu/wp-content/uploads/2025/04/Meditation_Flyer_All_4_25_snip-1-e1762798638488.png
END:VEVENT
BEGIN:VEVENT
DTSTART;TZID=America/New_York:20251120T130000
DTEND;TZID=America/New_York:20251120T140000
DTSTAMP:20260424T075413
CREATED:20250930T193036Z
LAST-MODIFIED:20250930T193036Z
UID:10002970-1763643600-1763647200@wellnesscalendar.rutgers.edu
SUMMARY:RU Connected Community Building Circles
DESCRIPTION:Join Our Community Building Circles – Empower Yourself and Connect! \nLooking to gain deeper self-awareness\, build meaningful connections\, and develop essential life skills? Our Community Building Circles offer a supportive space for students to share stories\, process experiences\, and enhance personal growth. Whether you’re navigating personal challenges\, academic stress\, or social dynamics\, this group is designed to help you thrive!\nExplore topics like anxiety\, relationships\, friendships\, self-care\, imposter syndrome\, identity\, grief/loss\, and more – all in a safe\, inclusive environment. Strengthen your confidence\, independence\, and sense of belonging while gaining valuable tools for life’s ups and downs. This is your chance to be part of a community that nurtures growth\, resilience\, and connection.\nReady to join? Refer yourself or a friend today and start your journey toward a more empowered and connected life! \nThursdays throughout the semester\, 1:00pm – 2:00pm @ CAPS.
URL:https://wellnesscalendar.rutgers.edu/event/ru-connected-community-building-circles/2025-11-20/
LOCATION:CAPS (Counseling\, Alcohol and Other Drug Assistance Program & Psychiatric Services)\, 17 Senior Street\, New Brunswick\, 08901\, United States
CATEGORIES:Emotional/Mental Health
ATTACH;FMTTYPE=image/png:https://wellnesscalendar.rutgers.edu/wp-content/uploads/2025/09/Community_building_Circles___CAPS_Flyer.png
END:VEVENT
BEGIN:VEVENT
DTSTART;TZID=America/New_York:20251120T170000
DTEND;TZID=America/New_York:20251120T180000
DTSTAMP:20260424T075413
CREATED:20250915T141400Z
LAST-MODIFIED:20250915T141551Z
UID:10002773-1763658000-1763661600@wellnesscalendar.rutgers.edu
SUMMARY:Thursdays in Motion: Grad Student Yoga and Pilates **PILATES TODAY**
DESCRIPTION:Join us on Thursdays in the Fall 2025 semester to take a pause from your busy week by relaxing your mind and body with your fellow graduate students. Starting 9/18 – 11/20\, we will be providing movement activities\, alternating between Yoga and Pilates. No registration needed. Mats and blocks are provided\, and all skill levels are welcome! \nYoga: 9/18\, 10/2\, 10/16\, 10/30\, 11/13 \nPilates: 9/25\, 10/9\, 10/23\, 11/6\, 11/20 \nEmail gradstudentlife@echo.rutgers.edu with any questions. \nGraduate Student Yoga is hosted by Rutgers Recreation and Office of Graduate Student Life.
URL:https://wellnesscalendar.rutgers.edu/event/thursdays-in-motion-grad-student-yoga-and-pilates-pilates-today/2025-11-20/
LOCATION:Graduate Student Lounge\, 126 College Avenue\, New Brunswick\, NJ\, 08901\, United States
CATEGORIES:Physical/Movement
ATTACH;FMTTYPE=image/jpeg:https://wellnesscalendar.rutgers.edu/wp-content/uploads/2025/09/Thursdays_in_Motion_Grad_YogaPilates_Fall_25_Flyer.jpg
ORGANIZER;CN="Graduate Student Life":MAILTO:gradstudentlife@echo.rutgers.edu
END:VEVENT
BEGIN:VEVENT
DTSTART;TZID=America/New_York:20251120T190000
DTEND;TZID=America/New_York:20251120T213000
DTSTAMP:20260424T075413
CREATED:20251119T150002Z
LAST-MODIFIED:20251119T150037Z
UID:10003182-1763665200-1763674200@wellnesscalendar.rutgers.edu
SUMMARY:Beloved- A Night for Women Series: Friendsgiving!
DESCRIPTION:Join us for a cozy Friendsgiving Evening for Women! \nWe’re gathering for a night of fellowship\, delicious home cooked food\, and joyful community as we celebrate gratitude and friendship together. Although this event is in partnership with the Rutgers Catholic women’s community\, all women are welcome\, no matter your faith or background! \nExpect warm conversation\, laughter\, and a relaxed space to connect with others. Feel free to bring a snack to share if you’d like\, but it’s not required. Just bring yourself! \nWe can’t wait to meet you and spend a beautiful Friendsgiving evening together! \nTo locate the Parish Hall: St. Peter’s Catholic Church is on Somerset Street (College Ave Campus). Facing the church\, there are stairs to the right that will take you down to a side entrance to the Parish Hall\, which is where this event will be held. 
URL:https://wellnesscalendar.rutgers.edu/event/beloved-a-night-for-women-series-friendsgiving/
LOCATION:St. Peters Church Parish Hall\, 94 Somerset Street\, New Brunswick\, 08901\, United States
CATEGORIES:Other
ATTACH;FMTTYPE=image/jpeg:https://wellnesscalendar.rutgers.edu/wp-content/uploads/2025/11/AdobeStock_952720821.jpeg
END:VEVENT
BEGIN:VEVENT
DTSTART;TZID=America/New_York:20251120T210000
DTEND;TZID=America/New_York:20251120T230000
DTSTAMP:20260424T075413
CREATED:20250711T185608Z
LAST-MODIFIED:20250711T185933Z
UID:10002572-1763672400-1763679600@wellnesscalendar.rutgers.edu
SUMMARY:Observe the night sky!
DESCRIPTION:Observe the night sky through a 20-inch optical telescope at the Robert A. Schommer Astronomical Observatory on Rutgers’ Busch Campus. \nPublic open viewing nights are scheduled for the second\, third and fourth Thursdays of each month\, weather permitting. Free admission! \nObserving will be canceled for that night if the skies are cloudy at the beginning of the observing session. Please check this web-site for the most up-to-date information. https://observatory.rutgers.edu/ \nNaked-eye visibility of satellites from the Robert A. Schommer Astronomical Observatory may be found at the Heavens-Above Main Page . \nMore details on location: The Robert A. Schommer Astronomical Observatory is located in the dome on the roof of the Serin Physics Laboratories on the corner of Frelinghuysen Road and Allison Road on the Busch Campus of Rutgers\, the State University of New Jersey. Our address is 136 Frelinghuysen Road\, Piscataway\, NJ and directions to our building are available. The public can park in lot 53 (between the building and the street) or lot 53A (about one block east on the other side of Frelinghuysen Road)\, but should obtain an electronic permit beforehand. To obtain the permit\, follow this link. Rutgers faculty\, staff\, and students do not need to obtain an additional permit\, but should only park in lots allowed by their existing parking permits (in most cases\, this does NOT include lot 53). Enter the doors on the west end of the building (facing Allison Road) and take the stairs (left or right sides of the lobby) or the elevator (left side of the lobby) to the fourth floor.
URL:https://wellnesscalendar.rutgers.edu/event/observe-the-night-sky-2/2025-11-20/
LOCATION:Robert A. Schommer Astronomical Observatory\, 136 Frelinghuysen Road\, Piscataway\, 08854\, United States
CATEGORIES:Emotional/Mental Health,Environment/Nature
ATTACH;FMTTYPE=image/jpeg:https://wellnesscalendar.rutgers.edu/wp-content/uploads/2025/03/AdobeStock_316942402.jpeg
END:VEVENT
END:VCALENDAR