BEGIN:VCALENDAR
VERSION:2.0
PRODID:-//Wellness Events Calendar - ECPv6.11.2//NONSGML v1.0//EN
CALSCALE:GREGORIAN
METHOD:PUBLISH
X-ORIGINAL-URL:https://wellnesscalendar.rutgers.edu
X-WR-CALDESC:Events for Wellness Events Calendar
REFRESH-INTERVAL;VALUE=DURATION:PT1H
X-Robots-Tag:noindex
X-PUBLISHED-TTL:PT1H
BEGIN:VTIMEZONE
TZID:America/New_York
BEGIN:DAYLIGHT
TZOFFSETFROM:-0500
TZOFFSETTO:-0400
TZNAME:EDT
DTSTART:20250309T070000
END:DAYLIGHT
BEGIN:STANDARD
TZOFFSETFROM:-0400
TZOFFSETTO:-0500
TZNAME:EST
DTSTART:20251102T060000
END:STANDARD
END:VTIMEZONE
BEGIN:VEVENT
DTSTART;TZID=America/New_York:20251206T090000
DTEND;TZID=America/New_York:20251206T170000
DTSTAMP:20260423T214508
CREATED:20251121T023812Z
LAST-MODIFIED:20251121T023812Z
UID:10003183-1765011600-1765040400@wellnesscalendar.rutgers.edu
SUMMARY:Fit For Scholarships Fundraiser @ 24 Hour Fitness
DESCRIPTION:📣 Fit for Scholarships: 24 Hour Fitness x Rutgers SHP Scholarship Fundraiser \nJoin us for a high-energy\, community-wide fitness event benefiting Rutgers School of Health Professions student scholarships! Whether you’re a seasoned athlete or just looking to support a meaningful cause\, this event brings together students\, faculty\, alumni\, and local partners for a day full of competition\, prizes\, and community impact.\n🏆 WHAT’S HAPPENING\nParticipants can compete in one—or all—of the following challenges:\n🔶 Co-Ed 3-on-3 Basketball Tournament\nBring a team and show off your best game!\n🔶 Nychthemeron LIFT Challenge ($20)\nBench • Squat • Deadlift — Who can lift the highest combined total?\nMinimums: Men 135 lbs | Women 95 lbs\n🔶 Nychthemeron ENDURANCE Challenge ($20)\nWho can last the longest at speed 9 on the treadmill?\n🔶 Calisthenics Clash ($20)\nPush-Ups • Pull-Ups • Dips — Strength meets skill.\n💥 All fitness levels welcome—come compete or cheer others on! \n🎉 PLUS…\nZumba class at 10:15 AM ($10 to participate)\nBasket raffles\, local sponsor giveaways\, and pop-up surprises all day\nCustom trophies + FREE 24 Hour Fitness memberships for winners\nCan’t make it in person? Purchase raffle tickets online!\n🎁 BASKET RAFFLE & DONATIONS\nEnter to win themed prize baskets donated by amazing local businesses\, including:\nAmazing Lash Studio – Piscataway\nFood Bazaar – Piscataway\nGreen Acres – Piscataway\nNothing Bundt Cakes – South Plainfield\nCrumbl Cookies – South Plainfield\nWawa – Piscataway\n…and more!\n🎓 WHY THIS MATTERS\nAll proceeds directly support Rutgers SHP Student Scholarships\, helping reduce financial burden\, increase access to education\, and recognize student leadership\, service\, and academic excellence.\nThis event is powered by collaboration between Rutgers SHP Student Government Association (SGA) and 24 Hour Fitness with support from local community partners.
URL:https://wellnesscalendar.rutgers.edu/event/fit-for-scholarships-fundraiser-24-hour-fitness/
LOCATION:24 Hour Fitness\, 1327 Centennial Avenue\, Piscataway\, NJ\, 08854\, United States
CATEGORIES:Physical/Movement
ATTACH;FMTTYPE=image/jpeg:https://wellnesscalendar.rutgers.edu/wp-content/uploads/2025/11/AdobeStock_441227572.jpeg
END:VEVENT
END:VCALENDAR