BEGIN:VCALENDAR
VERSION:2.0
PRODID:-//Wellness Events Calendar - ECPv6.11.2//NONSGML v1.0//EN
CALSCALE:GREGORIAN
METHOD:PUBLISH
X-WR-CALNAME:Wellness Events Calendar
X-ORIGINAL-URL:https://wellnesscalendar.rutgers.edu
X-WR-CALDESC:Events for Wellness Events Calendar
REFRESH-INTERVAL;VALUE=DURATION:PT1H
X-Robots-Tag:noindex
X-PUBLISHED-TTL:PT1H
BEGIN:VTIMEZONE
TZID:America/New_York
BEGIN:DAYLIGHT
TZOFFSETFROM:-0500
TZOFFSETTO:-0400
TZNAME:EDT
DTSTART:20250309T070000
END:DAYLIGHT
BEGIN:STANDARD
TZOFFSETFROM:-0400
TZOFFSETTO:-0500
TZNAME:EST
DTSTART:20251102T060000
END:STANDARD
END:VTIMEZONE
BEGIN:VEVENT
DTSTART;VALUE=DATE:20251209
DTEND;VALUE=DATE:20251216
DTSTAMP:20260419T095857
CREATED:20251208T173356Z
LAST-MODIFIED:20251208T173356Z
UID:10003190-1765238400-1765843199@wellnesscalendar.rutgers.edu
SUMMARY:Stress Buster Event - Rock Painting!
DESCRIPTION:Rock Painting Break – A Simple Way to Relax! \nTake a short break from your studies and join us for a calming rock painting session at the Math/Physics Library. This hands-on activity gives you a quiet space to relax\, reset\, and express your creativity. Materials are provided.
URL:https://wellnesscalendar.rutgers.edu/event/stress-buster-event-rock-painting/
LOCATION:Math and Physics Library\, 110 Frelinghuysen Rd.\, Piscataway\, 08854\, United States
CATEGORIES:Art/Music
ATTACH;FMTTYPE=image/png:https://wellnesscalendar.rutgers.edu/wp-content/uploads/2025/12/2025_Stress_Buster_Event_Rock_Painting.png
END:VEVENT
BEGIN:VEVENT
DTSTART;TZID=America/New_York:20251210T163000
DTEND;TZID=America/New_York:20251210T173000
DTSTAMP:20260419T095857
CREATED:20250908T135300Z
LAST-MODIFIED:20250908T135756Z
UID:10002707-1765384200-1765387800@wellnesscalendar.rutgers.edu
SUMMARY:Embodied Wellness and Connection Through Polestar Pilates Mat
DESCRIPTION:Step away from your desk! This wellness series helps Rutgers-New Brunswick faculty and staff reduce stress\, recharge\, and reconnect through movement.  Mats will be provided. \nLocation:  IFNH building\, Cook Campus. To be held on select Wednesdays from 4:30pm – 5:30pm. See dates and registration links below. \nSessions are FREE but please register for each session separately.  Space is limited (20 participants). \n\n 9/10/2025 https://rutgers.ca1.qualtrics.com/jfe/form/SV_2mCjFa0sb05wJfw \n\n\n10/8/2025 https://rutgers.ca1.qualtrics.com/jfe/form/SV_5atbxlkYrAao1GS \n\n\n11/5/2025 https://rutgers.ca1.qualtrics.com/jfe/form/SV_cOcmk4Nu6CBBhm6 \n\n\n11/19/2025 https://rutgers.ca1.qualtrics.com/jfe/form/SV_bpvJLJcCG2EoVj8 \n\n\n12/10/2025 https://rutgers.ca1.qualtrics.com/jfe/form/SV_9uV6IKfF60kTkI6 \n\nEvent flyer:  https://rutgers.yul1.qualtrics.com/ControlPanel/File.php?F=F_3Mnua38sGGrDtpL
URL:https://wellnesscalendar.rutgers.edu/event/embodied-wellness-and-connection-through-polestar-pilates-mat-2/2025-12-10/
LOCATION:Institute for Food\, Nutrition and Health (IFNH) (Cook Campus)\, 61 Dudley Rd.\, New Brunswick\, NJ\, 08901\, United States
CATEGORIES:Physical/Movement
ATTACH;FMTTYPE=image/jpeg:https://wellnesscalendar.rutgers.edu/wp-content/uploads/2025/03/AdobeStock_440988022-1.jpeg
END:VEVENT
BEGIN:VEVENT
DTSTART;TZID=America/New_York:20251210T170000
DTEND;TZID=America/New_York:20251210T180000
DTSTAMP:20260419T095857
CREATED:20251205T154202Z
LAST-MODIFIED:20251205T201225Z
UID:10003189-1765386000-1765389600@wellnesscalendar.rutgers.edu
SUMMARY:Twilight Yoga
DESCRIPTION:We invite you to join Rutgers Recreation on Wednesday\, December 10 (5:00–6:00 PM) at the College Avenue Gym (Upper Gym) for a gentle\, candle-lit yoga class to help you revive\, relax\, and renew before exams. Mats provided\, class open to all levels\, and stay after for giveaways and raffle prizes.
URL:https://wellnesscalendar.rutgers.edu/event/twilight-yoga-2/
LOCATION:College Ave Gym\, 130 College Ave\, New Brunswick\, 08901\, United States
CATEGORIES:Emotional/Mental Health,Physical/Movement
ATTACH;FMTTYPE=image/jpeg:https://wellnesscalendar.rutgers.edu/wp-content/uploads/2025/12/twilight-yoga.jpg
END:VEVENT
END:VCALENDAR