BEGIN:VCALENDAR
VERSION:2.0
PRODID:-//Wellness Events Calendar - ECPv6.11.2//NONSGML v1.0//EN
CALSCALE:GREGORIAN
METHOD:PUBLISH
X-WR-CALNAME:Wellness Events Calendar
X-ORIGINAL-URL:https://wellnesscalendar.rutgers.edu
X-WR-CALDESC:Events for Wellness Events Calendar
REFRESH-INTERVAL;VALUE=DURATION:PT1H
X-Robots-Tag:noindex
X-PUBLISHED-TTL:PT1H
BEGIN:VTIMEZONE
TZID:America/New_York
BEGIN:DAYLIGHT
TZOFFSETFROM:-0500
TZOFFSETTO:-0400
TZNAME:EDT
DTSTART:20260308T070000
END:DAYLIGHT
BEGIN:STANDARD
TZOFFSETFROM:-0400
TZOFFSETTO:-0500
TZNAME:EST
DTSTART:20261101T060000
END:STANDARD
END:VTIMEZONE
BEGIN:VEVENT
DTSTART;VALUE=DATE:20260209
DTEND;VALUE=DATE:20260210
DTSTAMP:20260420T023543
CREATED:20250613T165356Z
LAST-MODIFIED:20250613T165536Z
UID:10002491-1770595200-1770681599@wellnesscalendar.rutgers.edu
SUMMARY:Fitness and Wellness Classes (Rutgers Rec)
DESCRIPTION:Group fitness/wellness classes are provided at the 4 campus recreation centers\, free of charge to all users (students\, faculty\, staff\, and recreation members). The daily schedule can be viewed here https://go.rutgers.edu/recfitness or on RUREC2GO app. Please note\, schedule is subject to change. \nAll classes are first come/first serve (reservations are not available). Please arrive 10-15 minutes before the start of class to ensure your spot.\nEquipment and mats are provided. We encourage all participants to clean equipment and mats\, before and after use. Participants may bring a mat for personal use\, if desired. \nClasses are designed to accommodate all levels of fitness and experience. Modifications will be provided. Please speak with the instructor before class if you are new to the format.
URL:https://wellnesscalendar.rutgers.edu/event/fitness-and-wellness-classes-rutgers-rec/2026-02-09/
LOCATION:Multiple Rec Centers\, various\, New Brunswick\, 08901\, United States
CATEGORIES:Physical/Movement
ATTACH;FMTTYPE=image/jpeg:https://wellnesscalendar.rutgers.edu/wp-content/uploads/2025/06/Group-Fitness-classes-at-Rutgers-Rec-e1764597522988.jpg
END:VEVENT
BEGIN:VEVENT
DTSTART;TZID=America/New_York:20260209T123000
DTEND;TZID=America/New_York:20260209T133000
DTSTAMP:20260420T023543
CREATED:20260203T164016Z
LAST-MODIFIED:20260203T183218Z
UID:10003235-1770640200-1770643800@wellnesscalendar.rutgers.edu
SUMMARY:Crafternoon with ODS and Scarlet Arts Rx!
DESCRIPTION:The Office of Disability Services is hosting a community-building crafting hour for undergraduate and graduate students with disabilities and disability allies. Come bead friendship bracelets and mosaic tiles with Scarlet Arts Rx! Bring yourself\, a friend\, and your love for crafting. Snacks and cocoa will be served. \nThis event will take place at Lucy Stone Hall\, suite A145\, on Livingston Campus. \nQuestions or accommodation requests specific to this event? Please email dsoffice@echo.rutgers.edu\, call 848-202-3111\, or visit ODS in Lucy Stone Hall\, Suite A145\, Livingston Campus.
URL:https://wellnesscalendar.rutgers.edu/event/crafternoon-with-ods-and-scarlet-arts-rx/
LOCATION:Livingston Campus\, Lucy Stone Hall\, 54 Joyce Kilmer Ave\, Piscataway\, NJ\, 08854\, United States
CATEGORIES:Art/Music,Emotional/Mental Health
ATTACH;FMTTYPE=image/jpeg:https://wellnesscalendar.rutgers.edu/wp-content/uploads/2026/02/beaded-friendship-bracelets.jpeg
ORGANIZER;CN="Office of Disability Services":MAILTO:dsoffice@echo.rutgers.edu
END:VEVENT
END:VCALENDAR