BEGIN:VCALENDAR
VERSION:2.0
PRODID:-//Wellness Events Calendar - ECPv6.11.2//NONSGML v1.0//EN
CALSCALE:GREGORIAN
METHOD:PUBLISH
X-WR-CALNAME:Wellness Events Calendar
X-ORIGINAL-URL:https://wellnesscalendar.rutgers.edu
X-WR-CALDESC:Events for Wellness Events Calendar
REFRESH-INTERVAL;VALUE=DURATION:PT1H
X-Robots-Tag:noindex
X-PUBLISHED-TTL:PT1H
BEGIN:VTIMEZONE
TZID:America/New_York
BEGIN:DAYLIGHT
TZOFFSETFROM:-0500
TZOFFSETTO:-0400
TZNAME:EDT
DTSTART:20260308T070000
END:DAYLIGHT
BEGIN:STANDARD
TZOFFSETFROM:-0400
TZOFFSETTO:-0500
TZNAME:EST
DTSTART:20261101T060000
END:STANDARD
END:VTIMEZONE
BEGIN:VEVENT
DTSTART;TZID=America/New_York:20260212T180000
DTEND;TZID=America/New_York:20260226T184500
DTSTAMP:20260419T084008
CREATED:20260204T213109Z
LAST-MODIFIED:20260204T213109Z
UID:10003245-1770919200-1772131500@wellnesscalendar.rutgers.edu
SUMMARY:Spinning® with Dr Ariel Leget
DESCRIPTION:Join us on Thursday 2/12 and 2/26 for Spinning® with Dr Ariel Leget at Werblin Recreation Center\, Cycle studio 6:00-6:45 PM. The Spinning program always welcomes new class participants to this low-impact cardiovascular workout. These classes are part of the drop-in Fitness and Wellness class schedule. \nNo registration required. Just drop in! \n 
URL:https://wellnesscalendar.rutgers.edu/event/spinning-with-dr-ariel-leget/2026-02-12/
LOCATION:Werblin Recreation Center (Busch Campus)\, 656 Bartholomew Rd\, Piscataway\, 08854\, United States
CATEGORIES:Art/Music,Physical/Movement
ATTACH;FMTTYPE=image/png:https://wellnesscalendar.rutgers.edu/wp-content/uploads/2026/02/spinning-with-Dr.-Ariel-Leget.png
END:VEVENT
BEGIN:VEVENT
DTSTART;TZID=America/New_York:20260224T080000
DTEND;TZID=America/New_York:20260224T084000
DTSTAMP:20260419T084008
CREATED:20260206T154259Z
LAST-MODIFIED:20260206T160549Z
UID:10003257-1771920000-1771922400@wellnesscalendar.rutgers.edu
SUMMARY:Meet Your Stretch Goals: Morning Stretch Session
DESCRIPTION:This event provides the opportunity to start your morning with 30 minutes of dedicated stretching to relax the muscles and enter the workday calm and focused. A Rutgers Recreation instructor will guide you in movements aimed at releasing stored-up tension\, promote healthy blood flow in the body\, and reduce mental fog that can come with early mornings. \nMaximum 30 participants.  Registration link or event website\nhttps://go.rutgers.edu/stretchgoals
URL:https://wellnesscalendar.rutgers.edu/event/meet-your-stretch-goals-morning-stretch-session/
LOCATION:Sonny Werblin Recreation Center- Busch Campus\, 656 Bartholomew Rd\, Piscataway\, 08854\, United States
CATEGORIES:Emotional/Mental Health,Physical/Movement
ATTACH;FMTTYPE=image/jpeg:https://wellnesscalendar.rutgers.edu/wp-content/uploads/2026/02/AdobeStock_132111328.jpeg
END:VEVENT
END:VCALENDAR