BEGIN:VCALENDAR
VERSION:2.0
PRODID:-//Wellness Events Calendar - ECPv6.11.2//NONSGML v1.0//EN
CALSCALE:GREGORIAN
METHOD:PUBLISH
X-WR-CALNAME:Wellness Events Calendar
X-ORIGINAL-URL:https://wellnesscalendar.rutgers.edu
X-WR-CALDESC:Events for Wellness Events Calendar
REFRESH-INTERVAL;VALUE=DURATION:PT1H
X-Robots-Tag:noindex
X-PUBLISHED-TTL:PT1H
BEGIN:VTIMEZONE
TZID:America/New_York
BEGIN:DAYLIGHT
TZOFFSETFROM:-0500
TZOFFSETTO:-0400
TZNAME:EDT
DTSTART:20260308T070000
END:DAYLIGHT
BEGIN:STANDARD
TZOFFSETFROM:-0400
TZOFFSETTO:-0500
TZNAME:EST
DTSTART:20261101T060000
END:STANDARD
END:VTIMEZONE
BEGIN:VEVENT
DTSTART;VALUE=DATE:20260402
DTEND;VALUE=DATE:20260413
DTSTAMP:20260424T001209
CREATED:20260402T014135Z
LAST-MODIFIED:20260402T014943Z
UID:10003357-1775088000-1776038399@wellnesscalendar.rutgers.edu
SUMMARY:Thank-A-Grad for Graduate and Professional Student Appreciation Week
DESCRIPTION:Submit a message to an outstanding graduate or professional student in your life!  Now through April 11th\, faculty\, staff\, and students from across Rutgers-New Brunswick are invited to submit letters of gratitude to recognize the outstanding graduate and professional students in their lives. \nThank-A-Grad is an initiative organized by the Office of Graduate Student Life in the Division of Student Affairs during Graduate and Professional Student Appreciation Week. \n 
URL:https://wellnesscalendar.rutgers.edu/event/thank-a-grad-for-graduate-and-professional-student-appreciation-week/
LOCATION:Virtual Event
CATEGORIES:Emotional/Mental Health
ATTACH;FMTTYPE=image/png:https://wellnesscalendar.rutgers.edu/wp-content/uploads/2026/04/Thank_A_Grad_2026.png
ORGANIZER;CN="Graduate Student Life":MAILTO:gradstudentlife@echo.rutgers.edu
END:VEVENT
BEGIN:VEVENT
DTSTART;TZID=America/New_York:20260412T080000
DTEND;TZID=America/New_York:20260412T170000
DTSTAMP:20260424T001209
CREATED:20260204T004503Z
LAST-MODIFIED:20260204T004503Z
UID:10003240-1775980800-1776013200@wellnesscalendar.rutgers.edu
SUMMARY:Hiking at Mount Tammany
DESCRIPTION:Mount Tammany in the Delaware Water Gap is by far one of our long-time staff favorite hikes. This is a shorter hike with a good elevation gain and sweeping views of the mountains of Pennsylvania as well as the river. The going is rocky\, but the views and waterfalls keep us coming back again and again. \n Please meet at the Cook Rec Center- Base Camp at 8 AM \nCost: $20 \nRegistration required. For more information or to register\, follow this link:  go.rutgers.edu/recoutdoor
URL:https://wellnesscalendar.rutgers.edu/event/hiking-at-mount-tammany/
LOCATION:Mount Tammany
CATEGORIES:Environment/Nature,Physical/Movement
ATTACH;FMTTYPE=image/png:https://wellnesscalendar.rutgers.edu/wp-content/uploads/2026/02/Mount-Tammany.png
END:VEVENT
END:VCALENDAR