BEGIN:VCALENDAR
VERSION:2.0
PRODID:-//Wellness Events Calendar - ECPv6.11.2//NONSGML v1.0//EN
CALSCALE:GREGORIAN
METHOD:PUBLISH
X-WR-CALNAME:Wellness Events Calendar
X-ORIGINAL-URL:https://wellnesscalendar.rutgers.edu
X-WR-CALDESC:Events for Wellness Events Calendar
REFRESH-INTERVAL;VALUE=DURATION:PT1H
X-Robots-Tag:noindex
X-PUBLISHED-TTL:PT1H
BEGIN:VTIMEZONE
TZID:America/New_York
BEGIN:DAYLIGHT
TZOFFSETFROM:-0500
TZOFFSETTO:-0400
TZNAME:EDT
DTSTART:20260308T070000
END:DAYLIGHT
BEGIN:STANDARD
TZOFFSETFROM:-0400
TZOFFSETTO:-0500
TZNAME:EST
DTSTART:20261101T060000
END:STANDARD
END:VTIMEZONE
BEGIN:VEVENT
DTSTART;VALUE=DATE:20260413
DTEND;VALUE=DATE:20260414
DTSTAMP:20260424T051542
CREATED:20250613T165356Z
LAST-MODIFIED:20250613T165536Z
UID:10002500-1776038400-1776124799@wellnesscalendar.rutgers.edu
SUMMARY:Fitness and Wellness Classes (Rutgers Rec)
DESCRIPTION:Group fitness/wellness classes are provided at the 4 campus recreation centers\, free of charge to all users (students\, faculty\, staff\, and recreation members). The daily schedule can be viewed here https://go.rutgers.edu/recfitness or on RUREC2GO app. Please note\, schedule is subject to change. \nAll classes are first come/first serve (reservations are not available). Please arrive 10-15 minutes before the start of class to ensure your spot.\nEquipment and mats are provided. We encourage all participants to clean equipment and mats\, before and after use. Participants may bring a mat for personal use\, if desired. \nClasses are designed to accommodate all levels of fitness and experience. Modifications will be provided. Please speak with the instructor before class if you are new to the format.
URL:https://wellnesscalendar.rutgers.edu/event/fitness-and-wellness-classes-rutgers-rec/2026-04-13/
LOCATION:Multiple Rec Centers\, various\, New Brunswick\, 08901\, United States
CATEGORIES:Physical/Movement
ATTACH;FMTTYPE=image/jpeg:https://wellnesscalendar.rutgers.edu/wp-content/uploads/2025/06/Group-Fitness-classes-at-Rutgers-Rec-e1764597522988.jpg
END:VEVENT
BEGIN:VEVENT
DTSTART;VALUE=DATE:20260413
DTEND;VALUE=DATE:20260427
DTSTAMP:20260424T051542
CREATED:20260318T190200Z
LAST-MODIFIED:20260318T210322Z
UID:10003323-1776038400-1777247999@wellnesscalendar.rutgers.edu
SUMMARY:Spring 26 Step Challenge
DESCRIPTION:Step into spring with the RU Rec 2-Week Step Challenge (Apr 13–26)! 🚶‍♀️ Join the fun with Rutgers Recreation and start logging your steps for a chance to win prizes sponsored by IKEA. Log any steps to enter weekly raffles for Amazon gift cards. Reach 52\,500 steps per week or 105\,000 total steps to unlock additional raffles for IKEA prizes\, personal training packages\, and massage appointments. Stay motivated with wellness tips\, boost your health\, and finish the semester strong. Grab a friend\, register\, and start stepping! 🏆 \n  \nRegister here: go.rutgers.edu/step26
URL:https://wellnesscalendar.rutgers.edu/event/spring-26-step-challenge/
LOCATION:Virtual Event
CATEGORIES:Physical/Movement
ATTACH;FMTTYPE=image/jpeg:https://wellnesscalendar.rutgers.edu/wp-content/uploads/2026/03/AdobeStock_235430174.jpeg
END:VEVENT
BEGIN:VEVENT
DTSTART;TZID=America/New_York:20260413T083000
DTEND;TZID=America/New_York:20260417T163000
DTSTAMP:20260424T051542
CREATED:20260406T143848Z
LAST-MODIFIED:20260406T203009Z
UID:10003366-1776069000-1776443400@wellnesscalendar.rutgers.edu
SUMMARY:Animal Shelter Donation Drive
DESCRIPTION:Pets bring us immense joy and play a powerful role in supporting our wellness. In celebration of Wellness Week—and as part of ScarletWell’s grant winning Pawsitive Connections initiative—we’re collecting donations to give back to our local furry friends who are still waiting to find their furever homes or those needing medical attention. \n*All donations will go to Somerset Regional Animal Shelter and Scarlet Paws Animal Welfare Network \nDropoff location:  One Stop Student Services Center \nPLEASE NOTE drop off dates and times below: \nMonday April 13 – Thursday\, April 16th\, 8:30AM- 4:30PM \nFriday\, April 17\, 11:00AM-4:30AM \nWish List Items Include:\nBlankets or large towels\nCat carriers and pet crates\nUnexpired\, unopened cat and dog food (Friskies\, Fancy Feast\, Royal Canin\,\nPurina ONE\, Blue)\nUnopen cat litter\nDog\, puppy\, cat and kitten toys\nNylabones and bully slicks\nDog beds\nGently used or new leashes and collars \n 
URL:https://wellnesscalendar.rutgers.edu/event/animal-shelter-donation-drive/
LOCATION:One Stop Student Services Center\, 65 Davidson Road\, Piscataway\, NJ\, 08854\, United States
CATEGORIES:Emotional/Mental Health,Environment/Nature
ATTACH;FMTTYPE=image/jpeg:https://wellnesscalendar.rutgers.edu/wp-content/uploads/2026/04/istockphoto_1777913264_612x612.jpg
END:VEVENT
BEGIN:VEVENT
DTSTART;TZID=America/New_York:20260413T100000
DTEND;TZID=America/New_York:20260413T120000
DTSTAMP:20260424T051542
CREATED:20260402T015830Z
LAST-MODIFIED:20260402T015830Z
UID:10003359-1776074400-1776081600@wellnesscalendar.rutgers.edu
SUMMARY:Campus Connect- Suicide Prevention Gatekeeper Training
DESCRIPTION:This interactive training focuses on enhancing gatekeepers’ knowledge\, awareness\, and skills concerning college student suicide. It aims to increase knowledge about statistics\, risk and protective factors\, warning signs\, and campus resources. Open to all Rutgers Members. \nRegistration link / event website:\nhttps://go.rutgers.edu/Campus-Connect
URL:https://wellnesscalendar.rutgers.edu/event/campus-connect-suicide-prevention-gatekeeper-training-4/
LOCATION:Virtual Event
CATEGORIES:Emotional/Mental Health
ATTACH;FMTTYPE=image/png:https://wellnesscalendar.rutgers.edu/wp-content/uploads/2026/04/Campus_Connect_3_Wellness_Calendar.png
END:VEVENT
BEGIN:VEVENT
DTSTART;TZID=America/New_York:20260413T120000
DTEND;TZID=America/New_York:20260413T130000
DTSTAMP:20260424T051542
CREATED:20260402T123254Z
LAST-MODIFIED:20260402T123254Z
UID:10003363-1776081600-1776085200@wellnesscalendar.rutgers.edu
SUMMARY:Beyond the Academy: Finding and Securing Internships in the Humanities and Social Sciences
DESCRIPTION:This talk introduces graduate students in the humanities and social sciences to the value\, process\, and possibilities of pursuing internships during their doctoral studies. Drawing on early content from a new Internship Toolkit currently in development on Canvas\, the session will help participants understand how internships can enhance their scholarly and professional development\, expand their career options\, and support meaningful public engagement. The talk will explore identifying and aligning internship opportunities with personal values\, skills\, and goals\, using tools like ImaginePhD. It will also cover where and how to find internships beyond traditional job boards\, as well as strategies for securing competitive\, paid positions. Whether you’re exploring non-academic career paths or seeking to amplify the impact of your research\, this session will provide practical guidance and inspiration. \nRegister here:\nhttps://docs.google.com/forms/d/e/1FAIpQLSd3_PhPkOoX6uuA3yX6oPn8GPmGhn2mzD1P08plPwMUm5A-TQ/viewform
URL:https://wellnesscalendar.rutgers.edu/event/beyond-the-academy-finding-and-securing-internships-in-the-humanities-and-social-sciences/
LOCATION:Virtual Event
CATEGORIES:Other
ATTACH;FMTTYPE=image/jpeg:https://wellnesscalendar.rutgers.edu/wp-content/uploads/2026/04/AdobeStock_514405046.jpeg
ORGANIZER;CN="Graduate Student Life":MAILTO:gradstudentlife@echo.rutgers.edu
END:VEVENT
BEGIN:VEVENT
DTSTART;TZID=America/New_York:20260413T120000
DTEND;TZID=America/New_York:20260413T130000
DTSTAMP:20260424T051542
CREATED:20260408T154612Z
LAST-MODIFIED:20260408T155849Z
UID:10003378-1776081600-1776085200@wellnesscalendar.rutgers.edu
SUMMARY:Wellness Week: Mat Pilates
DESCRIPTION:Please join us for this FREE mat Pilates class! This session is designed to help improve strength\, flexibility\, and mindfulness.  No prior experience necessary\, and all equipment will be provided. \nRegistration link / event website\nhttps://forms.gle/NBp7HEmczysKeTQ76
URL:https://wellnesscalendar.rutgers.edu/event/wellness-week-mat-pilates/
LOCATION:Institute for Food\, Nutrition and Health (IFNH) (Cook Campus)\, 61 Dudley Rd.\, New Brunswick\, NJ\, 08901\, United States
CATEGORIES:Physical/Movement
ATTACH;FMTTYPE=image/jpeg:https://wellnesscalendar.rutgers.edu/wp-content/uploads/2025/02/Polestar-Mat-Pilates.jpeg
END:VEVENT
BEGIN:VEVENT
DTSTART;TZID=America/New_York:20260413T120000
DTEND;TZID=America/New_York:20260413T160000
DTSTAMP:20260424T051542
CREATED:20260408T172533Z
LAST-MODIFIED:20260408T174015Z
UID:10003338-1776081600-1776096000@wellnesscalendar.rutgers.edu
SUMMARY:**SAVE THE DATE** April 19th Together in Motion - 5K and Wellness Day!
DESCRIPTION:Together in Motion 5K and Wellness Day event is a FREE\, inclusive wellness event held in recognition of Mental Health Awareness Month. Participants are invited to run\, walk\, or wheel\, and are encouraged to bring children\, strollers\, and pets. The event also features music\, food\, activities\, and a raffle for all attendees\, creating a fun and supportive community space focused on mental health and well-being. \nDate/Time:  Sunday\, April 19th\, from 12pm – 4pm. The 5k begins at 2pm! \nLocation:  Skelley Field on Cook/Douglass campus \nALL ACTIVITIES FOR THE DAY ARE FREE! \nRegistration link: Together in Motion 5K and Wellness Day
URL:https://wellnesscalendar.rutgers.edu/event/save-the-date-april-19th-together-in-motion-5k-and-wellness-day-2/
LOCATION:Skelley Field\, Cook/Douglass Campus\, 50 Biehl Road\, New Brunswick\, NJ\, 08901\, United States
CATEGORIES:Physical/Movement
ATTACH;FMTTYPE=image/jpeg:https://wellnesscalendar.rutgers.edu/wp-content/uploads/2026/03/AdobeStock_247133305.jpeg
END:VEVENT
BEGIN:VEVENT
DTSTART;TZID=America/New_York:20260413T123000
DTEND;TZID=America/New_York:20260413T133000
DTSTAMP:20260424T051542
CREATED:20260319T162934Z
LAST-MODIFIED:20260319T192610Z
UID:10003327-1776083400-1776087000@wellnesscalendar.rutgers.edu
SUMMARY:Crafter Noon: Felt Flower Keychains
DESCRIPTION:Stress less at Crafter Noon with Scarlet Arts Rx! The Office of Disability Services is hosting a social crafting hour for students with disabilities and disability allies. Take a break from your day to relax and create felt key chains. \nLocation:  Lucy Stone Hall\, 1st Floor Lobby\, Suite A145\, Livingston Campus \nPlease register in advance here: https://rutgers.ca1.qualtrics.com/jfe/form/SV_eE8klM8etI6KgHY?Q_CHL=qr \nFor more information:  https://rutgers.ca1.qualtrics.com/WRQualtricsControlPanel/File.php?F=F_1OISe1k5FoJfGQG \nDo you have any questions or accommodation requests specific to this event? Please email dsoffice@echo.rutgers.edu\, call 848-202-3111\, or visit ODS in Lucy Stone Hall\, Suite A145\, Livingston Campus.
URL:https://wellnesscalendar.rutgers.edu/event/crafter-noon-felt-flower-keychains/
LOCATION:Livingston Campus\, Lucy Stone Hall\, 54 Joyce Kilmer Ave\, Piscataway\, NJ\, 08854\, United States
CATEGORIES:Art/Music,Emotional/Mental Health
ATTACH;FMTTYPE=image/png:https://wellnesscalendar.rutgers.edu/wp-content/uploads/2026/03/Keychains__1_.png
ORGANIZER;CN="Office of Disability Services":MAILTO:dsoffice@echo.rutgers.edu
END:VEVENT
BEGIN:VEVENT
DTSTART;TZID=America/New_York:20260413T130000
DTEND;TZID=America/New_York:20260413T150000
DTSTAMP:20260424T051542
CREATED:20260312T012841Z
LAST-MODIFIED:20260313T014946Z
UID:10003318-1776085200-1776092400@wellnesscalendar.rutgers.edu
SUMMARY:Mood Boost Monday: Rock Painting Pop Up (@ Res Life Offices)
DESCRIPTION:In honor of Mental Health & Wellness Week\, the Residential Care Team is hosting a series of events and activities focused on wellness. Events are free and open to all students and occur at four Residence Life locations! \nGet creative with rock painting and explore sensory stations. Whether you’re an artist or just looking to de-stress\, this is the perfect way to take a break and connect with your senses. All materials provided—just bring your imagination! CAPS Community-based counselors will be at each location as a supportive resource. \nThis event will take place on Monday\, April 13 between 1:00 and 3:00 at the following locations: \nCollege Avenue Res. Life Office\, 590 George Street Clothier Hall\, New Brunswick \n Cook Douglass Res. Life Office\, 45 Biel Road West PAL Building\, New Brunswick \nBusch Res. Life Office\, 55 Bevier Road Buell Apartments\, Piscataway \nLivingston Res. Life Office\, 70 Joyce Kilmer Avenue Lynton Towers North\, Piscataway
URL:https://wellnesscalendar.rutgers.edu/event/mood-boost-monday-rock-painting-pop-up-2/
LOCATION:Multiple locations
CATEGORIES:Art/Music,Emotional/Mental Health
ATTACH;FMTTYPE=image/jpeg:https://wellnesscalendar.rutgers.edu/wp-content/uploads/2026/03/rock-painting.jpeg
END:VEVENT
BEGIN:VEVENT
DTSTART;TZID=America/New_York:20260413T180000
DTEND;TZID=America/New_York:20260413T200000
DTSTAMP:20260424T051542
CREATED:20260407T180059Z
LAST-MODIFIED:20260407T180714Z
UID:10003368-1776103200-1776110400@wellnesscalendar.rutgers.edu
SUMMARY:Raíces y Comunidad: A Latinx Graduate Student Gathering
DESCRIPTION:Join us for Raíces y Comunidad\, a Latinx Graduate Student Gathering centered on connection\, community\, and wellness. Hosted at the Center for Latino Arts and Culture\, this gathering is an opportunity to unwind\, connect with fellow graduate students\, and get to know a cultural space on campus that is here for you. Throughout the evening\, you will enjoy good food and have the chance to meet staff from the Center for Latino Arts and Culture and the Office of Graduate Student Life\, and to learn about resources and opportunities available to support you. Children are welcome. This event is part of Mental Health & Wellness Week and will include empanadas\, arepas and dessert from Merey’s Venezuelan Restaurant\, a mini wellness station\, community reflection wall\, and music! Come as you are\, bring a friend\, and take a moment to recharge in community. First 40 students will receive swag from the Office of Graduate of Student Life! \nRegister to attend!  https://go.rutgers.edu/latinxgrads\nPlease RSVP even if you cannot attend and we will send you information! \nLocation: Center for Latino Arts and Culture\, 172 College Avenue\, New Brunswick
URL:https://wellnesscalendar.rutgers.edu/event/raices-y-comunidad-a-latinx-graduate-student-gathering/
LOCATION:Center for Latino Arts and Culture (CLAC)\, 172 College Avenue\, New Brunswick\, NJ\, 08901\, United States
CATEGORIES:Art/Music,Emotional/Mental Health
ATTACH;FMTTYPE=image/png:https://wellnesscalendar.rutgers.edu/wp-content/uploads/2026/04/Raices_y_Comunidad_2026.png
END:VEVENT
BEGIN:VEVENT
DTSTART;TZID=America/New_York:20260413T200000
DTEND;TZID=America/New_York:20260413T220000
DTSTAMP:20260424T051542
CREATED:20260313T014802Z
LAST-MODIFIED:20260313T014802Z
UID:10003319-1776110400-1776117600@wellnesscalendar.rutgers.edu
SUMMARY:Mood Boost Monday: Wellness Bin-GLOW
DESCRIPTION:In honor of Mental Health & Wellness Week\, the Residential Care Team is hosting a series of events and activities focused on wellness. Events are free and open to all students living on campus at Rutgers University – New Brunswick. \nJoin in the fun with a fun twist on bingo focused on your wellness! \n  \nThis event will take place on Monday\, April 13 between 1:00 and 3:00 at the following locations: \nCollege Avenue Res. Life Office\, 590 George Street Clothier Hall\, New Brunswick \n Cook Douglass Res. Life Office\, 45 Biel Road West PAL Building\, New Brunswick \nBusch Res. Life Office\, 55 Bevier Road Buell Apartments\, Piscataway \nLivingston Res. Life Office\, 70 Joyce Kilmer Avenue Lynton Towers North\, Piscataway
URL:https://wellnesscalendar.rutgers.edu/event/mood-boost-monday-wellness-bin-glow/
LOCATION:Livingston Apartments B Reading Room\, 105 Joyce Kilmer Ave\, Piscataway\, NJ\, 08854\, United States
CATEGORIES:Art/Music,Emotional/Mental Health
ATTACH;FMTTYPE=image/jpeg:https://wellnesscalendar.rutgers.edu/wp-content/uploads/2026/03/binglow.jpg
END:VEVENT
END:VCALENDAR