BEGIN:VCALENDAR
VERSION:2.0
PRODID:-//Wellness Events Calendar - ECPv6.11.2//NONSGML v1.0//EN
CALSCALE:GREGORIAN
METHOD:PUBLISH
X-WR-CALNAME:Wellness Events Calendar
X-ORIGINAL-URL:https://wellnesscalendar.rutgers.edu
X-WR-CALDESC:Events for Wellness Events Calendar
REFRESH-INTERVAL;VALUE=DURATION:PT1H
X-Robots-Tag:noindex
X-PUBLISHED-TTL:PT1H
BEGIN:VTIMEZONE
TZID:America/New_York
BEGIN:DAYLIGHT
TZOFFSETFROM:-0500
TZOFFSETTO:-0400
TZNAME:EDT
DTSTART:20260308T070000
END:DAYLIGHT
BEGIN:STANDARD
TZOFFSETFROM:-0400
TZOFFSETTO:-0500
TZNAME:EST
DTSTART:20261101T060000
END:STANDARD
END:VTIMEZONE
BEGIN:VEVENT
DTSTART;VALUE=DATE:20260413
DTEND;VALUE=DATE:20260427
DTSTAMP:20260423T210312
CREATED:20260318T190200Z
LAST-MODIFIED:20260318T210322Z
UID:10003323-1776038400-1777247999@wellnesscalendar.rutgers.edu
SUMMARY:Spring 26 Step Challenge
DESCRIPTION:Step into spring with the RU Rec 2-Week Step Challenge (Apr 13–26)! 🚶‍♀️ Join the fun with Rutgers Recreation and start logging your steps for a chance to win prizes sponsored by IKEA. Log any steps to enter weekly raffles for Amazon gift cards. Reach 52\,500 steps per week or 105\,000 total steps to unlock additional raffles for IKEA prizes\, personal training packages\, and massage appointments. Stay motivated with wellness tips\, boost your health\, and finish the semester strong. Grab a friend\, register\, and start stepping! 🏆 \n  \nRegister here: go.rutgers.edu/step26
URL:https://wellnesscalendar.rutgers.edu/event/spring-26-step-challenge/
LOCATION:Virtual Event
CATEGORIES:Physical/Movement
ATTACH;FMTTYPE=image/jpeg:https://wellnesscalendar.rutgers.edu/wp-content/uploads/2026/03/AdobeStock_235430174.jpeg
END:VEVENT
BEGIN:VEVENT
DTSTART;TZID=America/New_York:20260413T083000
DTEND;TZID=America/New_York:20260417T163000
DTSTAMP:20260423T210312
CREATED:20260406T143848Z
LAST-MODIFIED:20260406T203009Z
UID:10003366-1776069000-1776443400@wellnesscalendar.rutgers.edu
SUMMARY:Animal Shelter Donation Drive
DESCRIPTION:Pets bring us immense joy and play a powerful role in supporting our wellness. In celebration of Wellness Week—and as part of ScarletWell’s grant winning Pawsitive Connections initiative—we’re collecting donations to give back to our local furry friends who are still waiting to find their furever homes or those needing medical attention. \n*All donations will go to Somerset Regional Animal Shelter and Scarlet Paws Animal Welfare Network \nDropoff location:  One Stop Student Services Center \nPLEASE NOTE drop off dates and times below: \nMonday April 13 – Thursday\, April 16th\, 8:30AM- 4:30PM \nFriday\, April 17\, 11:00AM-4:30AM \nWish List Items Include:\nBlankets or large towels\nCat carriers and pet crates\nUnexpired\, unopened cat and dog food (Friskies\, Fancy Feast\, Royal Canin\,\nPurina ONE\, Blue)\nUnopen cat litter\nDog\, puppy\, cat and kitten toys\nNylabones and bully slicks\nDog beds\nGently used or new leashes and collars \n 
URL:https://wellnesscalendar.rutgers.edu/event/animal-shelter-donation-drive/
LOCATION:One Stop Student Services Center\, 65 Davidson Road\, Piscataway\, NJ\, 08854\, United States
CATEGORIES:Emotional/Mental Health,Environment/Nature
ATTACH;FMTTYPE=image/jpeg:https://wellnesscalendar.rutgers.edu/wp-content/uploads/2026/04/istockphoto_1777913264_612x612.jpg
END:VEVENT
BEGIN:VEVENT
DTSTART;TZID=America/New_York:20260417T080000
DTEND;TZID=America/New_York:20260417T084000
DTSTAMP:20260423T210312
CREATED:20260407T195502Z
LAST-MODIFIED:20260407T195502Z
UID:10003372-1776412800-1776415200@wellnesscalendar.rutgers.edu
SUMMARY:Meet Your Stretch Goals: Morning Stretch Session
DESCRIPTION:This event provides the opportunity to start your morning with 30 minutes of dedicated stretching to relax the muscles and enter the workday calm and focused. A Rutgers Recreation instructor will guide you in movements aimed at releasing stored-up tension\, promote healthy blood flow in the body\, and reduce mental fog that can come with early mornings. Maximum 30 participants. \nRegistration link or event website\nhttps://forms.gle/A2PHmEQuZN9aKutz8
URL:https://wellnesscalendar.rutgers.edu/event/meet-your-stretch-goals-morning-stretch-session-2/
LOCATION:Werblin Recreation Center (Busch Campus)\, 656 Bartholomew Rd\, Piscataway\, 08854\, United States
CATEGORIES:Physical/Movement
ATTACH;FMTTYPE=image/jpeg:https://wellnesscalendar.rutgers.edu/wp-content/uploads/2026/02/AdobeStock_132111328.jpeg
END:VEVENT
BEGIN:VEVENT
DTSTART;TZID=America/New_York:20260417T120000
DTEND;TZID=America/New_York:20260419T163000
DTSTAMP:20260423T210312
CREATED:20260202T185804Z
LAST-MODIFIED:20260202T185804Z
UID:10003233-1776427200-1776616200@wellnesscalendar.rutgers.edu
SUMMARY:Backpacking: BATONA Trail (2-day trip)
DESCRIPTION:The BATONA (BAck-TO-NAture) Trail is a 53-mile hiking route that weaves through dense pine forest\, swampy wetlands\, and long-forgotten small towns in the beautiful New Jersey Pine Barrens. On this introductory 2-night backpacking trip\, our experienced guides will lead you through a section of the Batona Trail while teaching you some basic backcountry skills and philosophies. Food and gear (tents\, sleeping bags\, etc.) as well as transportation from campus are included in your registration. Moderate fitness level required. The trail is flat\, but you will be carrying heavy backpacks and walking ~9-12 miles per day. \nWe will meet at the Cook Douglass Recreation Center at 12 PM on April 17th. \nREGISTRATION CLOSES ON MARCH 30!  To register and for more information\, follow this link: \nhttps://services.rec.rutgers.edu/Program/GetProgramDetails?courseId=bcd2789a-5f5f-4373-a3e4-193c5d5c4f85
URL:https://wellnesscalendar.rutgers.edu/event/backpacking-batona-trail-2-day-trip/
LOCATION:BATONA Trail\, Batona Trail\, Pemberton\, United States
CATEGORIES:Environment/Nature,Physical/Movement
ATTACH;FMTTYPE=image/png:https://wellnesscalendar.rutgers.edu/wp-content/uploads/2026/02/Batona-Trail.png
END:VEVENT
BEGIN:VEVENT
DTSTART;TZID=America/New_York:20260417T130000
DTEND;TZID=America/New_York:20260417T150000
DTSTAMP:20260423T210312
CREATED:20260311T181057Z
LAST-MODIFIED:20260311T181057Z
UID:10003309-1776430800-1776438000@wellnesscalendar.rutgers.edu
SUMMARY:Feel Good Friday: A Scoop of Support
DESCRIPTION:In honor of Mental Health & Wellness Week\, the Residential Care Team is hosting a series of events and activities focused on wellness. Events are free and open to all students! \nCelebrate the end of the Mental Health and Wellness Week with games\, music\, campus partners\, and an ice cream truck. Learn about year-round wellness resources and community support services. *First 300 students will get free-ice cream!
URL:https://wellnesscalendar.rutgers.edu/event/feel-good-friday-a-scoop-of-support/
LOCATION:Busch Engineering Science and Technology (B.E.S.T.) Hall\, 50 Bevier Rd.\, Piscataway\, 08554\, United States
CATEGORIES:Art/Music,Emotional/Mental Health,Environment/Nature,Physical/Movement
ATTACH;FMTTYPE=image/jpeg:https://wellnesscalendar.rutgers.edu/wp-content/uploads/2026/03/RL_MB_SP25_Feel_Good_Friday_IMG_4916.jpg
END:VEVENT
BEGIN:VEVENT
DTSTART;TZID=America/New_York:20260417T160000
DTEND;TZID=America/New_York:20260417T180000
DTSTAMP:20260423T210312
CREATED:20260401T124054Z
LAST-MODIFIED:20260401T133727Z
UID:10003353-1776441600-1776448800@wellnesscalendar.rutgers.edu
SUMMARY:Wellness Through Clay Workshop (Part 1 of 2)
DESCRIPTION:Wellness Through Clay offers Rutgers students\, faculty\, and staff a chance to unwind\, de-stress\, and build meaningful connections through hands-on pottery workshops. Participants join small-group sessions that blend clay creation and glazing to promote relaxation\, creativity\, and social connection. Facilitators guide and support participants working in pairs or groups\, fostering a welcoming\, judgment-free environment. \nOur ceramics workshops take place over two sessions: first you’ll shape and create your piece\, then return for a second session to glaze\, gloss\, and varnish your finished creation. Please plan to participate in both sessions! \n\nPart 1 (handbuilding): 4/17\nPart 2 (glazing): 4/24\n\nLocation:  Harvest Cafe\, in the IFNH building
URL:https://wellnesscalendar.rutgers.edu/event/wellness-through-clay-2-part-workshop/
LOCATION:Institute for Food\, Nutrition and Health (IFNH) (Cook Campus)\, 61 Dudley Rd.\, New Brunswick\, NJ\, 08901\, United States
CATEGORIES:Art/Music,Emotional/Mental Health,Physical/Movement
ATTACH;FMTTYPE=image/jpeg:https://wellnesscalendar.rutgers.edu/wp-content/uploads/2025/10/AdobeStock_367855543.jpeg
END:VEVENT
BEGIN:VEVENT
DTSTART;TZID=America/New_York:20260417T160000
DTEND;TZID=America/New_York:20260417T180000
DTSTAMP:20260423T210312
CREATED:20260409T150955Z
LAST-MODIFIED:20260409T150955Z
UID:10003421-1776441600-1776448800@wellnesscalendar.rutgers.edu
SUMMARY:“The Things We Hold”: Workshop for Parents and Caregivers
DESCRIPTION:Register to attend! Space limited to 12 families! \nJoin SPCR (Students\, Parents & Caregivers @ RU) for a workshop entitled “The Things We Hold”\, to explore the experiences of working mothers\, the multitasking\, the invisible labor\, and the things we carry in our daily lives. This workshop will be kid-friendly\, and participants will create a bag and fill it with the things they carry. Refreshments and beverages are also provided! \n“The Things We Hold” is a creative\, reflective workshop that invites mothers and children to explore what they carry in their lives\, both tangible and invisible. Inspired by Ursula K. Le Guin’s idea that the first human tool might have been a bag\, participants create personalized “carrier bags” filled with objects\, memories\, feelings\, responsibilities\, dreams\, and routines. Through drawing\, writing\, decorating\, and collaborative conversation\, families reflect on what sustains\, burdens\, or delights them. The process encourages curiosity\, empathy\, and dialogue\, prompting questions like “Who carries this more?” or “Is this heavy or light?” The workshop concludes with a sharing circle and portrait documentation\, offering space to acknowledge both the visible and invisible parts of our daily lives\, and to consider what we might wish to carry less of. \nRegister here: https://rutgers.campuslabs.com/engage/event/12376661 \n  \n 
URL:https://wellnesscalendar.rutgers.edu/event/the-things-we-hold-workshop-for-parents-and-caregivers/
LOCATION:Graduate Student Lounge\, 126 College Avenue\, New Brunswick\, NJ\, 08901\, United States
CATEGORIES:Art/Music,Emotional/Mental Health
ATTACH;FMTTYPE=image/png:https://wellnesscalendar.rutgers.edu/wp-content/uploads/2026/04/The-Things-We-Hold.png
ORGANIZER;CN="Graduate Student Life":MAILTO:gradstudentlife@echo.rutgers.edu
END:VEVENT
BEGIN:VEVENT
DTSTART;TZID=America/New_York:20260417T160000
DTEND;TZID=America/New_York:20260417T190000
DTSTAMP:20260423T210312
CREATED:20260403T013700Z
LAST-MODIFIED:20260403T013700Z
UID:10003364-1776441600-1776452400@wellnesscalendar.rutgers.edu
SUMMARY:Push-up for Charity
DESCRIPTION:Push-Up for Charity Event is hosted by the Rutgers University Calisthenics Club\, in support of the Embrace Kids Foundation. The event brings together competition\, prizes\, sponsors\, and community engagement to raise funds and awareness for a meaningful cause. \nMost push-ups (Male and Female) wins $100 \nComplimentary snacks\, drinks and goodies \nAll levels welcome. Register to win other prizes! \nRegistration link / event website\nhttps://campaigns.embracekids.org/event/pushup/ \nRegistration cost:  $10
URL:https://wellnesscalendar.rutgers.edu/event/push-up-for-charity/
LOCATION:College Avenue Campus\, The Yard\, 40 College Ave\, New Brunswick\, 08901\, United States
CATEGORIES:Physical/Movement
ATTACH;FMTTYPE=image/jpeg:https://wellnesscalendar.rutgers.edu/wp-content/uploads/2026/04/AdobeStock_1668543658.jpeg
END:VEVENT
BEGIN:VEVENT
DTSTART;TZID=America/New_York:20260417T170000
DTEND;TZID=America/New_York:20260417T190000
DTSTAMP:20260423T210312
CREATED:20260330T174448Z
LAST-MODIFIED:20260330T192550Z
UID:10003349-1776445200-1776452400@wellnesscalendar.rutgers.edu
SUMMARY:"30 Under 30" Art Party
DESCRIPTION:In collaboration with Scarlet Arts Rx\, we invite members and their friends to a special private opening to celebrate the Zimmerli and reinstallation of the American Art gallery\, as part of this season’s closeout 30 Under 30 event. \nComplimentary food and refreshments!
URL:https://wellnesscalendar.rutgers.edu/event/30-under-30-art-party/
LOCATION:Zimmerli Art Museum\, 71 Hamilton St\, New Brunswick\, 08901\, United States
CATEGORIES:Art/Music
ATTACH;FMTTYPE=image/png:https://wellnesscalendar.rutgers.edu/wp-content/uploads/2026/03/30_under_30_Zimmerli_event.png
END:VEVENT
BEGIN:VEVENT
DTSTART;TZID=America/New_York:20260417T180000
DTEND;TZID=America/New_York:20260417T200000
DTSTAMP:20260423T210312
CREATED:20260311T183815Z
LAST-MODIFIED:20260313T190658Z
UID:10003310-1776448800-1776456000@wellnesscalendar.rutgers.edu
SUMMARY:Feel Good Friday: Paint & Sip (Across Four Locations)
DESCRIPTION:In honor of Mental Health & Wellness Week\, the Residential Care Team is hosting a series of events and activities focused on wellness. Events are free and open to all students. \nA relaxed creative space featuring guided painting activities and non-alcoholic beverages. No experience needed—just a chance to unwind and recharge through mindful creativity. \nCook/Douglass campus:  New Gibbons Hall\, 91 Gibbons Dr.\, New Brunswick \nCollege Ave campus:  The Yard\, 40 College Ave.\, New Brunswick \nBusch campus: McCormick Building. 99 Davidson Rd.\, Piscataway \nLivingston campus: Livingston Apts\, Building B Reading Room\, Piscataway
URL:https://wellnesscalendar.rutgers.edu/event/feel-good-friday-paint-sip-across-four-locations/
LOCATION:Multiple locations
CATEGORIES:Art/Music,Emotional/Mental Health,Environment/Nature,Physical/Movement
ATTACH;FMTTYPE=image/jpeg:https://wellnesscalendar.rutgers.edu/wp-content/uploads/2024/11/AdobeStock_1014230018.jpeg
END:VEVENT
BEGIN:VEVENT
DTSTART;TZID=America/New_York:20260417T180000
DTEND;TZID=America/New_York:20260417T210000
DTSTAMP:20260423T210312
CREATED:20260410T184143Z
LAST-MODIFIED:20260410T184143Z
UID:10003432-1776448800-1776459600@wellnesscalendar.rutgers.edu
SUMMARY:SKY Happiness 3-Day Retreat (4/17-4/19)
DESCRIPTION:The SKY Happiness Retreat introduces SKY Meditation\, an evidence-based meditation practice integrated with breath work that can significantly increase one’s well-being and calmness\, and significantly reduces anxiety and stress markers. The course features interactive group processes\, experiential learning\, emotional intelligence training\, breath-work\, yoga\, and evidence-based meditation. It’s one of the coolest places to connect with yourself\, make new friends\, and most importantly\, have fun! \n\nThis retreat is for Rutgers University students\, staff\, and faculty\, with limited seats available. It is is being offered partially funded to all Rutgers students (if accepted to the program). Since limited funds are available\, please ONLY APPLY if you are ABLE TO ATTEND all 3 sessions fully. \n\nIf you have questions or concerns\, let us know by emailing us at [ruskyhappiness@gmail.com].
URL:https://wellnesscalendar.rutgers.edu/event/sky-happiness-3-day-retreat-4-17-4-19/2026-04-17/
LOCATION:Cook Student Center\, 59 Biel Rd.\, New Brunswick\, NJ\, 08901\, United States
CATEGORIES:Emotional/Mental Health,Physical/Movement
ATTACH;FMTTYPE=image/jpeg:https://wellnesscalendar.rutgers.edu/wp-content/uploads/2026/04/SKY-Retreat.jpg
END:VEVENT
END:VCALENDAR