BEGIN:VCALENDAR
VERSION:2.0
PRODID:-//Wellness Events Calendar - ECPv6.11.2//NONSGML v1.0//EN
CALSCALE:GREGORIAN
METHOD:PUBLISH
X-WR-CALNAME:Wellness Events Calendar
X-ORIGINAL-URL:https://wellnesscalendar.rutgers.edu
X-WR-CALDESC:Events for Wellness Events Calendar
REFRESH-INTERVAL;VALUE=DURATION:PT1H
X-Robots-Tag:noindex
X-PUBLISHED-TTL:PT1H
BEGIN:VTIMEZONE
TZID:America/New_York
BEGIN:DAYLIGHT
TZOFFSETFROM:-0500
TZOFFSETTO:-0400
TZNAME:EDT
DTSTART:20250309T070000
END:DAYLIGHT
BEGIN:STANDARD
TZOFFSETFROM:-0400
TZOFFSETTO:-0500
TZNAME:EST
DTSTART:20251102T060000
END:STANDARD
END:VTIMEZONE
BEGIN:VEVENT
DTSTART;TZID=America/New_York:20250903T140000
DTEND;TZID=America/New_York:20250903T160000
DTSTAMP:20260423T144120
CREATED:20250829T171840Z
LAST-MODIFIED:20250829T171932Z
UID:10002688-1756908000-1756915200@wellnesscalendar.rutgers.edu
SUMMARY:Do Accommodations Make Sense for You? ODS Drop-In Hours
DESCRIPTION:Do you identify as having a disability or wonder about whether a condition is a disability? Stop by the Graduate Student Lounge during drop in hours (first Wednesday of the month\, from 2pm to 4pm) to meet Nychey Michel\, Sr. Disability Services Coordinator\, and find out more. Snacks\, sensory toys\, and crafts while supplies last! The Office of Disability Services provides reasonable accommodations to students with disabilities\, including hearing\, vision\, and mobility conditions\, learning difficulties\, psychological diagnoses (including anxiety and depression)\, chronic illnesses\, and more! Contact Nychey Michel via email at nlm108@echo.rutgers.edu or by calling 848-202-3111 if you have questions about accommodations.
URL:https://wellnesscalendar.rutgers.edu/event/do-accommodations-make-sense-for-you-ods-drop-in-hours/2025-09-03/
LOCATION:Graduate Student Lounge\, 126 College Avenue\, New Brunswick\, NJ\, 08901\, United States
CATEGORIES:Other
ATTACH;FMTTYPE=image/png:https://wellnesscalendar.rutgers.edu/wp-content/uploads/2025/08/Screenshot_2025_08_27_144944.png
ORGANIZER;CN="Graduate Student Life":MAILTO:gradstudentlife@echo.rutgers.edu
END:VEVENT
BEGIN:VEVENT
DTSTART;TZID=America/New_York:20250909T140000
DTEND;TZID=America/New_York:20250909T160000
DTSTAMP:20260423T144120
CREATED:20250829T182104Z
LAST-MODIFIED:20250829T182148Z
UID:10002693-1757426400-1757433600@wellnesscalendar.rutgers.edu
SUMMARY:Office of Graduate Student Life and GSA - Open House
DESCRIPTION:Come check out the Graduate Student Lounge to meet the Graduate Student Life staff\, GSA students\, Graduate Writing Program\, Graduate Student CAPS counselors\, and Rutgers Learning Centers. Our collaborator Scarlet Arts Rx will be providing Kawali portraits\, henna\, sun visor decorating and music for your enjoyment. The Graduate Student Lounge is a great place to study\, relax\, or connect with friends and is equipped with coffee and a microwave. \nLearn about ways to get involved and the resources to support your graduate student experience. \nCome visit us for Free Insomnia Cookies\, massages\, and giveaways! \nLocation: Graduate Student Lounge – 126 College Ave. (behind Panera Bread)
URL:https://wellnesscalendar.rutgers.edu/event/office-of-graduate-student-life-and-gsa-open-house/
LOCATION:Graduate Student Lounge\, 126 College Avenue\, New Brunswick\, NJ\, 08901\, United States
CATEGORIES:Other
ATTACH;FMTTYPE=image/jpeg:https://wellnesscalendar.rutgers.edu/wp-content/uploads/2025/08/Open_House_ghada_version.jpg
ORGANIZER;CN="Graduate Student Life":MAILTO:gradstudentlife@echo.rutgers.edu
END:VEVENT
BEGIN:VEVENT
DTSTART;TZID=America/New_York:20250909T170000
DTEND;TZID=America/New_York:20250909T190000
DTSTAMP:20260423T144120
CREATED:20250829T173243Z
LAST-MODIFIED:20250829T173243Z
UID:10002692-1757437200-1757444400@wellnesscalendar.rutgers.edu
SUMMARY:Council of Black Graduate Student Social
DESCRIPTION:The Council of Black Graduates (CBG) welcomes all Black-identified graduate students to the first gathering of the year at the Paul Robeson Cultural Center. If you are a Black graduate student looking to connect with other Black grads\, please join CBG on September 9th from 5pm to 7pm for light refreshments and lots of camaraderie. Please email CBG rutgerscbg@gmail.com with any questions.
URL:https://wellnesscalendar.rutgers.edu/event/council-of-black-graduate-student-social/
LOCATION:Paul Robeson Cultural Center\, 600 Bartholomew Road\, Piscataway\, NJ\, 08854\, United States
CATEGORIES:Other
ATTACH;FMTTYPE=image/png:https://wellnesscalendar.rutgers.edu/wp-content/uploads/2025/08/Screenshot_2025_08_26_140939.png
ORGANIZER;CN="Graduate Student Life":MAILTO:gradstudentlife@echo.rutgers.edu
END:VEVENT
BEGIN:VEVENT
DTSTART;TZID=America/New_York:20250911T170000
DTEND;TZID=America/New_York:20250911T190000
DTSTAMP:20260423T144121
CREATED:20250904T182913Z
LAST-MODIFIED:20250904T182913Z
UID:10002695-1757610000-1757617200@wellnesscalendar.rutgers.edu
SUMMARY:LGBTQIA+ Grad Student Welcome
DESCRIPTION:Welcome to our LGBTQIA2S+ Grads! Join us at SJE for the LGBTQIA+ Grad Student Welcome. Mingle\, connect\, and enjoy good food and music while in community with your fellow master’s and doctoral peers. This event is in partnership with GRADient\, BIPOC LGBTQIA2S+ Graduate Student Affinity Group\, and Graduate Student Life.
URL:https://wellnesscalendar.rutgers.edu/event/lgbtqia-grad-student-welcome/
LOCATION:Center for Social Justice Education and LGBT Communities House\, 17 Bartlett St\, New Brunswick\, NJ\, 08901\, United States
CATEGORIES:Other
ATTACH;FMTTYPE=image/jpeg:https://wellnesscalendar.rutgers.edu/wp-content/uploads/2025/09/LGBTQ_2B_Graduate_Student_Social.jpg
ORGANIZER;CN="Graduate Student Life":MAILTO:gradstudentlife@echo.rutgers.edu
END:VEVENT
BEGIN:VEVENT
DTSTART;TZID=America/New_York:20250911T183000
DTEND;TZID=America/New_York:20250911T193000
DTSTAMP:20260423T144121
CREATED:20250904T202340Z
LAST-MODIFIED:20250904T202352Z
UID:10002696-1757615400-1757619000@wellnesscalendar.rutgers.edu
SUMMARY:Sex and Art Tour @ Zimmerli
DESCRIPTION:Rutgers Student Health\, Scarlet Arts Rx\, Zimmerli Art Museum\, and the Office of Graduate Student Life\, have teamed up to bring you the SEX AND ART TOUR\, an interactive evening where you will learn about Bodily Autonomy + Choice\, Sex + Reproduction\, and Pleasure + Responsibility\, as inspired by viewings of different art works in the Zimmerli’s galleries. This is a free event – graduate and undergraduate students and their friends are welcome to attend. We will serve free refreshments\, provide sex and reproductive health resources\, and some amazing swag that you won’t want to miss. Join the Sex and Art Tour to receive your free 30 Under 30 Zimmerli Art Museum membership! Then start receiving invitations to the Zimmerli’s member events this fall\, including The Art of Floral Design on September 27.
URL:https://wellnesscalendar.rutgers.edu/event/sex-and-art-tour/
LOCATION:Zimmerli Art Museum\, 71 Hamilton St\, New Brunswick\, 08901\, United States
CATEGORIES:Other
ATTACH;FMTTYPE=image/jpeg:https://wellnesscalendar.rutgers.edu/wp-content/uploads/2025/09/Sex_and_Art_Tour_Fall_2025_Flyer.jpg
ORGANIZER;CN="Graduate Student Life":MAILTO:gradstudentlife@echo.rutgers.edu
END:VEVENT
BEGIN:VEVENT
DTSTART;TZID=America/New_York:20250911T190000
DTEND;TZID=America/New_York:20250911T200000
DTSTAMP:20260423T144121
CREATED:20241107T193053Z
LAST-MODIFIED:20241107T193053Z
UID:10001061-1757617200-1757620800@wellnesscalendar.rutgers.edu
SUMMARY:Black Like Me Wellness Series
DESCRIPTION:This monthly workshop series led by CAPS Community Based Counselors Shan Reeves and Kia Alexander\, discusses a variety of topics centered around Blackness at Rutgers\, throughout the US\, and around the world. Engage in meaningful conversations that explore topics such as Black music\, hair\, the monolith myth\, colorism\, and more. \nWorkshops in the Black Like Me Wellness Series take place every second Thursday of the month. For more information\, please reach out to CAPS at 848-932-7884.
URL:https://wellnesscalendar.rutgers.edu/event/black-like-me-wellness-series/2025-09-11/
LOCATION:Paul Robeson Cultural Center\, 600 Bartholomew Road\, Piscataway\, NJ\, 08854\, United States
CATEGORIES:Art/Music,Emotional/Mental Health,Other
ATTACH;FMTTYPE=image/png:https://wellnesscalendar.rutgers.edu/wp-content/uploads/2024/11/Black-like-me.png
END:VEVENT
BEGIN:VEVENT
DTSTART;TZID=America/New_York:20250915T120000
DTEND;TZID=America/New_York:20250915T150000
DTSTAMP:20260423T144121
CREATED:20250905T182540Z
LAST-MODIFIED:20250905T182540Z
UID:10002699-1757937600-1757948400@wellnesscalendar.rutgers.edu
SUMMARY:Faith and Spirituality Fair
DESCRIPTION:Are you interested in exploring faith and spirituality at Rutgers? Interested in getting involved in a group that reflects your faith interest\, or exploring other beliefs? Stop by the Faith and Spirituality Fair to meet us and find out more information! \nMonday\, September 15th\, 12pm – 3pm\, 126 College Avenue outside on Morrell Street \n 
URL:https://wellnesscalendar.rutgers.edu/event/faith-and-spirituality-fair/
LOCATION:College Ave Student Center (CASC)\, 126 College Avenue\, New Brunswick\, NJ\, 08901\, United States
CATEGORIES:Other
ATTACH;FMTTYPE=image/jpeg:https://wellnesscalendar.rutgers.edu/wp-content/uploads/2025/09/Faith-and-Spirituality-Fair.jpeg
END:VEVENT
BEGIN:VEVENT
DTSTART;TZID=America/New_York:20250920T113000
DTEND;TZID=America/New_York:20250920T133000
DTSTAMP:20260423T144121
CREATED:20250916T152255Z
LAST-MODIFIED:20250916T152255Z
UID:10002850-1758367800-1758375000@wellnesscalendar.rutgers.edu
SUMMARY:Rutgers Graduate Families Welcome Social
DESCRIPTION:New and returning graduate student families are invited to a special welcome event hosted by the Office of Graduate Student Life and the Student Parents and Caregivers at Rutgers (SPCR) Graduate Student Organization. This is a great opportunity to meet other grad families and enjoy an afternoon of food and fun! \nActivities include: \nPizza and Popsicles\nFun games and crafts for children sponsored by Scarlet Arts Rx\nSocializing and info-sharing for parents \nRegister here:  https://rutgers.ca1.qualtrics.com/jfe/form/SV_01hmrTqjfQ6Jn1Q
URL:https://wellnesscalendar.rutgers.edu/event/rutgers-graduate-families-welcome-social/
LOCATION:Graduate Student Lounge\, 126 College Avenue\, New Brunswick\, NJ\, 08901\, United States
CATEGORIES:Other
ATTACH;FMTTYPE=image/png:https://wellnesscalendar.rutgers.edu/wp-content/uploads/2025/09/Graduate_Student_Families_Welcome_Event.png
ORGANIZER;CN="Graduate Student Life":MAILTO:gradstudentlife@echo.rutgers.edu
END:VEVENT
BEGIN:VEVENT
DTSTART;TZID=America/New_York:20250922T120000
DTEND;TZID=America/New_York:20250922T130000
DTSTAMP:20260423T144121
CREATED:20250916T145627Z
LAST-MODIFIED:20250916T150806Z
UID:10002849-1758542400-1758546000@wellnesscalendar.rutgers.edu
SUMMARY:Supporting Parents and Caregivers at Rutgers (SPCR): Virtual Lunch
DESCRIPTION:Join SPCR (Supporting Parents and Caregivers @ Rutgers) for their first official meeting via Zoom! Get to know more about the organization\, meet other parenting/caregiving peers\, and discuss available resources for students in and around campus. Attendees will receive a $15 reimbursement for lunch. \nRegister here for link to virtual lunch: \nhttps://rutgers.campuslabs.com/engage/event/11561860 \n 
URL:https://wellnesscalendar.rutgers.edu/event/supporting-parents-and-caregivers-at-rutgers-spcr-virtual-lunch/
LOCATION:Virtual Event
CATEGORIES:Other
ATTACH;FMTTYPE=image/png:https://wellnesscalendar.rutgers.edu/wp-content/uploads/2025/09/2025_Student_Parents_and_Caregivers_at_Rutgers_Virtual_Lunch.png
ORGANIZER;CN="Graduate Student Life":MAILTO:gradstudentlife@echo.rutgers.edu
END:VEVENT
BEGIN:VEVENT
DTSTART;TZID=America/New_York:20250922T153000
DTEND;TZID=America/New_York:20250922T163000
DTSTAMP:20260423T144121
CREATED:20250919T165604Z
LAST-MODIFIED:20250919T165604Z
UID:10002865-1758555000-1758558600@wellnesscalendar.rutgers.edu
SUMMARY:Volunteer Opportunities Information Sessions for Graduate Students
DESCRIPTION:Enhance your graduate student experience by joining us to learn more about opportunities to volunteer\, participate in community service and/or connect to local community organizations.  Hosted by the Student Centers and Activities\, Office of Student Volunteer Engagement. \nTwo dates/times to learn about volunteer opportunities are being offered.  Both are virtual: \n9/22\, 3:30 – 4:30pm \n9/24\,  4pm – 5pm \n 
URL:https://wellnesscalendar.rutgers.edu/event/volunteer-opportunities-information-sessions-for-graduate-students/2025-09-22/
LOCATION:Virtual Event
CATEGORIES:Other
ATTACH;FMTTYPE=image/png:https://wellnesscalendar.rutgers.edu/wp-content/uploads/2025/09/Volunteer_2025.png
ORGANIZER;CN="Graduate Student Life":MAILTO:gradstudentlife@echo.rutgers.edu
END:VEVENT
BEGIN:VEVENT
DTSTART;TZID=America/New_York:20250924T130000
DTEND;TZID=America/New_York:20250924T150000
DTSTAMP:20260423T144121
CREATED:20250905T132635Z
LAST-MODIFIED:20250905T132732Z
UID:10002697-1758718800-1758726000@wellnesscalendar.rutgers.edu
SUMMARY:Graduate Student Service Day
DESCRIPTION:Join us for a special afternoon of service with fellow graduate students. We will be assisting the College Avenue Community Church with various activities as they prepare their food pantry and thrift shop for the new academic year. \nNOTE:  Activities may include lifting and moving food and clothing donations. \nLimited spots available – register today!
URL:https://wellnesscalendar.rutgers.edu/event/graduate-student-service-day/
LOCATION:College Avenue Community Church\, 100 College Ave\, New Brunswick\, NJ\, 08901\, United States
CATEGORIES:Other
ATTACH;FMTTYPE=image/jpeg:https://wellnesscalendar.rutgers.edu/wp-content/uploads/2025/09/Graduate_Day_of_Service_2025.jpg
ORGANIZER;CN="Graduate Student Life":MAILTO:gradstudentlife@echo.rutgers.edu
END:VEVENT
BEGIN:VEVENT
DTSTART;TZID=America/New_York:20250924T160000
DTEND;TZID=America/New_York:20250924T170000
DTSTAMP:20260423T144121
CREATED:20250919T165604Z
LAST-MODIFIED:20250919T165604Z
UID:10002866-1758729600-1758733200@wellnesscalendar.rutgers.edu
SUMMARY:Volunteer Opportunities Information Sessions for Graduate Students
DESCRIPTION:Enhance your graduate student experience by joining us to learn more about opportunities to volunteer\, participate in community service and/or connect to local community organizations.  Hosted by the Student Centers and Activities\, Office of Student Volunteer Engagement. \nTwo dates/times to learn about volunteer opportunities are being offered.  Both are virtual: \n9/22\, 3:30 – 4:30pm \n9/24\,  4pm – 5pm \n 
URL:https://wellnesscalendar.rutgers.edu/event/volunteer-opportunities-information-sessions-for-graduate-students/2025-09-24/
LOCATION:Virtual Event
CATEGORIES:Other
ATTACH;FMTTYPE=image/png:https://wellnesscalendar.rutgers.edu/wp-content/uploads/2025/09/Volunteer_2025.png
ORGANIZER;CN="Graduate Student Life":MAILTO:gradstudentlife@echo.rutgers.edu
END:VEVENT
BEGIN:VEVENT
DTSTART;TZID=America/New_York:20250926T110000
DTEND;TZID=America/New_York:20250926T120000
DTSTAMP:20260423T144121
CREATED:20250922T202925Z
LAST-MODIFIED:20250922T202925Z
UID:10002868-1758884400-1758888000@wellnesscalendar.rutgers.edu
SUMMARY:Limitless Wellness at Rutgers- Support the Student Basic Needs Center
DESCRIPTION:  \nCome visit the Basic Needs Center in the College Avenue Student Center and learn about the services and resources offered within. The Limitless Wellness at Rutgers workshop will include training on recognizing and addressing student basic needs on campus and how to help students find resources. Participants will be offered the chance to volunteer with organizing and stocking the shelves. \nClean out your pantry! The Basic Needs Center accepts all non-perishable goods that are un-opened. \nOur highest priority goods are: \npeanut butter\ncanned meat of any kind\nrice\nchickpeas\ntomato sauce\nramen/instant noodles\noils\nbaking products\ncondiments\nspices\nall snacks \nIf you have nonperishable items past the best-by date\, the pantry will still take them.
URL:https://wellnesscalendar.rutgers.edu/event/limitless-wellness-at-rutgers-support-the-student-basic-needs-center/
LOCATION:Basic Needs Center\, 126 College Avenue\, 126 College Avenue\, NJ\, 08901\, United States
CATEGORIES:Emotional/Mental Health,Other
ATTACH;FMTTYPE=image/png:https://wellnesscalendar.rutgers.edu/wp-content/uploads/2025/09/Limitless_League_2.0__Student_needs_9.26-2.png
END:VEVENT
END:VCALENDAR