BEGIN:VCALENDAR
VERSION:2.0
PRODID:-//Wellness Events Calendar - ECPv6.11.2//NONSGML v1.0//EN
CALSCALE:GREGORIAN
METHOD:PUBLISH
X-WR-CALNAME:Wellness Events Calendar
X-ORIGINAL-URL:https://wellnesscalendar.rutgers.edu
X-WR-CALDESC:Events for Wellness Events Calendar
REFRESH-INTERVAL;VALUE=DURATION:PT1H
X-Robots-Tag:noindex
X-PUBLISHED-TTL:PT1H
BEGIN:VTIMEZONE
TZID:America/New_York
BEGIN:DAYLIGHT
TZOFFSETFROM:-0500
TZOFFSETTO:-0400
TZNAME:EDT
DTSTART:20240310T070000
END:DAYLIGHT
BEGIN:STANDARD
TZOFFSETFROM:-0400
TZOFFSETTO:-0500
TZNAME:EST
DTSTART:20241103T060000
END:STANDARD
END:VTIMEZONE
BEGIN:VEVENT
DTSTART;TZID=America/New_York:20240910T160000
DTEND;TZID=America/New_York:20240910T170000
DTSTAMP:20260421T133006
CREATED:20240909T173905Z
LAST-MODIFIED:20241021T160815Z
UID:10000082-1725984000-1725987600@wellnesscalendar.rutgers.edu
SUMMARY:Pause-Breathe-Move Mindfulness Exercises for Students: Newark–Bergen Building
DESCRIPTION:Pause-Breathe-Move is a three-part series of mindfulness exercises for Rutgers students. The series will take place in Newark and Piscataway. Join the series in its entirety at any of the locations\, or just come to one session if that’s all time permits. \nThis series will take place at the Stanley S. Bergen Jr. Building\, Room 218\, in Newark\, from 4–5 p.m. on the following Tuesdays: \n\nSeptember 10\nSeptember 17\nSeptember 24\n\nFunded by the Mental Health Community Provider Partnerships and Professional Development Grant.
URL:https://wellnesscalendar.rutgers.edu/event/pause-breathe-move-mindfulness-exercises-for-students-series-2-newark/2024-09-10/
LOCATION:Stanley S. Bergen Jr. Building\, 65 Bergen Street\, Newark\, NJ\, 07101\, United States
CATEGORIES:Emotional/Mental Health,Physical/Movement
ATTACH;FMTTYPE=image/jpeg:https://wellnesscalendar.rutgers.edu/wp-content/uploads/2024/09/AdobeStock_612735444.jpeg
END:VEVENT
BEGIN:VEVENT
DTSTART;TZID=America/New_York:20240917T160000
DTEND;TZID=America/New_York:20240917T170000
DTSTAMP:20260421T133006
CREATED:20240909T173905Z
LAST-MODIFIED:20241021T160815Z
UID:10000083-1726588800-1726592400@wellnesscalendar.rutgers.edu
SUMMARY:Pause-Breathe-Move Mindfulness Exercises for Students: Newark–Bergen Building
DESCRIPTION:Pause-Breathe-Move is a three-part series of mindfulness exercises for Rutgers students. The series will take place in Newark and Piscataway. Join the series in its entirety at any of the locations\, or just come to one session if that’s all time permits. \nThis series will take place at the Stanley S. Bergen Jr. Building\, Room 218\, in Newark\, from 4–5 p.m. on the following Tuesdays: \n\nSeptember 10\nSeptember 17\nSeptember 24\n\nFunded by the Mental Health Community Provider Partnerships and Professional Development Grant.
URL:https://wellnesscalendar.rutgers.edu/event/pause-breathe-move-mindfulness-exercises-for-students-series-2-newark/2024-09-17/
LOCATION:Stanley S. Bergen Jr. Building\, 65 Bergen Street\, Newark\, NJ\, 07101\, United States
CATEGORIES:Emotional/Mental Health,Physical/Movement
ATTACH;FMTTYPE=image/jpeg:https://wellnesscalendar.rutgers.edu/wp-content/uploads/2024/09/AdobeStock_612735444.jpeg
END:VEVENT
BEGIN:VEVENT
DTSTART;TZID=America/New_York:20240917T170000
DTEND;TZID=America/New_York:20240917T180000
DTSTAMP:20260421T133006
CREATED:20240923T153600Z
LAST-MODIFIED:20241021T160741Z
UID:10000159-1726592400-1726596000@wellnesscalendar.rutgers.edu
SUMMARY:Weekly Yoga Classes
DESCRIPTION:Rutgers Health students are invited to join us for yoga from 5–6 p.m. on Tuesdays through December 17. Yoga has been shown to improve flexibility\, balance\, strength\, and reduce stress. \nEquipment is provided\, but feel free to bring your own mat or towel. Taught by certified instructors. No sign-up required. \nClasses take place in the Medical Sciences Building\, Rosemary Gellene Room. \nFunded by the Mental Health Community Provider Partnerships and Professional Development Grant.
URL:https://wellnesscalendar.rutgers.edu/event/209/2024-09-17/
LOCATION:Medical Sciences Building\, 185 South Orange Avenue\, Newark\, NJ\, 07103\, United States
CATEGORIES:Physical/Movement
ATTACH;FMTTYPE=image/jpeg:https://wellnesscalendar.rutgers.edu/wp-content/uploads/2024/09/AdobeStock_142849657-1.jpeg
END:VEVENT
BEGIN:VEVENT
DTSTART;TZID=America/New_York:20240918T130000
DTEND;TZID=America/New_York:20240918T140000
DTSTAMP:20260421T133006
CREATED:20240909T174334Z
LAST-MODIFIED:20241021T160703Z
UID:10000088-1726664400-1726668000@wellnesscalendar.rutgers.edu
SUMMARY:Pause-Breathe-Move Mindfulness Exercises for Students: Newark–Dental Pavilion
DESCRIPTION:Pause-Breathe-Move is a three-part series of mindfulness exercises for Rutgers students. The series will take place in Newark and Piscataway. Join the series in its entirety at any of the locations\, or just come to one session if that’s all time permits. \nThis series will take place at the School of Dental Medicine Pavilion\, Room B-977\, in Newark\, from 1–2 p.m. on the following Wednesdays: \n\nSeptember 18\nSeptember 25\nOctober 2\n\nFunded by the Mental Health Community Provider Partnerships and Professional Development Grant.
URL:https://wellnesscalendar.rutgers.edu/event/pause-breathe-move-mindfulness-exercises-for-students-series-2-newark-2/2024-09-18/
LOCATION:School of Dental Medicine Pavilion\, 50 Twelfth Avenue\, Newark\, NJ\, 07101\, United States
CATEGORIES:Emotional/Mental Health,Physical/Movement
ATTACH;FMTTYPE=image/jpeg:https://wellnesscalendar.rutgers.edu/wp-content/uploads/2024/09/AdobeStock_612735444.jpeg
END:VEVENT
BEGIN:VEVENT
DTSTART;TZID=America/New_York:20240924T160000
DTEND;TZID=America/New_York:20240924T170000
DTSTAMP:20260421T133006
CREATED:20240909T173905Z
LAST-MODIFIED:20241021T160815Z
UID:10000084-1727193600-1727197200@wellnesscalendar.rutgers.edu
SUMMARY:Pause-Breathe-Move Mindfulness Exercises for Students: Newark–Bergen Building
DESCRIPTION:Pause-Breathe-Move is a three-part series of mindfulness exercises for Rutgers students. The series will take place in Newark and Piscataway. Join the series in its entirety at any of the locations\, or just come to one session if that’s all time permits. \nThis series will take place at the Stanley S. Bergen Jr. Building\, Room 218\, in Newark\, from 4–5 p.m. on the following Tuesdays: \n\nSeptember 10\nSeptember 17\nSeptember 24\n\nFunded by the Mental Health Community Provider Partnerships and Professional Development Grant.
URL:https://wellnesscalendar.rutgers.edu/event/pause-breathe-move-mindfulness-exercises-for-students-series-2-newark/2024-09-24/
LOCATION:Stanley S. Bergen Jr. Building\, 65 Bergen Street\, Newark\, NJ\, 07101\, United States
CATEGORIES:Emotional/Mental Health,Physical/Movement
ATTACH;FMTTYPE=image/jpeg:https://wellnesscalendar.rutgers.edu/wp-content/uploads/2024/09/AdobeStock_612735444.jpeg
END:VEVENT
BEGIN:VEVENT
DTSTART;TZID=America/New_York:20240924T170000
DTEND;TZID=America/New_York:20240924T180000
DTSTAMP:20260421T133006
CREATED:20240923T153600Z
LAST-MODIFIED:20241021T160741Z
UID:10000160-1727197200-1727200800@wellnesscalendar.rutgers.edu
SUMMARY:Weekly Yoga Classes
DESCRIPTION:Rutgers Health students are invited to join us for yoga from 5–6 p.m. on Tuesdays through December 17. Yoga has been shown to improve flexibility\, balance\, strength\, and reduce stress. \nEquipment is provided\, but feel free to bring your own mat or towel. Taught by certified instructors. No sign-up required. \nClasses take place in the Medical Sciences Building\, Rosemary Gellene Room. \nFunded by the Mental Health Community Provider Partnerships and Professional Development Grant.
URL:https://wellnesscalendar.rutgers.edu/event/209/2024-09-24/
LOCATION:Medical Sciences Building\, 185 South Orange Avenue\, Newark\, NJ\, 07103\, United States
CATEGORIES:Physical/Movement
ATTACH;FMTTYPE=image/jpeg:https://wellnesscalendar.rutgers.edu/wp-content/uploads/2024/09/AdobeStock_142849657-1.jpeg
END:VEVENT
BEGIN:VEVENT
DTSTART;TZID=America/New_York:20240925T130000
DTEND;TZID=America/New_York:20240925T140000
DTSTAMP:20260421T133006
CREATED:20240909T174334Z
LAST-MODIFIED:20241021T160703Z
UID:10000089-1727269200-1727272800@wellnesscalendar.rutgers.edu
SUMMARY:Pause-Breathe-Move Mindfulness Exercises for Students: Newark–Dental Pavilion
DESCRIPTION:Pause-Breathe-Move is a three-part series of mindfulness exercises for Rutgers students. The series will take place in Newark and Piscataway. Join the series in its entirety at any of the locations\, or just come to one session if that’s all time permits. \nThis series will take place at the School of Dental Medicine Pavilion\, Room B-977\, in Newark\, from 1–2 p.m. on the following Wednesdays: \n\nSeptember 18\nSeptember 25\nOctober 2\n\nFunded by the Mental Health Community Provider Partnerships and Professional Development Grant.
URL:https://wellnesscalendar.rutgers.edu/event/pause-breathe-move-mindfulness-exercises-for-students-series-2-newark-2/2024-09-25/
LOCATION:School of Dental Medicine Pavilion\, 50 Twelfth Avenue\, Newark\, NJ\, 07101\, United States
CATEGORIES:Emotional/Mental Health,Physical/Movement
ATTACH;FMTTYPE=image/jpeg:https://wellnesscalendar.rutgers.edu/wp-content/uploads/2024/09/AdobeStock_612735444.jpeg
END:VEVENT
END:VCALENDAR