BEGIN:VCALENDAR
VERSION:2.0
PRODID:-//Wellness Events Calendar - ECPv6.11.2//NONSGML v1.0//EN
CALSCALE:GREGORIAN
METHOD:PUBLISH
X-WR-CALNAME:Wellness Events Calendar
X-ORIGINAL-URL:https://wellnesscalendar.rutgers.edu
X-WR-CALDESC:Events for Wellness Events Calendar
REFRESH-INTERVAL;VALUE=DURATION:PT1H
X-Robots-Tag:noindex
X-PUBLISHED-TTL:PT1H
BEGIN:VTIMEZONE
TZID:America/New_York
BEGIN:DAYLIGHT
TZOFFSETFROM:-0500
TZOFFSETTO:-0400
TZNAME:EDT
DTSTART:20250309T070000
END:DAYLIGHT
BEGIN:STANDARD
TZOFFSETFROM:-0400
TZOFFSETTO:-0500
TZNAME:EST
DTSTART:20251102T060000
END:STANDARD
END:VTIMEZONE
BEGIN:VEVENT
DTSTART;TZID=America/New_York:20251003T100000
DTEND;TZID=America/New_York:20251003T140000
DTSTAMP:20260421T101614
CREATED:20251001T151807Z
LAST-MODIFIED:20251001T151807Z
UID:10002975-1759485600-1759500000@wellnesscalendar.rutgers.edu
SUMMARY:Origami De-stresser
DESCRIPTION:Drop by! No registration needed. Free Origami De-stresser courtesy of CSB Community Hub\, Scarlet Arts RX\, and Bloustein \n10/03/2025 10am-2pm \n 
URL:https://wellnesscalendar.rutgers.edu/event/origami-de-stresser/
LOCATION:College Ave Campus\, Civic Square Building\, 33 Livingston Ave\, New Brunswick\, NJ\, 08901\, United States
CATEGORIES:Art/Music,Emotional/Mental Health
ATTACH;FMTTYPE=image/jpeg:https://wellnesscalendar.rutgers.edu/wp-content/uploads/2025/10/Origami.jpeg
END:VEVENT
BEGIN:VEVENT
DTSTART;TZID=America/New_York:20251003T100000
DTEND;TZID=America/New_York:20251003T140000
DTSTAMP:20260421T101614
CREATED:20250930T194802Z
LAST-MODIFIED:20250930T194803Z
UID:10002884-1759485600-1759500000@wellnesscalendar.rutgers.edu
SUMMARY:Civic Square Building Community Hub
DESCRIPTION:Contribute to our free CSB Lobby Well-being Wall: chat prompts change every 2 weeks-be inspired! Participation prizes/RU Swag awarded at random. Pick up mini craft and care kits based on wall responses. \nFree CSB Lobby Pop-Up Arts and Well-being Events: Get custom henna\, origami\, kawaii portraits\, zines\, and more! \nFree Scarlet Arts RX Arts and Well-being Sessions: Arts and crafts sessions ( no skills needed\, supplies provided) in CSB classrooms\, CSB gallery tours and more! \nPlease join us!  Dates and times are as follows: \n9/29:  10am – 1pm\, and 1:30pm – 6pm \n10/3: 10am – 2pm
URL:https://wellnesscalendar.rutgers.edu/event/civic-square-building-community-hub-2/
LOCATION:College Ave Campus\, Civic Square Building\, 33 Livingston Ave\, New Brunswick\, NJ\, 08901\, United States
CATEGORIES:Art/Music,Emotional/Mental Health
ATTACH;FMTTYPE=image/jpeg:https://wellnesscalendar.rutgers.edu/wp-content/uploads/2025/09/CSB-Community-Hub.jpeg
END:VEVENT
BEGIN:VEVENT
DTSTART;TZID=America/New_York:20250929T100000
DTEND;TZID=America/New_York:20250929T180000
DTSTAMP:20260421T101614
CREATED:20250929T164719Z
LAST-MODIFIED:20250929T164719Z
UID:10002883-1759140000-1759168800@wellnesscalendar.rutgers.edu
SUMMARY:Civic Square Building Community Hub
DESCRIPTION:Contribute to our free CSB Lobby Well-being Wall: chat prompts change every 2 weeks-be inspired! Participation prizes/RU Swag awarded at random. Pick up mini craft and care kits based on wall responses. \nFree CSB Lobby Pop-Up Arts and Well-being Events: Get custom henna\, kawaii portraits\, zines\, and more! \nFree Scarlet Arts RX Arts and Well-being Sessions: Arts and crafts sessions ( no skills needed\, supplies provided) in CSB classrooms\, CSB gallery tours and more! \nPlease join us!  Dates and times are as follows: \n9/29:  10am – 1pm\, and 1:30pm – 6pm \n10/3: 10am – 2pm
URL:https://wellnesscalendar.rutgers.edu/event/civic-square-building-community-hub/
LOCATION:College Ave Campus\, Civic Square Building\, 33 Livingston Ave\, New Brunswick\, NJ\, 08901\, United States
CATEGORIES:Art/Music,Emotional/Mental Health
ATTACH;FMTTYPE=image/jpeg:https://wellnesscalendar.rutgers.edu/wp-content/uploads/2025/09/CSB-Community-Hub.jpeg
END:VEVENT
END:VCALENDAR