BEGIN:VCALENDAR
VERSION:2.0
PRODID:-//Wellness Events Calendar - ECPv6.11.2//NONSGML v1.0//EN
CALSCALE:GREGORIAN
METHOD:PUBLISH
X-WR-CALNAME:Wellness Events Calendar
X-ORIGINAL-URL:https://wellnesscalendar.rutgers.edu
X-WR-CALDESC:Events for Wellness Events Calendar
REFRESH-INTERVAL;VALUE=DURATION:PT1H
X-Robots-Tag:noindex
X-PUBLISHED-TTL:PT1H
BEGIN:VTIMEZONE
TZID:America/New_York
BEGIN:DAYLIGHT
TZOFFSETFROM:-0500
TZOFFSETTO:-0400
TZNAME:EDT
DTSTART:20250309T070000
END:DAYLIGHT
BEGIN:STANDARD
TZOFFSETFROM:-0400
TZOFFSETTO:-0500
TZNAME:EST
DTSTART:20251102T060000
END:STANDARD
BEGIN:DAYLIGHT
TZOFFSETFROM:-0500
TZOFFSETTO:-0400
TZNAME:EDT
DTSTART:20260308T070000
END:DAYLIGHT
BEGIN:STANDARD
TZOFFSETFROM:-0400
TZOFFSETTO:-0500
TZNAME:EST
DTSTART:20261101T060000
END:STANDARD
END:VTIMEZONE
BEGIN:VEVENT
DTSTART;TZID=America/New_York:20260421T120000
DTEND;TZID=America/New_York:20260421T140000
DTSTAMP:20260423T085842
CREATED:20260408T144424Z
LAST-MODIFIED:20260408T145302Z
UID:10003375-1776772800-1776780000@wellnesscalendar.rutgers.edu
SUMMARY:RU The Next Scarlet Chef (2026)
DESCRIPTION:Join us for this fun and tasty competition\, co-sponsored by Rutgers Dining Services and Scarlet Well! Use ingredients and appliances in the Main Dining area to create an original dish in 20 minutes or less! \nPrizes will be awarded! \n\n1st place:  Chef-quality cookware set\n2nd place: Pastry check baking set\n3rd place: $25 RU Express Card\n\nALL participants receive a $10 RU Express Card and a wellness prize! \nContest open to meal plan holders and those paying to enter the dining halls. \nRegister individually or with a friend. To register and for more information\, email Alma Corales @ acf1401@dining.rutgers.edu
URL:https://wellnesscalendar.rutgers.edu/event/ru-the-next-scarlet-chef-2026/
LOCATION:Neilson Dining Hall\, 177 Ryders Lane\, New Brunswick\, NJ\, 08901\, United States
ATTACH;FMTTYPE=image/jpeg:https://wellnesscalendar.rutgers.edu/wp-content/uploads/2026/04/AdobeStock_501416026-1-1-scaled.jpeg
END:VEVENT
BEGIN:VEVENT
DTSTART;TZID=America/New_York:20250930T180000
DTEND;TZID=America/New_York:20250930T200000
DTSTAMP:20260423T085842
CREATED:20250930T182645Z
LAST-MODIFIED:20250930T182645Z
UID:10002957-1759255200-1759262400@wellnesscalendar.rutgers.edu
SUMMARY:Eat the Rainbow\, Paint the Rainbow
DESCRIPTION:A collaborative event brought to you by Rutgers Dining Services\, Healthy Dining Team\, Scarlet Arts Rx\, and Rutgers Gardens. \nLearn about our world’s rainbow of healthy foods. Get a healthy side dish of art. Create community artwork with paints made from campus-grown veggies. Plus\, free miniature canvas paint kits while supplies last. \nThis event will run from 6:00pm – 8:00pm on different campuses and dates\, as follows: \n9/29 at Livingston Dining Commons\n9/30 at Neilson\n10/1 at Busch\n10/2 at The Atrium
URL:https://wellnesscalendar.rutgers.edu/event/eat-the-rainbow-paint-the-rainbow-2/
LOCATION:Neilson Dining Hall\, 177 Ryders Lane\, New Brunswick\, NJ\, 08901\, United States
CATEGORIES:Art/Music,Emotional/Mental Health,Environment/Nature
ATTACH;FMTTYPE=image/jpeg:https://wellnesscalendar.rutgers.edu/wp-content/uploads/2025/09/Final_Eat_the_Rainbow_2C_Paint_the_Rainbow_Flyer__1_.jpg
END:VEVENT
END:VCALENDAR